{ "currentVersion": 10.81, "serviceDescription": "

The CETWI model improves the conventional TWI by incorporating the USGS DEM Curvature, Slope, and Solar insolation, and PRISM precipitation and vapor pressure create the CETWI model. In addition, the \u201cHydrologic Influence\u201d and \u201cDepressions\u201d are post processed derivatives created by Teren, Inc. The CETWI value, scaled with zero beginning the lowest potential for moisture to accumulate to higher values being the highest potential for moisture to accumulate, uses six derivatives (Climate, Curvature, Depressions, Hydrologic Influence, Slope, Solar). For example, in the northern hemisphere, more northerly aspects will have higher values, while more southerly aspects will have lower CETWI values. However, northerly (cool) aspects with greater evapotranspiration losses than neighboring cool aspects will have a lower value, and southerly (hot) aspects with lesser evapotranspiration losses than neighboring hot aspects will have a higher value. The importance of using climate-enhancement enables the CETWI model to capture similar terrain properties but assigning them different index values to each based on the relative precipitation amount. The model allows for averaging the terrain variables into a weighted raster that reflects local hydrological processes influencing broad scale hydrology and climate patterns (a process that standard TWI does not provide). The hydrology model used in CETWI relies on a D-infinity conceptual model that routes hydrology down slope based on the probabilities of directed flow. This captures the accumulated hydrologic processes that spread out through space if the terrain is flat and wide or confines flow in confined flow paths. The climate stratum controls how a given hydrology flow path gains energy or loses energy based on accumulated effective precipitation and slope. This results in hydrology that will gain as accumulated relative precipitation increases, and accumulated slope is steep, but will lose \u201cenergy\u201d as the slope approaches zero. This surface is continuous for all hillslopes, which means that it captures localized hillslope hydrological processes that influence potential productivity and soil forming factors. CETWI performs well in flat to sloping landscapes.<\/span><\/p>
<\/p>
<\/p>
Purpose: <\/span>The Climate-Enhanced Topographic Wetness Index (CETWI) is a climate and terrain driven deterministic model using a suite of derivatives to estimate effective soil surface moisture from precipitation and inflow across a continuous earth surface. Climate enhancement captures \u201ceffective precipitation\u201d, which is the amount of precipitation minus the amount of evaporation. The CETWI model identifies water movement and can inform land managers for conservation, management, and engineering practice solutions. The CETWI pixel values aid in the prediction of subtle differences in ecological sites or soils impacted by water movement across the landscape that will assist the conversation between the landowner and the conservation planner. The CETWI pixel values aid in process-based modeling efforts to determine areas that will respond similarly to conservation practice implementation. They can help identify potential movement of nitrates and chemicals in soils, thus aiding in conservation planning. NRCS creates many defined policy areas and geographic boundaries where CETWI values can aid in defining or documenting these boundary areas. USDA-NRCS, CEAP-Grazing Lands, with expertise from outside contractors, namely Teren Inc. and Prairie Hills Soils Consulting LLC., collaborated in the creation of the CETWI model. <\/span><\/p>
Creation Date:<\/span> 20240507<\/span><\/p>
Publication Date: <\/span>20240507<\/span><\/p>
Revision Date: <\/span><\/p>
Refresh Cycle: <\/span>Updated periodically as new imagery becomes available<\/span><\/p>
Version: <\/span>1.0.0<\/span><\/p>
Change Log:<\/span> Service Deployed<\/span><\/p>
Report Service Errors<\/span><\/a><\/p>
<\/p><\/div><\/div><\/div>", "name": "cetwi/cetwi_2022_10m", "description": "

The CETWI model improves the conventional TWI by incorporating the USGS DEM Curvature, Slope, and Solar insolation, and PRISM precipitation and vapor pressure create the CETWI model. In addition, the \u201cHydrologic Influence\u201d and \u201cDepressions\u201d are post processed derivatives created by Teren, Inc. The CETWI value, scaled with zero beginning the lowest potential for moisture to accumulate to higher values being the highest potential for moisture to accumulate, uses six derivatives (Climate, Curvature, Depressions, Hydrologic Influence, Slope, Solar). For example, in the northern hemisphere, more northerly aspects will have higher values, while more southerly aspects will have lower CETWI values. However, northerly (cool) aspects with greater evapotranspiration losses than neighboring cool aspects will have a lower value, and southerly (hot) aspects with lesser evapotranspiration losses than neighboring hot aspects will have a higher value. The importance of using climate-enhancement enables the CETWI model to capture similar terrain properties but assigning them different index values to each based on the relative precipitation amount. The model allows for averaging the terrain variables into a weighted raster that reflects local hydrological processes influencing broad scale hydrology and climate patterns (a process that standard TWI does not provide). The hydrology model used in CETWI relies on a D-infinity conceptual model that routes hydrology down slope based on the probabilities of directed flow. This captures the accumulated hydrologic processes that spread out through space if the terrain is flat and wide or confines flow in confined flow paths. The climate stratum controls how a given hydrology flow path gains energy or loses energy based on accumulated effective precipitation and slope. This results in hydrology that will gain as accumulated relative precipitation increases, and accumulated slope is steep, but will lose \u201cenergy\u201d as the slope approaches zero. This surface is continuous for all hillslopes, which means that it captures localized hillslope hydrological processes that influence potential productivity and soil forming factors. CETWI performs well in flat to sloping landscapes.<\/span><\/p>
<\/p>
<\/p>
Purpose: <\/span>The Climate-Enhanced Topographic Wetness Index (CETWI) is a climate and terrain driven deterministic model using a suite of derivatives to estimate effective soil surface moisture from precipitation and inflow across a continuous earth surface. Climate enhancement captures \u201ceffective precipitation\u201d, which is the amount of precipitation minus the amount of evaporation. The CETWI model identifies water movement and can inform land managers for conservation, management, and engineering practice solutions. The CETWI pixel values aid in the prediction of subtle differences in ecological sites or soils impacted by water movement across the landscape that will assist the conversation between the landowner and the conservation planner. The CETWI pixel values aid in process-based modeling efforts to determine areas that will respond similarly to conservation practice implementation. They can help identify potential movement of nitrates and chemicals in soils, thus aiding in conservation planning. NRCS creates many defined policy areas and geographic boundaries where CETWI values can aid in defining or documenting these boundary areas. USDA-NRCS, CEAP-Grazing Lands, with expertise from outside contractors, namely Teren Inc. and Prairie Hills Soils Consulting LLC., collaborated in the creation of the CETWI model. <\/span><\/p>
Creation Date:<\/span> 20240507<\/span><\/p>
Publication Date: <\/span>20240507<\/span><\/p>
Revision Date: <\/span><\/p>
Refresh Cycle: <\/span>Updated periodically as new imagery becomes available<\/span><\/p>
Version: <\/span>1.0.0<\/span><\/p>
Change Log:<\/span> Service Deployed<\/span><\/p>
Report Service Errors<\/span><\/a><\/p>
<\/p><\/div><\/div><\/div>", "extent": { "xmin": -1.41369485894E7, "ymin": 2970825.037857558, "xmax": -1.0025229204231327E7, "ymax": 6388034.489299999, "spatialReference": { "wkid": 102100, "latestWkid": 3857 } }, "initialExtent": { "xmin": -1.41369485894E7, "ymin": 2970825.037857558, "xmax": -1.0025229204231327E7, "ymax": 6388034.489299999, "spatialReference": { "wkid": 102100, "latestWkid": 3857 } }, "fullExtent": { "xmin": -1.41369485894E7, "ymin": 2970825.037857558, "xmax": -1.0025229204231327E7, "ymax": 6388034.489299999, "spatialReference": { "wkid": 102100, "latestWkid": 3857 } }, "pixelSizeX": 10.30736025120559, "pixelSizeY": 10.30736025120559, "datasetFormat": "AMD", "uncompressedSize": 529005450964, "blockWidth": 2048, "blockHeight": 256, "compressionType": "None", "bandNames": [ "Band_1" ], "allowCopy": true, "allowAnalysis": true, "bandCount": 1, "pixelType": "U32", "minPixelSize": 0, "maxPixelSize": 0, "copyrightText": "CETWI Imagery Service provided by USDA-FPAC", "serviceDataType": "esriImageServiceDataTypeGeneric", "serviceSourceType": "esriImageServiceSourceTypeMosaicDataset", "minValues": [ 0 ], "maxValues": [ 13096 ], "meanValues": [ 545.880134403752 ], "stdvValues": [ 209.1064753906713 ], "objectIdField": "OBJECTID", "fields": [ { "name": "OBJECTID", "type": "esriFieldTypeOID", "alias": "OBJECTID", "domain": null }, { "name": "Shape", "type": "esriFieldTypeGeometry", "alias": "Shape", "domain": null }, { "name": "Name", "type": "esriFieldTypeString", "alias": "Name", "domain": null, "length": 200 }, { "name": "Category", "type": "esriFieldTypeInteger", "alias": "Category", "domain": { "type": "codedValue", "name": "MosaicCatalogItemCategoryDomain", "description": "Catalog item categories.", "codedValues": [ { "name": "Unknown", "code": 0 }, { "name": "Primary", "code": 1 }, { "name": "Overview", "code": 2 }, { "name": "Unprocessed Overview", "code": 3 }, { "name": "Partial Overview", "code": 4 }, { "name": "Inactive", "code": 5 }, { "name": "Uploaded", "code": 253 }, { "name": "Incomplete", "code": 254 }, { "name": "Custom", "code": 255 } ], "mergePolicy": "esriMPTDefaultValue", "splitPolicy": "esriSPTDefaultValue" } }, { "name": "GroupName", "type": "esriFieldTypeString", "alias": "GroupName", "domain": null, "length": 100 }, { "name": "CenterX", "type": "esriFieldTypeDouble", "alias": "CenterX", "domain": null }, { "name": "CenterY", "type": "esriFieldTypeDouble", "alias": "CenterY", "domain": null }, { "name": "Shape_Length", "type": "esriFieldTypeDouble", "alias": "Shape_Length", "domain": null }, { "name": "Shape_Area", "type": "esriFieldTypeDouble", "alias": "Shape_Area", "domain": null } ], "capabilities": "Catalog,Mensuration,Download,Image,Metadata", "defaultMosaicMethod": "Northwest", "allowedMosaicMethods": "NorthWest,Center,LockRaster,ByAttribute,Nadir,Viewpoint,Seamline,None", "sortField": "", "sortValue": null, "sortAscending": true, "mosaicOperator": "First", "maxDownloadSizeLimit": 2048, "defaultCompressionQuality": 75, "defaultResamplingMethod": "Bilinear", "maxImageHeight": 4100, "maxImageWidth": 15000, "maxRecordCount": 1000, "maxDownloadImageCount": 20, "maxMosaicImageCount": 20, "allowRasterFunction": true, "rasterFunctionInfos": [ { "name": "cetwi_rangeland", "description": "The Climate-Enhanced Topographic Wetness Index (CETWI) is a climate and terrain driven deterministic model using a suite of derivatives to estimate effective soil surface moisture from precipitation and inflow across a continuous earth surface.The CETWI value, scaled with zero beginning the lowest potential for moisture to accumulate to higher values being the highest potential for moisture to accumulate", "help": "" }, { "name": "None", "description": "", "help": "" } ], "rasterTypeInfos": [ { "name": "Raster Dataset", "description": "Supports all ArcGIS Raster Datasets", "help": "" } ], "mensurationCapabilities": "Basic", "hasHistograms": true, "hasColormap": false, "hasRasterAttributeTable": false, "minScale": 0, "maxScale": 0, "exportTilesAllowed": false, "hasMultidimensions": false, "supportsStatistics": true, "supportsAdvancedQueries": true, "editFieldsInfo": null, "ownershipBasedAccessControlForRasters": null, "allowComputeTiePoints": false, "useStandardizedQueries": true, "advancedQueryCapabilities": { "useStandardizedQueries": true, "supportsStatistics": true, "supportsOrderBy": true, "supportsDistinct": true, "supportsPagination": true }, "spatialReference": { "wkid": 102100, "latestWkid": 3857 } }