{ "currentVersion": 10.81, "serviceDescription": "

Annual average values for precipitation for the last 30 years (1992-2022) from the PRISM datasets at 800m resolution. The 800m PRISM data contains the same measured rainfall gage data as the 4km PRISM; it merely interpolates the 4km data to an 800m resolution. Evapotranspiration (ET) is a significant component in the climate and was considered when creating CETWI. Subtracting the ET from the precipitation quantifies the available precipitation within the region. Measurement of ET has been problematic outside of the Great Plains and across the continent. Sanford and Selnick published a paper on their technique and the algorithm they developed. (Sanford, Ward E. and David L. Selnick, 2012. Estimation of Evapotranspiration Across the Conterminous Uni-ted States Using a Regression with Climate and Land-Cover Data. Journal of the American Water Resources Association (JAWRA) 49(1): 217-230. DOI: 10.1111\u2044jawr.12010. <\/span>Estimation of Evapotranspiration Across the Conterminous United States Using a Regression With Climate and Land\u2010Cover Data1 (wiley.com))<\/span><\/a>. The PRISM 800m 30 year average precipitation is weighted into a effective precipitation metric by multiplying the ET metric developed to generate the final climate input to the CETWI model.<\/span><\/p>
Purpose: <\/span>The purpose of the climate dataset is to capture the spatial variability of precipitation within the CETWI study area to better inform the hydrology model that influences topographic wetness potential. This dataset is a function of a 30 year average precipitation derived from the PRISM dataset modified by an Evapotranspiration model developed by (Sanford, Ward E. and David L. Selnick, 2012).<\/span><\/p>
Creation Date:<\/span> 20240719<\/span><\/p>
Publication Date: <\/span>20240719<\/span><\/p>
Revision Date: <\/span><\/p>
Refresh Cycle: <\/span>Updated periodically as new imagery becomes available<\/span><\/p>
Version: <\/span>1.0.0<\/span><\/p>
Change Log:<\/span> Service deployed.<\/span><\/p>
Report Service Errors<\/span><\/a><\/p><\/div><\/div><\/div>", "name": "cetwi/cetwi_climate_2022_10m", "description": "

Annual average values for precipitation for the last 30 years (1992-2022) from the PRISM datasets at 800m resolution. The 800m PRISM data contains the same measured rainfall gage data as the 4km PRISM; it merely interpolates the 4km data to an 800m resolution. Evapotranspiration (ET) is a significant component in the climate and was considered when creating CETWI. Subtracting the ET from the precipitation quantifies the available precipitation within the region. Measurement of ET has been problematic outside of the Great Plains and across the continent. Sanford and Selnick published a paper on their technique and the algorithm they developed. (Sanford, Ward E. and David L. Selnick, 2012. Estimation of Evapotranspiration Across the Conterminous Uni-ted States Using a Regression with Climate and Land-Cover Data. Journal of the American Water Resources Association (JAWRA) 49(1): 217-230. DOI: 10.1111\u2044jawr.12010. <\/span>Estimation of Evapotranspiration Across the Conterminous United States Using a Regression With Climate and Land\u2010Cover Data1 (wiley.com))<\/span><\/a>. The PRISM 800m 30 year average precipitation is weighted into a effective precipitation metric by multiplying the ET metric developed to generate the final climate input to the CETWI model.<\/span><\/p>
Purpose: <\/span>The purpose of the climate dataset is to capture the spatial variability of precipitation within the CETWI study area to better inform the hydrology model that influences topographic wetness potential. This dataset is a function of a 30 year average precipitation derived from the PRISM dataset modified by an Evapotranspiration model developed by (Sanford, Ward E. and David L. Selnick, 2012).<\/span><\/p>
Creation Date:<\/span> 20240719<\/span><\/p>
Publication Date: <\/span>20240719<\/span><\/p>
Revision Date: <\/span><\/p>
Refresh Cycle: <\/span>Updated periodically as new imagery becomes available<\/span><\/p>
Version: <\/span>1.0.0<\/span><\/p>
Change Log:<\/span> Service deployed.<\/span><\/p>
Report Service Errors<\/span><\/a><\/p><\/div><\/div><\/div>", "extent": { "xmin": -1.41369485894E7, "ymin": 2970825.0378575586, "xmax": -1.002522920423133E7, "ymax": 6388034.489299999, "spatialReference": { "wkid": 102100, "latestWkid": 3857 } }, "initialExtent": { "xmin": -1.41369485894E7, "ymin": 2970825.0378575586, "xmax": -1.002522920423133E7, "ymax": 6388034.489299999, "spatialReference": { "wkid": 102100, "latestWkid": 3857 } }, "fullExtent": { "xmin": -1.41369485894E7, "ymin": 2970825.0378575586, "xmax": -1.002522920423133E7, "ymax": 6388034.489299999, "spatialReference": { "wkid": 102100, "latestWkid": 3857 } }, "pixelSizeX": 10.307360251205587, "pixelSizeY": 10.307360251205589, "datasetFormat": "AMD", "uncompressedSize": 529004124840, "blockWidth": 2048, "blockHeight": 256, "compressionType": "None", "bandNames": [ "Band_1" ], "allowCopy": true, "allowAnalysis": true, "bandCount": 1, "pixelType": "U32", "minPixelSize": 0, "maxPixelSize": 0, "copyrightText": "CETWI Imagery Service provided by USDA-FPAC", "serviceDataType": "esriImageServiceDataTypeGeneric", "serviceSourceType": "esriImageServiceSourceTypeMosaicDataset", "minValues": [ 2 ], "maxValues": [ 7477 ], "meanValues": [ 349.0517193063417 ], "stdvValues": [ 476.4175510701589 ], "objectIdField": "OBJECTID", "fields": [ { "name": "OBJECTID", "type": "esriFieldTypeOID", "alias": "OBJECTID", "domain": null }, { "name": "Shape", "type": "esriFieldTypeGeometry", "alias": "Shape", "domain": null }, { "name": "Name", "type": "esriFieldTypeString", "alias": "Name", "domain": null, "length": 200 }, { "name": "Category", "type": "esriFieldTypeInteger", "alias": "Category", "domain": { "type": "codedValue", "name": "MosaicCatalogItemCategoryDomain", "description": "Catalog item categories.", "codedValues": [ { "name": "Unknown", "code": 0 }, { "name": "Primary", "code": 1 }, { "name": "Overview", "code": 2 }, { "name": "Unprocessed Overview", "code": 3 }, { "name": "Partial Overview", "code": 4 }, { "name": "Inactive", "code": 5 }, { "name": "Uploaded", "code": 253 }, { "name": "Incomplete", "code": 254 }, { "name": "Custom", "code": 255 } ], "mergePolicy": "esriMPTDefaultValue", "splitPolicy": "esriSPTDefaultValue" } }, { "name": "Tag", "type": "esriFieldTypeString", "alias": "Tag", "domain": null, "length": 100 }, { "name": "CenterX", "type": "esriFieldTypeDouble", "alias": "CenterX", "domain": null }, { "name": "CenterY", "type": "esriFieldTypeDouble", "alias": "CenterY", "domain": null }, { "name": "Shape_Length", "type": "esriFieldTypeDouble", "alias": "Shape_Length", "domain": null }, { "name": "Shape_Area", "type": "esriFieldTypeDouble", "alias": "Shape_Area", "domain": null } ], "capabilities": "Catalog,Mensuration,Download,Image,Metadata", "defaultMosaicMethod": "Northwest", "allowedMosaicMethods": "NorthWest,Center,LockRaster,ByAttribute,Nadir,Viewpoint,Seamline,None", "sortField": "", "sortValue": null, "sortAscending": true, "mosaicOperator": "First", "maxDownloadSizeLimit": 2048, "defaultCompressionQuality": 75, "defaultResamplingMethod": "Bilinear", "maxImageHeight": 4100, "maxImageWidth": 15000, "maxRecordCount": 1000, "maxDownloadImageCount": 20, "maxMosaicImageCount": 20, "allowRasterFunction": true, "rasterFunctionInfos": [ { "name": "cetwi_rangeland", "description": "The Climate-Enhanced Topographic Wetness Index (CETWI) is a climate and terrain driven deterministic model using a suite of derivatives to estimate effective soil surface moisture from precipitation and inflow across a continuous earth surface.The CETWI value, scaled with zero beginning the lowest potential for moisture to accumulate to higher values being the highest potential for moisture to accumulate", "help": "" }, { "name": "None", "description": "", "help": "" } ], "rasterTypeInfos": [ { "name": "Raster Dataset", "description": "Supports all ArcGIS Raster Datasets", "help": "" } ], "mensurationCapabilities": "Basic", "hasHistograms": true, "hasColormap": false, "hasRasterAttributeTable": false, "minScale": 0, "maxScale": 0, "exportTilesAllowed": false, "hasMultidimensions": false, "supportsStatistics": true, "supportsAdvancedQueries": true, "editFieldsInfo": null, "ownershipBasedAccessControlForRasters": null, "allowComputeTiePoints": false, "useStandardizedQueries": true, "advancedQueryCapabilities": { "useStandardizedQueries": true, "supportsStatistics": true, "supportsOrderBy": true, "supportsDistinct": true, "supportsPagination": true }, "spatialReference": { "wkid": 102100, "latestWkid": 3857 } }