Depressions is a Teren Inc. developed derivative created to identify the location and relative depth of accumulation for depressions within the HUC. Representing low lying areas where water is likely to collect/pool or emerge from groundwater sources. Using multiple DEM derivatives to examine negative elevation differences created the Depressions layer. The final surface has values where higher values represent sinks or accumulating areas where moisture is likely to collect (e.g., playas, potholes, basins, and any other depressions.). The values identify the potential accumulated depths within the depressions. The lower values represent low accumulation where elevated values represent increased.<\/span><\/p>Purpose: <\/span>The purpose of this dataset is to inform the hydrography and CETWI model based on depressional areas where surface moisture will accumulate into closed depressional areas that capture and retain moisture. These areas are weighted based on the amount of accumulated hydrology.<\/span><\/p>Creation Date:<\/span> 20240719<\/span><\/p>Publication Date: <\/span>20240719<\/span><\/p>Revision Date: <\/span><\/p>Refresh Cycle: <\/span>Updated periodically as new imagery becomes available<\/span><\/p>Version: <\/span>1.0.0<\/span><\/p>Change Log:<\/span> <\/span>Service deployed.<\/span><\/p>Report Service Errors<\/span><\/a><\/p><\/div><\/div><\/div>",
"extent": {
"xmin": -1.41369485894E7,
"ymin": 2970825.0378575586,
"xmax": -1.002522920423133E7,
"ymax": 6388034.489299999,
"spatialReference": {
"wkid": 102100,
"latestWkid": 3857
}
},
"initialExtent": {
"xmin": -1.41369485894E7,
"ymin": 2970825.0378575586,
"xmax": -1.002522920423133E7,
"ymax": 6388034.489299999,
"spatialReference": {
"wkid": 102100,
"latestWkid": 3857
}
},
"fullExtent": {
"xmin": -1.41369485894E7,
"ymin": 2970825.0378575586,
"xmax": -1.002522920423133E7,
"ymax": 6388034.489299999,
"spatialReference": {
"wkid": 102100,
"latestWkid": 3857
}
},
"pixelSizeX": 10.307360251205587,
"pixelSizeY": 10.307360251205589,
"datasetFormat": "AMD",
"uncompressedSize": 529004124840,
"blockWidth": 2048,
"blockHeight": 256,
"compressionType": "None",
"bandNames": [
"Band_1"
],
"allowCopy": true,
"allowAnalysis": true,
"bandCount": 1,
"pixelType": "U32",
"minPixelSize": 0,
"maxPixelSize": 0,
"copyrightText": "CETWI Imagery Service provided by USDA-FPAC",
"serviceDataType": "esriImageServiceDataTypeGeneric",
"serviceSourceType": "esriImageServiceSourceTypeMosaicDataset",
"minValues": [
0
],
"maxValues": [
156
],
"meanValues": [
5.800000967387496
],
"stdvValues": [
10.179123815787495
],
"objectIdField": "OBJECTID",
"fields": [
{
"name": "OBJECTID",
"type": "esriFieldTypeOID",
"alias": "OBJECTID",
"domain": null
},
{
"name": "Shape",
"type": "esriFieldTypeGeometry",
"alias": "Shape",
"domain": null
},
{
"name": "Name",
"type": "esriFieldTypeString",
"alias": "Name",
"domain": null,
"length": 200
},
{
"name": "Category",
"type": "esriFieldTypeInteger",
"alias": "Category",
"domain": {
"type": "codedValue",
"name": "MosaicCatalogItemCategoryDomain",
"description": "Catalog item categories.",
"codedValues": [
{
"name": "Unknown",
"code": 0
},
{
"name": "Primary",
"code": 1
},
{
"name": "Overview",
"code": 2
},
{
"name": "Unprocessed Overview",
"code": 3
},
{
"name": "Partial Overview",
"code": 4
},
{
"name": "Inactive",
"code": 5
},
{
"name": "Uploaded",
"code": 253
},
{
"name": "Incomplete",
"code": 254
},
{
"name": "Custom",
"code": 255
}
],
"mergePolicy": "esriMPTDefaultValue",
"splitPolicy": "esriSPTDefaultValue"
}
},
{
"name": "Tag",
"type": "esriFieldTypeString",
"alias": "Tag",
"domain": null,
"length": 100
},
{
"name": "CenterX",
"type": "esriFieldTypeDouble",
"alias": "CenterX",
"domain": null
},
{
"name": "CenterY",
"type": "esriFieldTypeDouble",
"alias": "CenterY",
"domain": null
},
{
"name": "Shape_Length",
"type": "esriFieldTypeDouble",
"alias": "Shape_Length",
"domain": null
},
{
"name": "Shape_Area",
"type": "esriFieldTypeDouble",
"alias": "Shape_Area",
"domain": null
}
],
"capabilities": "Catalog,Mensuration,Download,Image,Metadata",
"defaultMosaicMethod": "Northwest",
"allowedMosaicMethods": "NorthWest,Center,LockRaster,ByAttribute,Nadir,Viewpoint,Seamline,None",
"sortField": "",
"sortValue": null,
"sortAscending": true,
"mosaicOperator": "First",
"maxDownloadSizeLimit": 2048,
"defaultCompressionQuality": 75,
"defaultResamplingMethod": "Bilinear",
"maxImageHeight": 4100,
"maxImageWidth": 15000,
"maxRecordCount": 1000,
"maxDownloadImageCount": 20,
"maxMosaicImageCount": 20,
"allowRasterFunction": true,
"rasterFunctionInfos": [
{
"name": "cetwi_depressions",
"description": "cetwi depressions symbolgoy",
"help": ""
},
{
"name": "None",
"description": "",
"help": ""
}
],
"rasterTypeInfos": [
{
"name": "Raster Dataset",
"description": "Supports all ArcGIS Raster Datasets",
"help": ""
}
],
"mensurationCapabilities": "Basic",
"hasHistograms": true,
"hasColormap": false,
"hasRasterAttributeTable": false,
"minScale": 0,
"maxScale": 0,
"exportTilesAllowed": false,
"hasMultidimensions": false,
"supportsStatistics": true,
"supportsAdvancedQueries": true,
"editFieldsInfo": null,
"ownershipBasedAccessControlForRasters": null,
"allowComputeTiePoints": false,
"useStandardizedQueries": true,
"advancedQueryCapabilities": {
"useStandardizedQueries": true,
"supportsStatistics": true,
"supportsOrderBy": true,
"supportsDistinct": true,
"supportsPagination": true
},
"spatialReference": {
"wkid": 102100,
"latestWkid": 3857
}
}