{ "currentVersion": 10.81, "serviceDescription": "

The hydrologic influence is just the accumulated terrain and climate wetness variables. Hydrologic influence is a Teren Inc. developed derivative created in a two-phase approach and represents the influence of local hydrology on the surrounding area determined using the results from a dynamic flow network and determining the least vertical and horizontal differences between each digital elevation model cell and its nearest stream cell. The flow network is created, using a 10-meter DEM, by dynamically calculating stream initiation and potential moisture states as a function of a terrain wetness weight. This weight is a function of precipitation weighted by terrain curvature, slope, and solar incidence. This weight is accumulated downslope along with total accumulated area. These are used to calculate stream initiation and total flow accumulation is calculated to determine the artificial flow network. The flow network is a source point of moisture from which local terrain and climate, Euclidean distance from, and slope are examined. The overall hydrologic influence of a source point of moisture on the surrounding area is based on these inputs. This determines the first phase of the hydrologic influence. Phase two determines network and hillslope processes. A derivation of a flow accumulation model where the outflow from each grid cell is proportioned between up to two downslope grid cells, thus divergent flow paths are possible. Flow that originates at a particular grid cell may enter the stream at different cells. A novel facet of this model is that accumulation can transition between growing or decaying as slope flattens or steepens and as the network passes through different precipitation regimes. These two-phase outputs create the Hydrologic Influence covariate.<\/span><\/p>
Purpose:<\/span> The purpose of the hydrologic influence is to weight the hydrology and depressions models based on the accumulated area of weighted with evapotranspiration weighted 30 year average precipitation derived from PRISM (1992-2022).<\/span><\/p>
Creation Date:<\/span> 20240607<\/span><\/p>
Publication Date: <\/span>20240607<\/span><\/p>
Revision Date: <\/span><\/p>
Refresh Cycle: <\/span>Updated periodically as new imagery becomes available<\/span><\/p>
Version: <\/span>1.0.0<\/span><\/p>
Change Log: <\/span>Service deployed.<\/span><\/p>
Report Service Errors<\/span><\/a><\/p>
<\/p>
<\/p><\/div><\/div><\/div>", "name": "cetwi/cetwi_hydrology_2022_10m", "description": "

The hydrologic influence is just the accumulated terrain and climate wetness variables. Hydrologic influence is a Teren Inc. developed derivative created in a two-phase approach and represents the influence of local hydrology on the surrounding area determined using the results from a dynamic flow network and determining the least vertical and horizontal differences between each digital elevation model cell and its nearest stream cell. The flow network is created, using a 10-meter DEM, by dynamically calculating stream initiation and potential moisture states as a function of a terrain wetness weight. This weight is a function of precipitation weighted by terrain curvature, slope, and solar incidence. This weight is accumulated downslope along with total accumulated area. These are used to calculate stream initiation and total flow accumulation is calculated to determine the artificial flow network. The flow network is a source point of moisture from which local terrain and climate, Euclidean distance from, and slope are examined. The overall hydrologic influence of a source point of moisture on the surrounding area is based on these inputs. This determines the first phase of the hydrologic influence. Phase two determines network and hillslope processes. A derivation of a flow accumulation model where the outflow from each grid cell is proportioned between up to two downslope grid cells, thus divergent flow paths are possible. Flow that originates at a particular grid cell may enter the stream at different cells. A novel facet of this model is that accumulation can transition between growing or decaying as slope flattens or steepens and as the network passes through different precipitation regimes. These two-phase outputs create the Hydrologic Influence covariate.<\/span><\/p>
Purpose:<\/span> The purpose of the hydrologic influence is to weight the hydrology and depressions models based on the accumulated area of weighted with evapotranspiration weighted 30 year average precipitation derived from PRISM (1992-2022).<\/span><\/p>
Creation Date:<\/span> 20240607<\/span><\/p>
Publication Date: <\/span>20240607<\/span><\/p>
Revision Date: <\/span><\/p>
Refresh Cycle: <\/span>Updated periodically as new imagery becomes available<\/span><\/p>
Version: <\/span>1.0.0<\/span><\/p>
Change Log: <\/span>Service deployed.<\/span><\/p>
Report Service Errors<\/span><\/a><\/p>
<\/p>
<\/p><\/div><\/div><\/div>", "extent": { "xmin": -1.41369485894E7, "ymin": 2970825.0378575544, "xmax": -1.0025229204231322E7, "ymax": 6388034.489299999, "spatialReference": { "wkid": 102100, "latestWkid": 3857 } }, "initialExtent": { "xmin": -1.41369485894E7, "ymin": 2970825.0378575544, "xmax": -1.0025229204231322E7, "ymax": 6388034.489299999, "spatialReference": { "wkid": 102100, "latestWkid": 3857 } }, "fullExtent": { "xmin": -1.41369485894E7, "ymin": 2970825.0378575544, "xmax": -1.0025229204231322E7, "ymax": 6388034.489299999, "spatialReference": { "wkid": 102100, "latestWkid": 3857 } }, "pixelSizeX": 10.307360251205605, "pixelSizeY": 10.307360251205601, "datasetFormat": "AMD", "uncompressedSize": 529005450964, "blockWidth": 2048, "blockHeight": 256, "compressionType": "None", "bandNames": [ "Band_1" ], "allowCopy": true, "allowAnalysis": true, "bandCount": 1, "pixelType": "U32", "minPixelSize": 0, "maxPixelSize": 0, "copyrightText": "", "serviceDataType": "esriImageServiceDataTypeGeneric", "serviceSourceType": "esriImageServiceSourceTypeMosaicDataset", "minValues": [ 0 ], "maxValues": [ 8306 ], "meanValues": [ 436.7589184063004 ], "stdvValues": [ 320.1541777132593 ], "objectIdField": "OBJECTID", "fields": [ { "name": "OBJECTID", "type": "esriFieldTypeOID", "alias": "OBJECTID", "domain": null }, { "name": "Shape", "type": "esriFieldTypeGeometry", "alias": "Shape", "domain": null }, { "name": "Name", "type": "esriFieldTypeString", "alias": "Name", "domain": null, "length": 200 }, { "name": "Category", "type": "esriFieldTypeInteger", "alias": "Category", "domain": { "type": "codedValue", "name": "MosaicCatalogItemCategoryDomain", "description": "Catalog item categories.", "codedValues": [ { "name": "Unknown", "code": 0 }, { "name": "Primary", "code": 1 }, { "name": "Overview", "code": 2 }, { "name": "Unprocessed Overview", "code": 3 }, { "name": "Partial Overview", "code": 4 }, { "name": "Inactive", "code": 5 }, { "name": "Uploaded", "code": 253 }, { "name": "Incomplete", "code": 254 }, { "name": "Custom", "code": 255 } ], "mergePolicy": "esriMPTDefaultValue", "splitPolicy": "esriSPTDefaultValue" } }, { "name": "CenterX", "type": "esriFieldTypeDouble", "alias": "CenterX", "domain": null }, { "name": "CenterY", "type": "esriFieldTypeDouble", "alias": "CenterY", "domain": null }, { "name": "Shape_Length", "type": "esriFieldTypeDouble", "alias": "Shape_Length", "domain": null }, { "name": "Shape_Area", "type": "esriFieldTypeDouble", "alias": "Shape_Area", "domain": null } ], "capabilities": "Catalog,Mensuration,Image,Metadata", "defaultMosaicMethod": "Northwest", "allowedMosaicMethods": "NorthWest,Center,LockRaster,ByAttribute,Nadir,Viewpoint,Seamline,None", "sortField": "", "sortValue": null, "sortAscending": true, "mosaicOperator": "First", "maxDownloadSizeLimit": 2048, "defaultCompressionQuality": 75, "defaultResamplingMethod": "Bilinear", "maxImageHeight": 4100, "maxImageWidth": 15000, "maxRecordCount": 1000, "maxDownloadImageCount": 20, "maxMosaicImageCount": 20, "allowRasterFunction": true, "rasterFunctionInfos": [ { "name": "cetwi_hydrology", "description": "The hydrology and depressions models are based on the accumulated area of weighted with evapotranspiration weighted 30 year average precipitation derived from PRISM.\n\nRed - Low Precipitation\nGreen - Medium Precipitation\nBlue - High Precipitation", "help": "" }, { "name": "None", "description": "", "help": "" } ], "rasterTypeInfos": [ { "name": "Raster Dataset", "description": "Supports all ArcGIS Raster Datasets", "help": "" } ], "mensurationCapabilities": "Basic", "hasHistograms": true, "hasColormap": false, "hasRasterAttributeTable": false, "minScale": 0, "maxScale": 0, "exportTilesAllowed": false, "hasMultidimensions": false, "supportsStatistics": true, "supportsAdvancedQueries": true, "editFieldsInfo": null, "ownershipBasedAccessControlForRasters": null, "allowComputeTiePoints": false, "useStandardizedQueries": true, "advancedQueryCapabilities": { "useStandardizedQueries": true, "supportsStatistics": true, "supportsOrderBy": true, "supportsDistinct": true, "supportsPagination": true }, "spatialReference": { "wkid": 102100, "latestWkid": 3857 } }