{
 "currentVersion": 10.81,
 "serviceDescription": "<div style='text-align:Left;'><div><div><p style='margin:0 0 0 0;'><span style='font-size:12pt'>The<\/span><span style='font-weight:bold;font-size:12pt'> <\/span><span style='font-size:12pt'>Topographic Wetness Index (TWI)<\/span><span style='font-weight:bold;font-size:12pt'> <\/span><span style='font-size:12pt'>is a steady-state wetness index that attempts to quantify the water movement on landforms and landscapes. The conventional Topographic Wetness Index is created in a Geographic Information Systems and defined as ln(<\/span><span style='font-style:italic;font-size:12pt'>a<\/span><span style='font-size:12pt'>/tan <\/span><span style='font-style:italic;font-size:12pt'>β<\/span><span style='font-size:12pt'>), the logarithm of the area divided by the tangent of the local slope. The conventional TWI is an index that correlates water movement on similar sloped landforms that have the same TWI index value. It is an interpretation of USGS digital elevation model (DEM) slope, and the upstream area used in its analysis. Any estimate of water accumulation is based on the finite areas determined within the calculation area. Slope and upstream surface area are the only two derivatives used in defining TWI. TWI performs best on sloping uplands but deteriorates in flat landscapes.<\/span><\/p><p><p style='margin:0 0 0 0;'><span /><span /><\/p><p style='margin:0 0 11 0;'><span style='font-weight:bold;font-size:12pt'>Purpose:<\/span><span style='font-size:12pt'> The TWI is a valuable index for understanding the relationship between topography and hydrology before making a field visit. It can help identify areas that are prone to water accumulation and can be used to assess the potential for wetland development. However, the standard TWI has design limitations that has been overcome with the development of the Climate Enhanced Topographic Wetness Index. <\/span><\/p><p style='font-size:12pt'><span style='font-weight:bold;'>Creation Date:<\/span><span> 20240507<\/span><\/p><p style='font-size:12pt'><span style='font-weight:bold;'>Publication Date: <\/span><span>20240507<\/span><\/p><p style='font-size:12pt'><span style='font-weight:bold;'>Revision Date: <\/span><\/p><p style='font-size:12pt'><span style='font-weight:bold;'>Refresh Cycle: <\/span><span>Updated periodically as new imagery becomes available<\/span><\/p><p style='font-size:12pt'><span style='font-weight:bold;'>Version: <\/span><span>1.0.0<\/span><\/p><p style='font-size:12pt'><span style='font-weight:bold;'>Change Log:<\/span><span> Service Deployed<\/span><\/p><p style='font-size:12pt'><a href='mailto:usdafpacbc@servicenowservices.com?Subject=GEOSRV' style='text-decoration:underline;'><span style='font-weight:bold;'>Report Service Errors<\/span><\/a><\/p><p style='margin:0 0 0 0;'><span /><\/p><p style='margin:0 0 0 0;'><span /><span /><\/p><\/div><\/div><\/div>",
 "name": "cetwi/cetwi_twi_2022_10m",
 "description": "<div style='text-align:Left;'><div><div><p style='margin:0 0 0 0;'><span style='font-size:12pt'>The<\/span><span style='font-weight:bold;font-size:12pt'> <\/span><span style='font-size:12pt'>Topographic Wetness Index (TWI)<\/span><span style='font-weight:bold;font-size:12pt'> <\/span><span style='font-size:12pt'>is a steady-state wetness index that attempts to quantify the water movement on landforms and landscapes. The conventional Topographic Wetness Index is created in a Geographic Information Systems and defined as ln(<\/span><span style='font-style:italic;font-size:12pt'>a<\/span><span style='font-size:12pt'>/tan <\/span><span style='font-style:italic;font-size:12pt'>β<\/span><span style='font-size:12pt'>), the logarithm of the area divided by the tangent of the local slope. The conventional TWI is an index that correlates water movement on similar sloped landforms that have the same TWI index value. It is an interpretation of USGS digital elevation model (DEM) slope, and the upstream area used in its analysis. Any estimate of water accumulation is based on the finite areas determined within the calculation area. Slope and upstream surface area are the only two derivatives used in defining TWI. TWI performs best on sloping uplands but deteriorates in flat landscapes.<\/span><\/p><p><p style='margin:0 0 0 0;'><span /><span /><\/p><p style='margin:0 0 11 0;'><span style='font-weight:bold;font-size:12pt'>Purpose:<\/span><span style='font-size:12pt'> The TWI is a valuable index for understanding the relationship between topography and hydrology before making a field visit. It can help identify areas that are prone to water accumulation and can be used to assess the potential for wetland development. However, the standard TWI has design limitations that has been overcome with the development of the Climate Enhanced Topographic Wetness Index. <\/span><\/p><p style='font-size:12pt'><span style='font-weight:bold;'>Creation Date:<\/span><span> 20240507<\/span><\/p><p style='font-size:12pt'><span style='font-weight:bold;'>Publication Date: <\/span><span>20240507<\/span><\/p><p style='font-size:12pt'><span style='font-weight:bold;'>Revision Date: <\/span><\/p><p style='font-size:12pt'><span style='font-weight:bold;'>Refresh Cycle: <\/span><span>Updated periodically as new imagery becomes available<\/span><\/p><p style='font-size:12pt'><span style='font-weight:bold;'>Version: <\/span><span>1.0.0<\/span><\/p><p style='font-size:12pt'><span style='font-weight:bold;'>Change Log:<\/span><span> Service Deployed<\/span><\/p><p style='font-size:12pt'><a href='mailto:usdafpacbc@servicenowservices.com?Subject=GEOSRV' style='text-decoration:underline;'><span style='font-weight:bold;'>Report Service Errors<\/span><\/a><\/p><p style='margin:0 0 0 0;'><span /><\/p><p style='margin:0 0 0 0;'><span /><span /><\/p><\/div><\/div><\/div>",
 "extent": {
  "xmin": -1.41369485894E7,
  "ymin": 2970825.0378575586,
  "xmax": -1.002522920423133E7,
  "ymax": 6388034.489299999,
  "spatialReference": {
   "wkid": 102100,
   "latestWkid": 3857
  }
 },
 "initialExtent": {
  "xmin": -1.41369485894E7,
  "ymin": 2970825.0378575586,
  "xmax": -1.002522920423133E7,
  "ymax": 6388034.489299999,
  "spatialReference": {
   "wkid": 102100,
   "latestWkid": 3857
  }
 },
 "fullExtent": {
  "xmin": -1.41369485894E7,
  "ymin": 2970825.0378575586,
  "xmax": -1.002522920423133E7,
  "ymax": 6388034.489299999,
  "spatialReference": {
   "wkid": 102100,
   "latestWkid": 3857
  }
 },
 "pixelSizeX": 10.307360251205587,
 "pixelSizeY": 10.307360251205589,
 "datasetFormat": "AMD",
 "uncompressedSize": 264502062420,
 "blockWidth": 2048,
 "blockHeight": 256,
 "compressionType": "None",
 "bandNames": [
  "Band_1"
 ],
 "allowCopy": true,
 "allowAnalysis": true,
 "bandCount": 1,
 "pixelType": "S16",
 "minPixelSize": 0,
 "maxPixelSize": 0,
 "copyrightText": "CETWI TWI Imagery Service provided by USDA-FPAC",
 "serviceDataType": "esriImageServiceDataTypeGeneric",
 "serviceSourceType": "esriImageServiceSourceTypeMosaicDataset",
 "minValues": [
  -317
 ],
 "maxValues": [
  8328
 ],
 "meanValues": [
  552.7501878996062
 ],
 "stdvValues": [
  348.8649673192581
 ],
 "objectIdField": "OBJECTID",
 "fields": [
  {
   "name": "OBJECTID",
   "type": "esriFieldTypeOID",
   "alias": "OBJECTID",
   "domain": null
  },
  {
   "name": "Shape",
   "type": "esriFieldTypeGeometry",
   "alias": "Shape",
   "domain": null
  },
  {
   "name": "Name",
   "type": "esriFieldTypeString",
   "alias": "Name",
   "domain": null,
   "length": 200
  },
  {
   "name": "Category",
   "type": "esriFieldTypeInteger",
   "alias": "Category",
   "domain": {
    "type": "codedValue",
    "name": "MosaicCatalogItemCategoryDomain",
    "description": "Catalog item categories.",
    "codedValues": [
     {
      "name": "Unknown",
      "code": 0
     },
     {
      "name": "Primary",
      "code": 1
     },
     {
      "name": "Overview",
      "code": 2
     },
     {
      "name": "Unprocessed Overview",
      "code": 3
     },
     {
      "name": "Partial Overview",
      "code": 4
     },
     {
      "name": "Inactive",
      "code": 5
     },
     {
      "name": "Uploaded",
      "code": 253
     },
     {
      "name": "Incomplete",
      "code": 254
     },
     {
      "name": "Custom",
      "code": 255
     }
    ],
    "mergePolicy": "esriMPTDefaultValue",
    "splitPolicy": "esriSPTDefaultValue"
   }
  },
  {
   "name": "GroupName",
   "type": "esriFieldTypeString",
   "alias": "GroupName",
   "domain": null,
   "length": 100
  },
  {
   "name": "CenterX",
   "type": "esriFieldTypeDouble",
   "alias": "CenterX",
   "domain": null
  },
  {
   "name": "CenterY",
   "type": "esriFieldTypeDouble",
   "alias": "CenterY",
   "domain": null
  },
  {
   "name": "Shape_Length",
   "type": "esriFieldTypeDouble",
   "alias": "Shape_Length",
   "domain": null
  },
  {
   "name": "Shape_Area",
   "type": "esriFieldTypeDouble",
   "alias": "Shape_Area",
   "domain": null
  }
 ],
 "capabilities": "Catalog,Mensuration,Image,Metadata",
 "defaultMosaicMethod": "Northwest",
 "allowedMosaicMethods": "NorthWest,Center,LockRaster,ByAttribute,Nadir,Viewpoint,Seamline,None",
 "sortField": "",
 "sortValue": null,
 "sortAscending": true,
 "mosaicOperator": "First",
 "maxDownloadSizeLimit": 2048,
 "defaultCompressionQuality": 75,
 "defaultResamplingMethod": "Bilinear",
 "maxImageHeight": 4100,
 "maxImageWidth": 15000,
 "maxRecordCount": 1000,
 "maxDownloadImageCount": 20,
 "maxMosaicImageCount": 20,
 "allowRasterFunction": true,
 "rasterFunctionInfos": [
  {
   "name": "cetwi_rangeland",
   "description": "The Climate-Enhanced Topographic Wetness Index (CETWI) is a climate and terrain driven deterministic model using a suite of derivatives to estimate effective soil surface moisture from precipitation and inflow across a continuous earth surface.The CETWI value, scaled with zero beginning the lowest potential for moisture to accumulate to higher values being the highest potential for moisture to accumulate",
   "help": ""
  },
  {
   "name": "None",
   "description": "",
   "help": ""
  }
 ],
 "rasterTypeInfos": [
  {
   "name": "Raster Dataset",
   "description": "Supports all ArcGIS Raster Datasets",
   "help": ""
  }
 ],
 "mensurationCapabilities": "Basic",
 "hasHistograms": true,
 "hasColormap": false,
 "hasRasterAttributeTable": false,
 "minScale": 0,
 "maxScale": 0,
 "exportTilesAllowed": false,
 "hasMultidimensions": false,
 "supportsStatistics": true,
 "supportsAdvancedQueries": true,
 "editFieldsInfo": null,
 "ownershipBasedAccessControlForRasters": null,
 "allowComputeTiePoints": false,
 "useStandardizedQueries": true,
 "advancedQueryCapabilities": {
  "useStandardizedQueries": true,
  "supportsStatistics": true,
  "supportsOrderBy": true,
  "supportsDistinct": true,
  "supportsPagination": true
 },
 "spatialReference": {
  "wkid": 102100,
  "latestWkid": 3857
 }
}
