The Stewardship Lands Inventory (SLI) Program is conducted to develop strategies to monitor, adaptively manage, and ensure compliance of NRCS easements enrolled in the Agricultural Conservation Easement Program - Agricultural Land Easement (ACEP-ALE), Agricultural Conservation Easement Program - Wetland Reserve Easement (ACEP-WRE), Emergency Wetlands Reserve Program (EWRP), Wetlands Reserve Program (WRP), Grasslands Reserve Program (GRP), Healthy Forests Reserve program (HFRP), Farm and Ranch Lands Protection Program (FRPP), and the Emergency Watershed Program - Floodplain Easements (EWP-FPE). NRCS shall use the imagery to collect and measure natural resource data by means of photo interpretation and Geographic Information Systems (GIS) technologies. Within each easement, data is collected on land cover and use, soil erosion, wetlands issues, and characteristics of other natural resources. <\/span><\/p>Purpose: To provide easements imagery acquisition collection information and locations.<\/span><\/p>Creation Date: <\/span>20160718 - 20170328<\/span><\/p>Publication Date: <\/span>20160801<\/span><\/p>Revision Date: <\/span>20170907<\/span><\/p>Refresh Cycle: <\/span>This is the final product for 2016.<\/span><\/p>Version: <\/span>3.0.0<\/span><\/p>Change Log: <\/span>Service Deployed<\/span><\/p>Report Service Errors<\/span><\/a><\/p><\/div><\/div><\/div>",
"extent": {
"xmin": -1.38380216263E7,
"ymin": 3000391.262105421,
"xmax": -7569414.076310368,
"ymax": 6276170.312100003,
"spatialReference": {
"wkid": 102100,
"latestWkid": 3857
}
},
"initialExtent": {
"xmin": -1.38380216263E7,
"ymin": 3000391.262105421,
"xmax": -7569414.076310368,
"ymax": 6276170.312100003,
"spatialReference": {
"wkid": 102100,
"latestWkid": 3857
}
},
"fullExtent": {
"xmin": -1.38380216263E7,
"ymin": 3000391.262105421,
"xmax": -7569414.076310368,
"ymax": 6276170.312100003,
"spatialReference": {
"wkid": 102100,
"latestWkid": 3857
}
},
"pixelSizeX": 0.1499999999997519,
"pixelSizeY": 0.1499999999997519,
"datasetFormat": "AMD",
"uncompressedSize": 3650590806215436,
"blockWidth": 2048,
"blockHeight": 256,
"compressionType": "None",
"bandNames": [
"Band_1",
"Band_2",
"Band_3",
"Band_4"
],
"allowCopy": true,
"allowAnalysis": true,
"bandCount": 4,
"pixelType": "U8",
"minPixelSize": 0,
"maxPixelSize": 0,
"copyrightText": "",
"serviceDataType": "esriImageServiceDataTypeGeneric",
"serviceSourceType": "esriImageServiceSourceTypeMosaicDataset",
"minValues": [],
"maxValues": [],
"meanValues": [],
"stdvValues": [],
"objectIdField": "OBJECTID",
"fields": [
{
"name": "OBJECTID",
"type": "esriFieldTypeOID",
"alias": "OBJECTID",
"domain": null
},
{
"name": "Shape",
"type": "esriFieldTypeGeometry",
"alias": "Shape",
"domain": null
},
{
"name": "Name",
"type": "esriFieldTypeString",
"alias": "Name",
"domain": null,
"length": 200
},
{
"name": "Category",
"type": "esriFieldTypeInteger",
"alias": "Category",
"domain": {
"type": "codedValue",
"name": "MosaicCatalogItemCategoryDomain",
"description": "Catalog item categories.",
"codedValues": [
{
"name": "Unknown",
"code": 0
},
{
"name": "Primary",
"code": 1
},
{
"name": "Overview",
"code": 2
},
{
"name": "Unprocessed Overview",
"code": 3
},
{
"name": "Partial Overview",
"code": 4
},
{
"name": "Inactive",
"code": 5
},
{
"name": "Uploaded",
"code": 253
},
{
"name": "Incomplete",
"code": 254
},
{
"name": "Custom",
"code": 255
}
],
"mergePolicy": "esriMPTDefaultValue",
"splitPolicy": "esriSPTDefaultValue"
}
},
{
"name": "GroupName",
"type": "esriFieldTypeString",
"alias": "GroupName",
"domain": null,
"length": 100
},
{
"name": "CenterX",
"type": "esriFieldTypeDouble",
"alias": "CenterX",
"domain": null
},
{
"name": "CenterY",
"type": "esriFieldTypeDouble",
"alias": "CenterY",
"domain": null
},
{
"name": "Shape_Length",
"type": "esriFieldTypeDouble",
"alias": "Shape_Length",
"domain": null
},
{
"name": "Shape_Area",
"type": "esriFieldTypeDouble",
"alias": "Shape_Area",
"domain": null
}
],
"capabilities": "Image,Metadata,Mensuration,Catalog,Download",
"defaultMosaicMethod": "Northwest",
"allowedMosaicMethods": "NorthWest,Center,LockRaster,ByAttribute,Nadir,Viewpoint,Seamline,None",
"sortField": "",
"sortValue": null,
"sortAscending": true,
"mosaicOperator": "First",
"maxDownloadSizeLimit": 2048,
"defaultCompressionQuality": 75,
"defaultResamplingMethod": "Bilinear",
"maxImageHeight": 4100,
"maxImageWidth": 15000,
"maxRecordCount": 1000,
"maxDownloadImageCount": 20,
"maxMosaicImageCount": 20,
"allowRasterFunction": true,
"rasterFunctionInfos": [
{
"name": "None",
"description": "A No-Op Function.",
"help": ""
},
{
"name": "Color-infrared (CIR)",
"description": "CIR, is short for Color Infrared. Here it refers to rendering a multi-spectral imagery (generally at least 4 or more bands) with NIR (Near Infrared) band, Red band and Green band for the three color guns of Red, Green and Blue, respectively. The resulting image is good for delineating plants, such as its species and biomass. It can also be used in estimating soil moisture and water clarity, and among other uses. \nFor 2016 easement program, only following seven states had digital multi-spectral data: FL, MI, MT, OK, TN, WI, and WY. Therefore, CIR service will only available for the easements in those seven states. All other states are with three band analogue imagery and is missing the required NIR band.\n",
"help": ""
},
{
"name": "Normalized Difference Vegetation Index (NDVI)",
"description": "NDVI, is short for Normalized Difference Vegetation Index. It basically is the spectral ratio of NRI minus Red to NRI plus Red for a multi-spectral imagery. The ratio itself ranges from -1 to +1. As the name implies, it is highly correlated to the amount of vegetation on the ground, e.g. the higher or more positive the value is, the more vegetation for a given pixel. It has also been used to estimate other plant properties, such as leaf area index, biomass, and chlorophyll content. \nFor 2016 easement program, only following seven states had digital multi-spectral data: FL, MI, MT, OK, TN, WI, and WY. Therefore, NIR service will only available for the easements in those seven states. All other states are with three band analogue imagery and is missing the required NIR band. \n",
"help": ""
}
],
"rasterTypeInfos": [
{
"name": "Raster Dataset",
"description": "Supports all ArcGIS Raster Datasets",
"help": ""
}
],
"mensurationCapabilities": "Basic",
"hasHistograms": false,
"hasColormap": false,
"hasRasterAttributeTable": false,
"minScale": 0,
"maxScale": 0,
"exportTilesAllowed": false,
"hasMultidimensions": false,
"supportsStatistics": true,
"supportsAdvancedQueries": true,
"editFieldsInfo": null,
"ownershipBasedAccessControlForRasters": null,
"allowComputeTiePoints": false,
"useStandardizedQueries": true,
"advancedQueryCapabilities": {
"useStandardizedQueries": true,
"supportsStatistics": true,
"supportsOrderBy": true,
"supportsDistinct": true,
"supportsPagination": true
},
"spatialReference": {
"wkid": 102100,
"latestWkid": 3857
}
}