{
 "currentVersion": 10.81,
 "serviceDescription": "<div style='text-align:Left;'><div><div><p style='margin:0 0 0 0;'><span style='font-size:12pt'>The Stewardship Lands Imagery (SLI) program provides NRCS with remote sensing resources for the management of conservation easement lands through compliance and ecological monitoring. The NRCS has over 22,800 conservation easements covering over 5 million acres. The NRCS is required by the Federal Accounting Standards Advisory Board in the Statement of Federal Financial Accounting Standards 29 (SFFAS 29) to annually monitor the condition of NRCS stewardship lands. Condition, relates to reporting landowner compliance with deed terms related to ownership of stewardship lands by the Federal Government. To facilitate the reporting requirement, the NRCS acquires digital high-resolution, 20 cm GSD, 4-band, ortho-rectified fixed wing aerial imagery to ensure compliance of NRCS easements enrolled in the Agricultural Conservation Easement Program-Wetlands Reserve Easements (ACEP-WRE), the Agricultural Conservation Easement Program-Agricultural Lands Easements (ACEP-ALE), the Wetlands Reserve Program (WRP), Grasslands Reserve Program (GRP), Healthy Forests Reserve program (HFRP), Farm and Ranch Lands Protection Program (FRPP), the emergency Watershed Program-Floodplain Easements (EWPP-FPE),the Emergency Wetlands Reserve Program (EWRP), Other Stewardship Lands (OSL) and the SLI Vexcel source. NRCS uses digital high-resolution imagery to strengthen the integrity of monitoring on conservation easement lands using Geographic Information Systems (GIS) technologies and photo interpretation. <\/span><\/p><p><p style='margin:0 0 0 0;'><span /><\/p><p style='margin:0 0 0 0;'><span style='font-weight:bold;'>Purpose: <\/span><span>To provide easements imagery acquisition collection information and locations.<\/span><\/p><p><p style='margin:0 0 0 0;'><span /><\/p><p style='margin:0 0 0 0;'><span style='font-weight:bold;'><span>Creation Date: <\/span><\/span><span>20190101-20191231<\/span><\/p><p style='margin:0 0 0 0;'><span /><\/p><p><p style='margin:0 0 0 0;'><span style='font-weight:bold;'><span>Publication Date: <\/span><\/span><span>20241113<\/span><\/p><p><p style='margin:0 0 0 0;'><span /><\/p><p style='margin:0 0 0 0;'><span style='font-weight:bold;'>Revision Date: <\/span><\/p><p style='margin:0 0 0 0;'><span /><p><\/p><p style='margin:0 0 0 0;'><span style='font-weight:bold;'>Refresh Cycle: <\/span><span>Periodically as new imagery becomes available<\/span><\/p><p><p style='margin:0 0 0 0;'><span /><\/p><p style='margin:0 0 0 0;'><span style='font-weight:bold;'><span>Version: <\/span><\/span><span>1.0.0<\/span><\/p><p><p style='margin:0 0 0 0;'><span /><\/p><p style='margin:0 0 0 0;'><span style='font-weight:bold;'>Change Log:<\/span><span> Service Deployed<\/span><\/p><p><p style='margin:0 0 0 0;'><span /><\/p><p style='margin:0 0 0 0;'><span /><a href='mailto:usdafpacbc@servicenowservices.com?Subject=GEOSRV' target='_blank' style='text-decoration:underline;'><span style='font-weight:bold;text-decoration:underline;'><span>Report Service Errors<\/span><\/span><\/a><\/p><p><span /><\/p><p><span /><\/p><\/div><\/div><\/div>",
 "name": "easements/imagery2019_20cm",
 "description": "<div style='text-align:Left;'><div><div><p style='margin:0 0 0 0;'><span style='font-size:12pt'>The Stewardship Lands Imagery (SLI) program provides NRCS with remote sensing resources for the management of conservation easement lands through compliance and ecological monitoring. The NRCS has over 22,800 conservation easements covering over 5 million acres. The NRCS is required by the Federal Accounting Standards Advisory Board in the Statement of Federal Financial Accounting Standards 29 (SFFAS 29) to annually monitor the condition of NRCS stewardship lands. Condition, relates to reporting landowner compliance with deed terms related to ownership of stewardship lands by the Federal Government. To facilitate the reporting requirement, the NRCS acquires digital high-resolution, 20 cm GSD, 4-band, ortho-rectified fixed wing aerial imagery to ensure compliance of NRCS easements enrolled in the Agricultural Conservation Easement Program-Wetlands Reserve Easements (ACEP-WRE), the Agricultural Conservation Easement Program-Agricultural Lands Easements (ACEP-ALE), the Wetlands Reserve Program (WRP), Grasslands Reserve Program (GRP), Healthy Forests Reserve program (HFRP), Farm and Ranch Lands Protection Program (FRPP), the emergency Watershed Program-Floodplain Easements (EWPP-FPE),the Emergency Wetlands Reserve Program (EWRP), Other Stewardship Lands (OSL) and the SLI Vexcel source. NRCS uses digital high-resolution imagery to strengthen the integrity of monitoring on conservation easement lands using Geographic Information Systems (GIS) technologies and photo interpretation. <\/span><\/p><p><p style='margin:0 0 0 0;'><span /><\/p><p style='margin:0 0 0 0;'><span style='font-weight:bold;'>Purpose: <\/span><span>To provide easements imagery acquisition collection information and locations.<\/span><\/p><p><p style='margin:0 0 0 0;'><span /><\/p><p style='margin:0 0 0 0;'><span style='font-weight:bold;'><span>Creation Date: <\/span><\/span><span>20190101-20191231<\/span><\/p><p style='margin:0 0 0 0;'><span /><\/p><p><p style='margin:0 0 0 0;'><span style='font-weight:bold;'><span>Publication Date: <\/span><\/span><span>20241113<\/span><\/p><p><p style='margin:0 0 0 0;'><span /><\/p><p style='margin:0 0 0 0;'><span style='font-weight:bold;'>Revision Date: <\/span><\/p><p style='margin:0 0 0 0;'><span /><p><\/p><p style='margin:0 0 0 0;'><span style='font-weight:bold;'>Refresh Cycle: <\/span><span>Periodically as new imagery becomes available<\/span><\/p><p><p style='margin:0 0 0 0;'><span /><\/p><p style='margin:0 0 0 0;'><span style='font-weight:bold;'><span>Version: <\/span><\/span><span>1.0.0<\/span><\/p><p><p style='margin:0 0 0 0;'><span /><\/p><p style='margin:0 0 0 0;'><span style='font-weight:bold;'>Change Log:<\/span><span> Service Deployed<\/span><\/p><p><p style='margin:0 0 0 0;'><span /><\/p><p style='margin:0 0 0 0;'><span /><a href='mailto:usdafpacbc@servicenowservices.com?Subject=GEOSRV' target='_blank' style='text-decoration:underline;'><span style='font-weight:bold;text-decoration:underline;'><span>Report Service Errors<\/span><\/span><\/a><\/p><p><span /><\/p><p><span /><\/p><\/div><\/div><\/div>",
 "extent": {
  "xmin": -1.38377742378E7,
  "ymin": 3121702.5701017273,
  "xmax": -8289982.037804079,
  "ymax": 5467966.570100002,
  "spatialReference": {
   "wkid": 102100,
   "latestWkid": 3857
  }
 },
 "initialExtent": {
  "xmin": -1.38377742378E7,
  "ymin": 3121702.5701017273,
  "xmax": -8289982.037804079,
  "ymax": 5467966.570100002,
  "spatialReference": {
   "wkid": 102100,
   "latestWkid": 3857
  }
 },
 "fullExtent": {
  "xmin": -1.38377742378E7,
  "ymin": 3121702.5701017273,
  "xmax": -8289982.037804079,
  "ymax": 5467966.570100002,
  "spatialReference": {
   "wkid": 102100,
   "latestWkid": 3857
  }
 },
 "pixelSizeX": 0.19999999999985296,
 "pixelSizeY": 0.19999999999985293,
 "datasetFormat": "AMD",
 "uncompressedSize": 1301658511834080,
 "blockWidth": 2048,
 "blockHeight": 256,
 "compressionType": "None",
 "bandNames": [
  "Band_1",
  "Band_2",
  "Band_3",
  "Band_4"
 ],
 "allowCopy": true,
 "allowAnalysis": true,
 "bandCount": 4,
 "pixelType": "U8",
 "minPixelSize": 0,
 "maxPixelSize": 0,
 "copyrightText": "USDA-NRCS-NGCE",
 "serviceDataType": "esriImageServiceDataTypeGeneric",
 "serviceSourceType": "esriImageServiceSourceTypeMosaicDataset",
 "minValues": [],
 "maxValues": [],
 "meanValues": [],
 "stdvValues": [],
 "objectIdField": "OBJECTID",
 "fields": [
  {
   "name": "OBJECTID",
   "type": "esriFieldTypeOID",
   "alias": "OBJECTID",
   "domain": null
  },
  {
   "name": "Shape",
   "type": "esriFieldTypeGeometry",
   "alias": "Shape",
   "domain": null
  },
  {
   "name": "Name",
   "type": "esriFieldTypeString",
   "alias": "Name",
   "domain": null,
   "length": 200
  },
  {
   "name": "Category",
   "type": "esriFieldTypeInteger",
   "alias": "Category",
   "domain": {
    "type": "codedValue",
    "name": "MosaicCatalogItemCategoryDomain",
    "description": "Catalog item categories.",
    "codedValues": [
     {
      "name": "Unknown",
      "code": 0
     },
     {
      "name": "Primary",
      "code": 1
     },
     {
      "name": "Overview",
      "code": 2
     },
     {
      "name": "Unprocessed Overview",
      "code": 3
     },
     {
      "name": "Partial Overview",
      "code": 4
     },
     {
      "name": "Inactive",
      "code": 5
     },
     {
      "name": "Uploaded",
      "code": 253
     },
     {
      "name": "Incomplete",
      "code": 254
     },
     {
      "name": "Custom",
      "code": 255
     }
    ],
    "mergePolicy": "esriMPTDefaultValue",
    "splitPolicy": "esriSPTDefaultValue"
   }
  },
  {
   "name": "GroupName",
   "type": "esriFieldTypeString",
   "alias": "GroupName",
   "domain": null,
   "length": 100
  },
  {
   "name": "CenterX",
   "type": "esriFieldTypeDouble",
   "alias": "CenterX",
   "domain": null
  },
  {
   "name": "CenterY",
   "type": "esriFieldTypeDouble",
   "alias": "CenterY",
   "domain": null
  },
  {
   "name": "Shape_Length",
   "type": "esriFieldTypeDouble",
   "alias": "Shape_Length",
   "domain": null
  },
  {
   "name": "Shape_Area",
   "type": "esriFieldTypeDouble",
   "alias": "Shape_Area",
   "domain": null
  }
 ],
 "capabilities": "Catalog,Mensuration,Image,Metadata",
 "defaultMosaicMethod": "Northwest",
 "allowedMosaicMethods": "NorthWest,Center,LockRaster,ByAttribute,Nadir,Viewpoint,Seamline,None",
 "sortField": "",
 "sortValue": null,
 "sortAscending": true,
 "mosaicOperator": "First",
 "maxDownloadSizeLimit": 2048,
 "defaultCompressionQuality": 75,
 "defaultResamplingMethod": "Bilinear",
 "maxImageHeight": 4100,
 "maxImageWidth": 15000,
 "maxRecordCount": 1000,
 "maxDownloadImageCount": 20,
 "maxMosaicImageCount": 20,
 "allowRasterFunction": true,
 "rasterFunctionInfos": [
  {
   "name": "Natural Color Easements",
   "description": "Natural Color Display",
   "help": "Natural Color: Red: Band 1, Green: Band 2, Blue: Band 3, Strectch type: None"
  },
  {
   "name": "Color-infrared (CIR) Easements",
   "description": "Color-infrared (CIR) ",
   "help": "Natural Color: Red: Band 4, Green: Band 1, Blue: Band 2, Strectch type: None\nCIR, is short for Color Infrared. Here it refers to rendering a multi-spectral imagery (generally at least 4 or more bands) with NIR (Near Infrared) band, Red band and Green band for the three color guns of Red, Green and Blue, respectively. The resulting image is good for delineating plants, such as its species and biomass. It can also be used in estimating soil moisture and water clarity, and among other uses."
  },
  {
   "name": "None",
   "description": "",
   "help": ""
  }
 ],
 "rasterTypeInfos": [
  {
   "name": "Raster Dataset",
   "description": "Supports all ArcGIS Raster Datasets",
   "help": ""
  }
 ],
 "mensurationCapabilities": "Basic",
 "hasHistograms": false,
 "hasColormap": false,
 "hasRasterAttributeTable": false,
 "minScale": 0,
 "maxScale": 0,
 "exportTilesAllowed": false,
 "hasMultidimensions": false,
 "supportsStatistics": true,
 "supportsAdvancedQueries": true,
 "editFieldsInfo": null,
 "ownershipBasedAccessControlForRasters": null,
 "allowComputeTiePoints": false,
 "useStandardizedQueries": true,
 "advancedQueryCapabilities": {
  "useStandardizedQueries": true,
  "supportsStatistics": true,
  "supportsOrderBy": true,
  "supportsDistinct": true,
  "supportsPagination": true
 },
 "spatialReference": {
  "wkid": 102100,
  "latestWkid": 3857
 }
}
