The Stewardship Lands Inventory (SLI) Program is conducted to develop strategies to monitor, adaptively manage, and ensure compliance of NRCS easements enrolled in the Agricultural Conservation Easement Program - Agricultural Land Easement (ACEP-ALE), Agricultural Conservation Easement Program - Wetland Reserve Easement (ACEP-WRE), Emergency Wetlands Reserve Program (EWRP), Wetlands Reserve Program (WRP), Grasslands Reserve Program (GRP), Healthy Forests Reserve program (HFRP), Farm and Ranch Lands Protection Program (FRPP), and the Emergency Watershed Program - Floodplain Easements (EWP-FPE). NRCS shall use the imagery to collect and measure natural resource data by means of photo interpretation and Geographic Information Systems (GIS) technologies. Within each easement, data is collected on land cover and use, soil erosion, wetlands issues, and characteristics of other natural resources.<\/span><\/p>Purpose: <\/span>To provide easements imagery acquisition collection information and locations.<\/span><\/p>Creation Date: <\/span>20210708<\/span><\/p>Publication Date: <\/span>20210901<\/span><\/p>Revision Date: <\/span><\/p>Refresh Cycle: <\/span>Imagery Complete.<\/span> <\/span><\/p>Version: <\/span>1.0.0<\/span> <\/span><\/p>Change Log: <\/span>Service Deployed<\/span><\/p>Report Service Errors<\/span><\/span><\/a><\/p><\/div><\/div><\/div><\/div>",
"extent": {
"xmin": -1.74534777979E7,
"ymin": 2402328.118292343,
"xmax": -7570303.977493513,
"ymax": 8771328.367000002,
"spatialReference": {
"wkid": 102100,
"latestWkid": 3857
}
},
"initialExtent": {
"xmin": -1.74534777979E7,
"ymin": 2402328.118292343,
"xmax": -7570303.977493513,
"ymax": 8771328.367000002,
"spatialReference": {
"wkid": 102100,
"latestWkid": 3857
}
},
"fullExtent": {
"xmin": -1.74534777979E7,
"ymin": 2402328.118292343,
"xmax": -7570303.977493513,
"ymax": 8771328.367000002,
"spatialReference": {
"wkid": 102100,
"latestWkid": 3857
}
},
"pixelSizeX": 0.1499999987919845,
"pixelSizeY": 0.1499999987919845,
"datasetFormat": "AMD",
"uncompressedSize": 11190388894942608,
"blockWidth": 2048,
"blockHeight": 256,
"compressionType": "None",
"bandNames": [
"Band_1",
"Band_2",
"Band_3",
"Band_4"
],
"allowCopy": true,
"allowAnalysis": true,
"bandCount": 4,
"pixelType": "U8",
"minPixelSize": 0,
"maxPixelSize": 0,
"copyrightText": "USDA-NRCS-NGCE",
"serviceDataType": "esriImageServiceDataTypeGeneric",
"serviceSourceType": "esriImageServiceSourceTypeMosaicDataset",
"minValues": [
0,
0,
0,
0
],
"maxValues": [
207,
198,
188,
249
],
"meanValues": [
101.31202435312012,
112.86910197869096,
100.99391171993918,
159.10197869101975
],
"stdvValues": [
27.598829820762628,
24.459916159044592,
22.590563297746435,
42.89302244659692
],
"objectIdField": "OBJECTID",
"fields": [
{
"name": "OBJECTID",
"type": "esriFieldTypeOID",
"alias": "OBJECTID",
"domain": null
},
{
"name": "Shape",
"type": "esriFieldTypeGeometry",
"alias": "Shape",
"domain": null
},
{
"name": "Name",
"type": "esriFieldTypeString",
"alias": "Name",
"domain": null,
"length": 200
},
{
"name": "Category",
"type": "esriFieldTypeInteger",
"alias": "Category",
"domain": {
"type": "codedValue",
"name": "MosaicCatalogItemCategoryDomain",
"description": "Catalog item categories.",
"codedValues": [
{
"name": "Unknown",
"code": 0
},
{
"name": "Primary",
"code": 1
},
{
"name": "Overview",
"code": 2
},
{
"name": "Unprocessed Overview",
"code": 3
},
{
"name": "Partial Overview",
"code": 4
},
{
"name": "Inactive",
"code": 5
},
{
"name": "Uploaded",
"code": 253
},
{
"name": "Incomplete",
"code": 254
},
{
"name": "Custom",
"code": 255
}
],
"mergePolicy": "esriMPTDefaultValue",
"splitPolicy": "esriSPTDefaultValue"
}
},
{
"name": "GroupName",
"type": "esriFieldTypeString",
"alias": "GroupName",
"domain": null,
"length": 100
},
{
"name": "CenterX",
"type": "esriFieldTypeDouble",
"alias": "CenterX",
"domain": null
},
{
"name": "CenterY",
"type": "esriFieldTypeDouble",
"alias": "CenterY",
"domain": null
},
{
"name": "Shape_Length",
"type": "esriFieldTypeDouble",
"alias": "Shape_Length",
"domain": null
},
{
"name": "Shape_Area",
"type": "esriFieldTypeDouble",
"alias": "Shape_Area",
"domain": null
}
],
"capabilities": "Image,Metadata,Catalog,Download",
"defaultMosaicMethod": "ByAttribute",
"allowedMosaicMethods": "ByAttribute,NorthWest,Center,LockRaster,Nadir,Viewpoint,Seamline,None",
"sortField": "ZOrder",
"sortValue": "",
"sortAscending": true,
"mosaicOperator": "First",
"maxDownloadSizeLimit": 2048,
"defaultCompressionQuality": 75,
"defaultResamplingMethod": "Bilinear",
"maxImageHeight": 4100,
"maxImageWidth": 15000,
"maxRecordCount": 1000,
"maxDownloadImageCount": 20,
"maxMosaicImageCount": 20,
"allowRasterFunction": true,
"rasterFunctionInfos": [
{
"name": "None",
"description": "Make a Raster or Raster Dataset into a Function Raster Dataset.",
"help": ""
},
{
"name": "Color-infrared (CIR) Easements",
"description": "Color-infrared (CIR) ",
"help": "Natural Color: Red: Band 4, Green: Band 1, Blue: Band 2, Strectch type: None\nCIR, is short for Color Infrared. Here it refers to rendering a multi-spectral imagery (generally at least 4 or more bands) with NIR (Near Infrared) band, Red band and Green band for the three color guns of Red, Green and Blue, respectively. The resulting image is good for delineating plants, such as its species and biomass. It can also be used in estimating soil moisture and water clarity, and among other uses."
},
{
"name": "Natural Color Easements",
"description": "Natural Color Display",
"help": "Natural Color: Red: Band 1, Green: Band 2, Blue: Band 3, Strectch type: None"
}
],
"rasterTypeInfos": [
{
"name": "Raster Dataset",
"description": "Supports all ArcGIS Raster Datasets",
"help": ""
}
],
"mensurationCapabilities": "None",
"hasHistograms": true,
"hasColormap": false,
"hasRasterAttributeTable": false,
"minScale": 0,
"maxScale": 0,
"exportTilesAllowed": false,
"hasMultidimensions": false,
"supportsStatistics": true,
"supportsAdvancedQueries": true,
"editFieldsInfo": null,
"ownershipBasedAccessControlForRasters": null,
"allowComputeTiePoints": false,
"useStandardizedQueries": true,
"advancedQueryCapabilities": {
"useStandardizedQueries": true,
"supportsStatistics": true,
"supportsOrderBy": true,
"supportsDistinct": true,
"supportsPagination": true
},
"spatialReference": {
"wkid": 102100,
"latestWkid": 3857
}
}