Report Service Errors<\/span><\/a><\/p><\/p>
<\/p>
<\/p>
<\/p><\/div><\/div><\/div>",
"extent": {
"xmin": -1.38429261642E7,
"ymin": 2928562.5100036827,
"xmax": -7570286.189319287,
"ymax": 6275650.496600002,
"spatialReference": {
"wkid": 102100,
"latestWkid": 3857
}
},
"initialExtent": {
"xmin": -1.38429261642E7,
"ymin": 2928562.5100036827,
"xmax": -7570286.189319287,
"ymax": 6275650.496600002,
"spatialReference": {
"wkid": 102100,
"latestWkid": 3857
}
},
"fullExtent": {
"xmin": -1.38429261642E7,
"ymin": 2928562.5100036827,
"xmax": -7570286.189319287,
"ymax": 6275650.496600002,
"spatialReference": {
"wkid": 102100,
"latestWkid": 3857
}
},
"pixelSizeX": 0.14999999939931305,
"pixelSizeY": 0.14999999939931305,
"datasetFormat": "AMD",
"uncompressedSize": 3732458323968000,
"blockWidth": 2048,
"blockHeight": 256,
"compressionType": "None",
"bandNames": [
"Band_1",
"Band_2",
"Band_3",
"Band_4"
],
"allowCopy": true,
"allowAnalysis": true,
"bandCount": 4,
"pixelType": "U8",
"minPixelSize": 0,
"maxPixelSize": 0,
"copyrightText": "",
"serviceDataType": "esriImageServiceDataTypeGeneric",
"serviceSourceType": "esriImageServiceSourceTypeMosaicDataset",
"minValues": [],
"maxValues": [],
"meanValues": [],
"stdvValues": [],
"objectIdField": "OBJECTID",
"fields": [
{
"name": "OBJECTID",
"type": "esriFieldTypeOID",
"alias": "OBJECTID",
"domain": null
},
{
"name": "Shape",
"type": "esriFieldTypeGeometry",
"alias": "Shape",
"domain": null
},
{
"name": "Name",
"type": "esriFieldTypeString",
"alias": "Name",
"domain": null,
"length": 200
},
{
"name": "Category",
"type": "esriFieldTypeInteger",
"alias": "Category",
"domain": {
"type": "codedValue",
"name": "MosaicCatalogItemCategoryDomain",
"description": "Catalog item categories.",
"codedValues": [
{
"name": "Unknown",
"code": 0
},
{
"name": "Primary",
"code": 1
},
{
"name": "Overview",
"code": 2
},
{
"name": "Unprocessed Overview",
"code": 3
},
{
"name": "Partial Overview",
"code": 4
},
{
"name": "Inactive",
"code": 5
},
{
"name": "Uploaded",
"code": 253
},
{
"name": "Incomplete",
"code": 254
},
{
"name": "Custom",
"code": 255
}
],
"mergePolicy": "esriMPTDefaultValue",
"splitPolicy": "esriSPTDefaultValue"
}
},
{
"name": "GroupName",
"type": "esriFieldTypeString",
"alias": "GroupName",
"domain": null,
"length": 100
},
{
"name": "ProductName",
"type": "esriFieldTypeString",
"alias": "ProductName",
"domain": null,
"length": 100
},
{
"name": "BatchUpdate",
"type": "esriFieldTypeString",
"alias": "BatchUpdate",
"domain": null,
"length": 9
},
{
"name": "EasementID",
"type": "esriFieldTypeString",
"alias": "Easement ID",
"domain": null,
"length": 255
},
{
"name": "FIPS",
"type": "esriFieldTypeString",
"alias": "FIPS",
"domain": null,
"length": 5
},
{
"name": "Latitude",
"type": "esriFieldTypeDouble",
"alias": "Latitude",
"domain": null
},
{
"name": "Longitude",
"type": "esriFieldTypeDouble",
"alias": "Longitude",
"domain": null
}
],
"capabilities": "Catalog,Mensuration,Download,Image,Metadata",
"defaultMosaicMethod": "Northwest",
"allowedMosaicMethods": "NorthWest,Center,LockRaster,ByAttribute,Nadir,Viewpoint,Seamline,None",
"sortField": "",
"sortValue": null,
"sortAscending": true,
"mosaicOperator": "First",
"maxDownloadSizeLimit": 2048,
"defaultCompressionQuality": 75,
"defaultResamplingMethod": "Bilinear",
"maxImageHeight": 4100,
"maxImageWidth": 15000,
"maxRecordCount": 1000,
"maxDownloadImageCount": 20,
"maxMosaicImageCount": 20,
"allowRasterFunction": true,
"rasterFunctionInfos": [
{
"name": "Natural Color Easements",
"description": "Natural Color Display",
"help": "Natural Color: Red: Band 1, Green: Band 2, Blue: Band 3, Strectch type: None"
},
{
"name": "Color-infrared (CIR) Easements",
"description": "Color-infrared (CIR) ",
"help": "Natural Color: Red: Band 4, Green: Band 1, Blue: Band 2, Strectch type: None\nCIR, is short for Color Infrared. Here it refers to rendering a multi-spectral imagery (generally at least 4 or more bands) with NIR (Near Infrared) band, Red band and Green band for the three color guns of Red, Green and Blue, respectively. The resulting image is good for delineating plants, such as its species and biomass. It can also be used in estimating soil moisture and water clarity, and among other uses."
},
{
"name": "None",
"description": "",
"help": ""
}
],
"rasterTypeInfos": [
{
"name": "Raster Dataset",
"description": "Supports all ArcGIS Raster Datasets",
"help": ""
}
],
"mensurationCapabilities": "Basic",
"hasHistograms": false,
"hasColormap": false,
"hasRasterAttributeTable": false,
"minScale": 0,
"maxScale": 0,
"exportTilesAllowed": false,
"hasMultidimensions": false,
"supportsStatistics": true,
"supportsAdvancedQueries": true,
"editFieldsInfo": null,
"ownershipBasedAccessControlForRasters": null,
"allowComputeTiePoints": false,
"useStandardizedQueries": true,
"advancedQueryCapabilities": {
"useStandardizedQueries": true,
"supportsStatistics": true,
"supportsOrderBy": true,
"supportsDistinct": true,
"supportsPagination": true
},
"spatialReference": {
"wkid": 102100,
"latestWkid": 3857
}
}