{
 "currentVersion": 10.81,
 "serviceDescription": "<div style='text-align:Left;'><div><div><p style='margin:0 0 0 0;'><span style='font-size:12pt'>FPAC-GEO developed the land change analysis tool (LCAT) to provide high resolution land cover maps derived from the National Agriculture Imagery Program (NAIP). These data are used by agencies within FPAC, USDA and academia to monitor agricultural activities, execute farm bill programs, assist with digital soil mapping and ecological site investigations, aid conservation easement monitoring, quantify disaster response, wildlife habitat monitoring and reducing wildlife-aircraft interactions around major domestic airports. As LCAT land cover data is inherently NAIP based, it has similar properties to its source imagery. LCAT land cover classes include barren, cropland, forest, grassland, shrub, urban, water, wetlands and ice. These classes were selected from a combination of the National Land Cover Database and USDA Farm Service Agency -common land unit (CLU) land cover types. <\/span><\/p><p><span style='font-weight:bold;font-size:12pt'>Purpose: <\/span><span style='font-size:12pt'>To provide land change analysis tool (LCAT) to provide high resolution land cover maps derived from the National Agriculture Imagery Program (NAIP).<\/span><\/p><p><span style='font-weight:bold;font-size:12pt'>Creation Date: <\/span><span style='font-size:12pt'>20240517<\/span><\/p><p><span style='font-weight:bold;font-size:12pt'>Publication Date: <\/span><span style='font-size:12pt'>20240517<\/span><\/p><p><span style='font-weight:bold;font-size:12pt'>Revision Date:<\/span><\/p><p><span style='font-weight:bold;font-size:12pt'>Refresh Cycle: <\/span><span style='font-size:12pt'>Periodically as new imagery becomes available.<\/span><\/p><p><span style='font-weight:bold;font-size:12pt'>Version: <\/span><span style='font-size:12pt'>1.0.0<\/span><\/p><p><span style='font-weight:bold;font-size:12pt'>Change Log: <\/span><span style='font-size:12pt'>Service Deployed<\/span><\/p><p><a href='mailto:usdafpacbc@servicenowservices.com?Subject=GEOSRV' target='_blank' style='text-decoration:underline;'><span style='font-weight:bold;font-size:12pt'>Report Service Errors<\/span><\/a><\/p><\/div><\/div><\/div>",
 "name": "land_use_land_cover/lcat2022",
 "description": "<div style='text-align:Left;'><div><div><p style='margin:0 0 0 0;'><span style='font-size:12pt'>FPAC-GEO developed the land change analysis tool (LCAT) to provide high resolution land cover maps derived from the National Agriculture Imagery Program (NAIP). These data are used by agencies within FPAC, USDA and academia to monitor agricultural activities, execute farm bill programs, assist with digital soil mapping and ecological site investigations, aid conservation easement monitoring, quantify disaster response, wildlife habitat monitoring and reducing wildlife-aircraft interactions around major domestic airports. As LCAT land cover data is inherently NAIP based, it has similar properties to its source imagery. LCAT land cover classes include barren, cropland, forest, grassland, shrub, urban, water, wetlands and ice. These classes were selected from a combination of the National Land Cover Database and USDA Farm Service Agency -common land unit (CLU) land cover types. <\/span><\/p><p><span style='font-weight:bold;font-size:12pt'>Purpose: <\/span><span style='font-size:12pt'>To provide land change analysis tool (LCAT) to provide high resolution land cover maps derived from the National Agriculture Imagery Program (NAIP).<\/span><\/p><p><span style='font-weight:bold;font-size:12pt'>Creation Date: <\/span><span style='font-size:12pt'>20240517<\/span><\/p><p><span style='font-weight:bold;font-size:12pt'>Publication Date: <\/span><span style='font-size:12pt'>20240517<\/span><\/p><p><span style='font-weight:bold;font-size:12pt'>Revision Date:<\/span><\/p><p><span style='font-weight:bold;font-size:12pt'>Refresh Cycle: <\/span><span style='font-size:12pt'>Periodically as new imagery becomes available.<\/span><\/p><p><span style='font-weight:bold;font-size:12pt'>Version: <\/span><span style='font-size:12pt'>1.0.0<\/span><\/p><p><span style='font-weight:bold;font-size:12pt'>Change Log: <\/span><span style='font-size:12pt'>Service Deployed<\/span><\/p><p><a href='mailto:usdafpacbc@servicenowservices.com?Subject=GEOSRV' target='_blank' style='text-decoration:underline;'><span style='font-weight:bold;font-size:12pt'>Report Service Errors<\/span><\/a><\/p><\/div><\/div><\/div>",
 "extent": {
  "xmin": -1.21412853999E7,
  "ymin": 3672912.8693001643,
  "xmax": -9913749.399900222,
  "ymax": 5322168.8693,
  "spatialReference": {
   "wkid": 102100,
   "latestWkid": 3857
  }
 },
 "initialExtent": {
  "xmin": -1.21412853999E7,
  "ymin": 3672912.8693001643,
  "xmax": -9913749.399900222,
  "ymax": 5322168.8693,
  "spatialReference": {
   "wkid": 102100,
   "latestWkid": 3857
  }
 },
 "fullExtent": {
  "xmin": -1.21412853999E7,
  "ymin": 3672912.8693001643,
  "xmax": -9913749.399900222,
  "ymax": 5322168.8693,
  "spatialReference": {
   "wkid": 102100,
   "latestWkid": 3857
  }
 },
 "pixelSizeX": 0.5999999999999402,
 "pixelSizeY": 0.5999999999999404,
 "datasetFormat": "AMD",
 "uncompressedSize": 40819745702400,
 "blockWidth": 2048,
 "blockHeight": 256,
 "compressionType": "None",
 "bandNames": [
  "Band_1"
 ],
 "allowCopy": true,
 "allowAnalysis": true,
 "bandCount": 1,
 "pixelType": "U32",
 "minPixelSize": 0,
 "maxPixelSize": 0,
 "copyrightText": "",
 "serviceDataType": "esriImageServiceDataTypeThematic",
 "serviceSourceType": "esriImageServiceSourceTypeMosaicDataset",
 "minValues": [
  0
 ],
 "maxValues": [
  8
 ],
 "meanValues": [
  3.4960304198323024
 ],
 "stdvValues": [
  1.1057241386796401
 ],
 "objectIdField": "OBJECTID",
 "fields": [
  {
   "name": "OBJECTID",
   "type": "esriFieldTypeOID",
   "alias": "OBJECTID",
   "domain": null
  },
  {
   "name": "Shape",
   "type": "esriFieldTypeGeometry",
   "alias": "Shape",
   "domain": null
  },
  {
   "name": "Name",
   "type": "esriFieldTypeString",
   "alias": "Name",
   "domain": null,
   "length": 200
  },
  {
   "name": "Category",
   "type": "esriFieldTypeInteger",
   "alias": "Category",
   "domain": {
    "type": "codedValue",
    "name": "MosaicCatalogItemCategoryDomain",
    "description": "Catalog item categories.",
    "codedValues": [
     {
      "name": "Unknown",
      "code": 0
     },
     {
      "name": "Primary",
      "code": 1
     },
     {
      "name": "Overview",
      "code": 2
     },
     {
      "name": "Unprocessed Overview",
      "code": 3
     },
     {
      "name": "Partial Overview",
      "code": 4
     },
     {
      "name": "Inactive",
      "code": 5
     },
     {
      "name": "Uploaded",
      "code": 253
     },
     {
      "name": "Incomplete",
      "code": 254
     },
     {
      "name": "Custom",
      "code": 255
     }
    ],
    "mergePolicy": "esriMPTDefaultValue",
    "splitPolicy": "esriSPTDefaultValue"
   }
  },
  {
   "name": "CenterX",
   "type": "esriFieldTypeDouble",
   "alias": "CenterX",
   "domain": null
  },
  {
   "name": "CenterY",
   "type": "esriFieldTypeDouble",
   "alias": "CenterY",
   "domain": null
  },
  {
   "name": "Shape_Length",
   "type": "esriFieldTypeDouble",
   "alias": "Shape_Length",
   "domain": null
  },
  {
   "name": "Shape_Area",
   "type": "esriFieldTypeDouble",
   "alias": "Shape_Area",
   "domain": null
  }
 ],
 "capabilities": "Catalog,Mensuration,Image,Metadata",
 "defaultMosaicMethod": "Northwest",
 "allowedMosaicMethods": "NorthWest,Center,LockRaster,ByAttribute,Nadir,Viewpoint,Seamline,None",
 "sortField": "",
 "sortValue": null,
 "sortAscending": true,
 "mosaicOperator": "First",
 "maxDownloadSizeLimit": 2048,
 "defaultCompressionQuality": 75,
 "defaultResamplingMethod": "Bilinear",
 "maxImageHeight": 4100,
 "maxImageWidth": 15000,
 "maxRecordCount": 1000,
 "maxDownloadImageCount": 20,
 "maxMosaicImageCount": 20,
 "allowRasterFunction": true,
 "rasterFunctionInfos": [
  {
   "name": "None",
   "description": "Make a Raster or Raster Dataset into a Function Raster Dataset.",
   "help": ""
  }
 ],
 "rasterTypeInfos": [
  {
   "name": "Raster Dataset",
   "description": "Supports all ArcGIS Raster Datasets",
   "help": ""
  }
 ],
 "mensurationCapabilities": "Basic",
 "hasHistograms": true,
 "hasColormap": false,
 "hasRasterAttributeTable": true,
 "minScale": 0,
 "maxScale": 0,
 "exportTilesAllowed": false,
 "hasMultidimensions": false,
 "supportsStatistics": true,
 "supportsAdvancedQueries": true,
 "editFieldsInfo": null,
 "ownershipBasedAccessControlForRasters": null,
 "allowComputeTiePoints": false,
 "useStandardizedQueries": true,
 "advancedQueryCapabilities": {
  "useStandardizedQueries": true,
  "supportsStatistics": true,
  "supportsOrderBy": true,
  "supportsDistinct": true,
  "supportsPagination": true
 },
 "spatialReference": {
  "wkid": 102100,
  "latestWkid": 3857
 }
}
