The Alaska High Altitude Photography (AHAP) covers approximately 90% of the State of Alaska in 1:60,000 color infrared (CIR). The AHAP film rolls were scanned at United States Geological Survey (USGS), Earth Resources Observation and Sciences (EROS) using high resolution aerial roll film scanners. The images were scanned at a resolution of 25 microns (approximately 1,000 dpi) in three spectral bands (RGB). The individual image scans were provided to USDA FPAC BC GEO BRANCH for post processing into orthorectified image mosaics. USGS EROS Data Center and USDA FPAC BC GEO BRANCH also provided nominal photo center coordinates for each image along with the camera calibration information. Orthorectification processing used 5 meter Alaska Digital Elevation Models (DEMs) - USGS National Map 3DEP for vertical registration. Horizontal registration used the Maxar Technologies Vivid Basemap Imagery datasets for Alaska. The Maxar datasets were provided for AHAP processing by the US Department of Defense - National Geospatial-Intelligence Agency, National Reconnaissance Office, U.S. Geological Survey and the State of Alaska. The output orthomosaic tiles are rendered as a target resolution of 1.5 meter GSD and are delivered in a Decimal Degrees, Spheroid-WGS 1984, Datum-WGS 1984 projection for which the majority of the cell footprint falls. Horizontal accuracy of 10 meters at 95% confidence in lower elevation areas with cultural landmarks (urban areas) and 20 meters confidence in Glaciers/Mountains. The orthomosaic cells have a designed overlap of 100 meter buffer on all sides. File format LZW compressed GeoTIFF format. AHAP DOQ is 1:25,000 scale tile (7.5 degrees latitude by 15 degrees longitude). There was no attempt to color balance the mosaic images. Thus, significant differences in color, including striping between adjacent flight lines and images is present in the mosaics. Where multiple images were collected for a single design photo center, the newest available scan was used. Note that there are some areas that were not collected in the AHAP program collections. Multiple image dates of AHAP imagery may be within one image tile.<\/span><\/p>Purpose: <\/span>To provide USDA-NRCS, its partners and the public with updated digital orthographic imagery from the Alaska High Altitude Photography (AHAP) program.<\/span><\/p>Creation Date:<\/span> 19780101-19861231<\/span><\/p>Publication Date: <\/span>20220802<\/span><\/p>Revision Date: <\/span>20241024<\/span><\/p>Refresh Cycle: <\/span>Updated periodically as new imagery becomes available<\/span><\/p>Version: <\/span>1.3.0<\/span><\/p>Change Log:<\/span> Service deployed.<\/span><\/p>Report Service Errors<\/span><\/a><\/p><\/div><\/div><\/div>",
"extent": {
"xmin": -1.91471237386E7,
"ymin": 6963651.556100022,
"xmax": -1.4434147738600027E7,
"ymax": 1.0301571556100003E7,
"spatialReference": {
"wkid": 102100,
"latestWkid": 3857
}
},
"initialExtent": {
"xmin": -1.91471237386E7,
"ymin": 6963651.556100022,
"xmax": -1.4434147738600027E7,
"ymax": 1.0301571556100003E7,
"spatialReference": {
"wkid": 102100,
"latestWkid": 3857
}
},
"fullExtent": {
"xmin": -1.91471237386E7,
"ymin": 6963651.556100022,
"xmax": -1.4434147738600027E7,
"ymax": 1.0301571556100003E7,
"spatialReference": {
"wkid": 102100,
"latestWkid": 3857
}
},
"pixelSizeX": 0.9999999999999944,
"pixelSizeY": 0.9999999999999944,
"datasetFormat": "AMD",
"uncompressedSize": 47194610549760,
"blockWidth": 2048,
"blockHeight": 256,
"compressionType": "None",
"bandNames": [
"Band_1",
"Band_2",
"Band_3"
],
"allowCopy": true,
"allowAnalysis": true,
"bandCount": 3,
"pixelType": "U8",
"minPixelSize": 0,
"maxPixelSize": 0,
"copyrightText": "",
"serviceDataType": "esriImageServiceDataTypeRGB",
"serviceSourceType": "esriImageServiceSourceTypeMosaicDataset",
"minValues": [],
"maxValues": [],
"meanValues": [],
"stdvValues": [],
"objectIdField": "OBJECTID",
"fields": [
{
"name": "OBJECTID",
"type": "esriFieldTypeOID",
"alias": "OBJECTID",
"domain": null
},
{
"name": "Shape",
"type": "esriFieldTypeGeometry",
"alias": "Shape",
"domain": null
},
{
"name": "Name",
"type": "esriFieldTypeString",
"alias": "Name",
"domain": null,
"length": 200
},
{
"name": "Category",
"type": "esriFieldTypeInteger",
"alias": "Category",
"domain": {
"type": "codedValue",
"name": "MosaicCatalogItemCategoryDomain",
"description": "Catalog item categories.",
"codedValues": [
{
"name": "Unknown",
"code": 0
},
{
"name": "Primary",
"code": 1
},
{
"name": "Overview",
"code": 2
},
{
"name": "Unprocessed Overview",
"code": 3
},
{
"name": "Partial Overview",
"code": 4
},
{
"name": "Inactive",
"code": 5
},
{
"name": "Uploaded",
"code": 253
},
{
"name": "Incomplete",
"code": 254
},
{
"name": "Custom",
"code": 255
}
],
"mergePolicy": "esriMPTDefaultValue",
"splitPolicy": "esriSPTDefaultValue"
}
},
{
"name": "CenterX",
"type": "esriFieldTypeDouble",
"alias": "CenterX",
"domain": null
},
{
"name": "CenterY",
"type": "esriFieldTypeDouble",
"alias": "CenterY",
"domain": null
},
{
"name": "Shape_Area",
"type": "esriFieldTypeDouble",
"alias": "Shape_Area",
"domain": null
}
],
"capabilities": "Catalog,Mensuration,Download,Image,Metadata",
"defaultMosaicMethod": "Northwest",
"allowedMosaicMethods": "NorthWest,Center,LockRaster,ByAttribute,Nadir,Viewpoint,Seamline,None",
"sortField": "",
"sortValue": null,
"sortAscending": true,
"mosaicOperator": "First",
"maxDownloadSizeLimit": 2048,
"defaultCompressionQuality": 75,
"defaultResamplingMethod": "Bilinear",
"maxImageHeight": 4100,
"maxImageWidth": 15000,
"maxRecordCount": 1000,
"maxDownloadImageCount": 20,
"maxMosaicImageCount": 20,
"allowRasterFunction": true,
"rasterFunctionInfos": [
{
"name": "None",
"description": "Make a Raster or Raster Dataset into a Function Raster Dataset.",
"help": ""
}
],
"rasterTypeInfos": [
{
"name": "Raster Dataset",
"description": "Supports all ArcGIS Raster Datasets",
"help": ""
}
],
"mensurationCapabilities": "Basic",
"hasHistograms": false,
"hasColormap": false,
"hasRasterAttributeTable": false,
"minScale": 0,
"maxScale": 0,
"exportTilesAllowed": false,
"hasMultidimensions": false,
"supportsStatistics": true,
"supportsAdvancedQueries": true,
"editFieldsInfo": null,
"ownershipBasedAccessControlForRasters": null,
"allowComputeTiePoints": false,
"useStandardizedQueries": true,
"advancedQueryCapabilities": {
"useStandardizedQueries": true,
"supportsStatistics": true,
"supportsOrderBy": true,
"supportsDistinct": true,
"supportsPagination": true
},
"spatialReference": {
"wkid": 102100,
"latestWkid": 3857
}
}