The Alaska Vivid imagery is a licensed dataset from DigitalGlobe with Maxar Intelligence. USDA-FPAC acquired the license in 2020. All imagery is 4-band GeoTiffs, uncompressed with 8-bit color. The imagery was collected at 0.5 meter resolution and is projected in WGS 1984 Web Mercator (auxiliary sphere).<\/span><\/p>Purpose: <\/span>To provide users with Alaska Imagery.<\/span><\/p>Creation Date: <\/span>20210407<\/span><\/p>Publication Date: <\/span>20210407<\/span><\/p>Revision Date: <\/span>20210407<\/span><\/p>Refresh Cycle: <\/span>Periodically as new imagery becomes available<\/span><\/p>Version: <\/span>1.0.0<\/span><\/p>Change Log:<\/span> Service Deployed<\/span><\/p>Report Service Errors<\/span><\/a><\/p><\/div><\/div><\/div>",
"extent": {
"xmin": -1.99494528862E7,
"ymin": 6648285.801412759,
"xmax": 2.0017940463552956E7,
"ymax": 1.1559698593800003E7,
"spatialReference": {
"wkid": 102100,
"latestWkid": 3857
}
},
"initialExtent": {
"xmin": -1.99494528862E7,
"ymin": 6648285.801412759,
"xmax": 2.0017940463552956E7,
"ymax": 1.1559698593800003E7,
"spatialReference": {
"wkid": 102100,
"latestWkid": 3857
}
},
"fullExtent": {
"xmin": -1.99494528862E7,
"ymin": 6648285.801412759,
"xmax": 2.0017940463552956E7,
"ymax": 1.1559698593800003E7,
"spatialReference": {
"wkid": 102100,
"latestWkid": 3857
}
},
"pixelSizeX": 0.49958842016455063,
"pixelSizeY": 0.4995884201645506,
"datasetFormat": "AMD",
"uncompressedSize": 3145918927150080,
"blockWidth": 2048,
"blockHeight": 256,
"compressionType": "None",
"bandNames": [
"Band_1",
"Band_2",
"Band_3",
"Band_4"
],
"allowCopy": true,
"allowAnalysis": true,
"bandCount": 4,
"pixelType": "U8",
"minPixelSize": 0,
"maxPixelSize": 0,
"copyrightText": "Alaska Imagery Service provided by USDA-FPAC. Images provided by © 2020 Maxar Technologies Inc.",
"serviceDataType": "esriImageServiceDataTypeGeneric",
"serviceSourceType": "esriImageServiceSourceTypeMosaicDataset",
"minValues": [
11,
3,
1,
1
],
"maxValues": [
255,
255,
255,
255
],
"meanValues": [
74.60820224719184,
94.02539325842824,
86.91366292134876,
86.55528089887677
],
"stdvValues": [
35.6553115659285,
32.81954556997999,
36.633056930666825,
29.419935357510848
],
"objectIdField": "OBJECTID",
"fields": [
{
"name": "OBJECTID",
"type": "esriFieldTypeOID",
"alias": "OBJECTID",
"domain": null
},
{
"name": "Shape",
"type": "esriFieldTypeGeometry",
"alias": "Shape",
"domain": null
},
{
"name": "Name",
"type": "esriFieldTypeString",
"alias": "Name",
"domain": null,
"length": 200
},
{
"name": "Category",
"type": "esriFieldTypeInteger",
"alias": "Category",
"domain": {
"type": "codedValue",
"name": "MosaicCatalogItemCategoryDomain",
"description": "Catalog item categories.",
"codedValues": [
{
"name": "Unknown",
"code": 0
},
{
"name": "Primary",
"code": 1
},
{
"name": "Overview",
"code": 2
},
{
"name": "Unprocessed Overview",
"code": 3
},
{
"name": "Partial Overview",
"code": 4
},
{
"name": "Inactive",
"code": 5
},
{
"name": "Uploaded",
"code": 253
},
{
"name": "Incomplete",
"code": 254
},
{
"name": "Custom",
"code": 255
}
],
"mergePolicy": "esriMPTDefaultValue",
"splitPolicy": "esriSPTDefaultValue"
}
},
{
"name": "CenterX",
"type": "esriFieldTypeDouble",
"alias": "CenterX",
"domain": null
},
{
"name": "CenterY",
"type": "esriFieldTypeDouble",
"alias": "CenterY",
"domain": null
}
],
"capabilities": "Catalog,Image,Metadata",
"defaultMosaicMethod": "Northwest",
"allowedMosaicMethods": "NorthWest,Center,LockRaster,ByAttribute,Nadir,Viewpoint,Seamline,None",
"sortField": "",
"sortValue": null,
"sortAscending": true,
"mosaicOperator": "First",
"maxDownloadSizeLimit": 2048,
"defaultCompressionQuality": 75,
"defaultResamplingMethod": "Bilinear",
"maxImageHeight": 4100,
"maxImageWidth": 15000,
"maxRecordCount": 1000,
"maxDownloadImageCount": 20,
"maxMosaicImageCount": 50,
"allowRasterFunction": true,
"rasterFunctionInfos": [
{
"name": "Natural Color",
"description": "Natural Color (Bands 3, 2, 1)",
"help": ""
},
{
"name": "None",
"description": "Make a Raster or Raster Dataset into a Function Raster Dataset.",
"help": ""
},
{
"name": "Color Infrared (CIR)",
"description": "Color Infrared (CIR)",
"help": "Color Infrared (CIR): Red: Band 4, Green: Band 3, Blue: band 2, Standard Deviation stretch type: 6.5 deviations"
}
],
"rasterTypeInfos": [
{
"name": "Raster Dataset",
"description": "Supports all ArcGIS Raster Datasets",
"help": ""
}
],
"mensurationCapabilities": "None",
"hasHistograms": true,
"hasColormap": false,
"hasRasterAttributeTable": false,
"minScale": 0,
"maxScale": 0,
"exportTilesAllowed": false,
"hasMultidimensions": false,
"supportsStatistics": true,
"supportsAdvancedQueries": true,
"editFieldsInfo": null,
"ownershipBasedAccessControlForRasters": null,
"allowComputeTiePoints": false,
"useStandardizedQueries": true,
"advancedQueryCapabilities": {
"useStandardizedQueries": true,
"supportsStatistics": true,
"supportsOrderBy": true,
"supportsDistinct": true,
"supportsPagination": true
},
"spatialReference": {
"wkid": 102100,
"latestWkid": 3857
}
}