{
 "currentVersion": 10.81,
 "serviceDescription": "<div style='text-align:Left;'><div><div><div style='font-size:12pt'><p><span>This metadata service provides information about the imagery collected for the CNMI islands. Attributes include acquisition date, sensor, off_nadir, sun elevation, cloud cover, accuracy, resolution and image date. This is a licensed dataset from Maxar <\/span><span>Intelligence.<\/span><\/p><p><span style='font-weight:bold;'>Purpose: <\/span><span>To provide USDA-NRCS, its partners and the public with updated digital orthographic imagery and metadata covering the CNMI Islands.<\/span><\/p><p><span style='font-weight:bold;'>Creation Date:<\/span><span> 20210624<\/span><\/p><p><span style='font-weight:bold;'>Publication Date: <\/span><span>20210624<\/span><\/p><p><span style='font-weight:bold;'>Revision Date: <\/span><span>20210624<\/span><\/p><p><span style='font-weight:bold;'>Refresh Cycle: <\/span><span>Updated periodically as new imagery becomes available<\/span><\/p><p><span style='font-weight:bold;'>Version: <\/span><span>1.0.0<\/span><\/p><p><span style='font-weight:bold;'>Change Log:<\/span><span> Service Deployed<\/span><\/p><p><a href='mailto:usdafpacbc@servicenowservices.com?Subject=GEOSRV' target='_blank' style='text-decoration:underline;'><span style='font-weight:bold;'>Report Service Errors<\/span><\/a><\/p><p><span /><\/p><\/div><p><span /><\/p><p><span /><\/p><p><span /><\/p><\/div><\/div><\/div>",
 "name": "ortho_imagery/cnmi_vivid_2020_50cm",
 "description": "<div style='text-align:Left;'><div><div><div style='font-size:12pt'><p><span>This metadata service provides information about the imagery collected for the CNMI islands. Attributes include acquisition date, sensor, off_nadir, sun elevation, cloud cover, accuracy, resolution and image date. This is a licensed dataset from Maxar <\/span><span>Intelligence.<\/span><\/p><p><span style='font-weight:bold;'>Purpose: <\/span><span>To provide USDA-NRCS, its partners and the public with updated digital orthographic imagery and metadata covering the CNMI Islands.<\/span><\/p><p><span style='font-weight:bold;'>Creation Date:<\/span><span> 20210624<\/span><\/p><p><span style='font-weight:bold;'>Publication Date: <\/span><span>20210624<\/span><\/p><p><span style='font-weight:bold;'>Revision Date: <\/span><span>20210624<\/span><\/p><p><span style='font-weight:bold;'>Refresh Cycle: <\/span><span>Updated periodically as new imagery becomes available<\/span><\/p><p><span style='font-weight:bold;'>Version: <\/span><span>1.0.0<\/span><\/p><p><span style='font-weight:bold;'>Change Log:<\/span><span> Service Deployed<\/span><\/p><p><a href='mailto:usdafpacbc@servicenowservices.com?Subject=GEOSRV' target='_blank' style='text-decoration:underline;'><span style='font-weight:bold;'>Report Service Errors<\/span><\/a><\/p><p><span /><\/p><\/div><p><span /><\/p><p><span /><\/p><p><span /><\/p><\/div><\/div><\/div>",
 "extent": {
  "xmin": 1.6123932494599998E7,
  "ymin": 1581387.8049152927,
  "xmax": 1.6270691588907536E7,
  "ymax": 2340251.6242000014,
  "spatialReference": {
   "wkid": 102100,
   "latestWkid": 3857
  }
 },
 "initialExtent": {
  "xmin": 1.6123932494599998E7,
  "ymin": 1581387.8049152927,
  "xmax": 1.6270691588907536E7,
  "ymax": 2340251.6242000014,
  "spatialReference": {
   "wkid": 102100,
   "latestWkid": 3857
  }
 },
 "fullExtent": {
  "xmin": 1.6123932494599998E7,
  "ymin": 1581387.8049152927,
  "xmax": 1.6270691588907536E7,
  "ymax": 2340251.6242000014,
  "spatialReference": {
   "wkid": 102100,
   "latestWkid": 3857
  }
 },
 "pixelSizeX": 0.4995884201645497,
 "pixelSizeY": 0.4995884201645506,
 "datasetFormat": "AMD",
 "uncompressedSize": 1784859909120,
 "blockWidth": 2048,
 "blockHeight": 256,
 "compressionType": "None",
 "bandNames": [
  "Band_1",
  "Band_2",
  "Band_3",
  "Band_4"
 ],
 "allowCopy": true,
 "allowAnalysis": true,
 "bandCount": 4,
 "pixelType": "U8",
 "minPixelSize": 0,
 "maxPixelSize": 0,
 "copyrightText": "CNMI Imagery Service provided by USDA-FPAC. Images provided by © 2021 Maxar Intelligence.",
 "serviceDataType": "esriImageServiceDataTypeGeneric",
 "serviceSourceType": "esriImageServiceSourceTypeMosaicDataset",
 "minValues": [
  2,
  3,
  1,
  1
 ],
 "maxValues": [
  239,
  237,
  241,
  207
 ],
 "meanValues": [
  64.95390562516621,
  47.472887230072004,
  35.98675019994679,
  38.33343108504413
 ],
 "stdvValues": [
  18.011800190105774,
  25.49698390561445,
  24.22808915954679,
  29.063859989479294
 ],
 "objectIdField": "OBJECTID",
 "fields": [
  {
   "name": "OBJECTID",
   "type": "esriFieldTypeOID",
   "alias": "OBJECTID",
   "domain": null
  },
  {
   "name": "Shape",
   "type": "esriFieldTypeGeometry",
   "alias": "Shape",
   "domain": null
  },
  {
   "name": "Name",
   "type": "esriFieldTypeString",
   "alias": "Name",
   "domain": null,
   "length": 200
  },
  {
   "name": "Category",
   "type": "esriFieldTypeInteger",
   "alias": "Category",
   "domain": {
    "type": "codedValue",
    "name": "MosaicCatalogItemCategoryDomain",
    "description": "Catalog item categories.",
    "codedValues": [
     {
      "name": "Unknown",
      "code": 0
     },
     {
      "name": "Primary",
      "code": 1
     },
     {
      "name": "Overview",
      "code": 2
     },
     {
      "name": "Unprocessed Overview",
      "code": 3
     },
     {
      "name": "Partial Overview",
      "code": 4
     },
     {
      "name": "Inactive",
      "code": 5
     },
     {
      "name": "Uploaded",
      "code": 253
     },
     {
      "name": "Incomplete",
      "code": 254
     },
     {
      "name": "Custom",
      "code": 255
     }
    ],
    "mergePolicy": "esriMPTDefaultValue",
    "splitPolicy": "esriSPTDefaultValue"
   }
  },
  {
   "name": "CenterX",
   "type": "esriFieldTypeDouble",
   "alias": "CenterX",
   "domain": null
  },
  {
   "name": "CenterY",
   "type": "esriFieldTypeDouble",
   "alias": "CenterY",
   "domain": null
  },
  {
   "name": "Shape_Length",
   "type": "esriFieldTypeDouble",
   "alias": "Shape_Length",
   "domain": null
  },
  {
   "name": "Shape_Area",
   "type": "esriFieldTypeDouble",
   "alias": "Shape_Area",
   "domain": null
  }
 ],
 "capabilities": "Catalog,Image,Metadata",
 "defaultMosaicMethod": "Northwest",
 "allowedMosaicMethods": "NorthWest,Center,LockRaster,ByAttribute,Nadir,Viewpoint,Seamline,None",
 "sortField": "",
 "sortValue": null,
 "sortAscending": true,
 "mosaicOperator": "First",
 "maxDownloadSizeLimit": 2048,
 "defaultCompressionQuality": 75,
 "defaultResamplingMethod": "Bilinear",
 "maxImageHeight": 4100,
 "maxImageWidth": 15000,
 "maxRecordCount": 1000,
 "maxDownloadImageCount": 20,
 "maxMosaicImageCount": 20,
 "allowRasterFunction": true,
 "rasterFunctionInfos": [
  {
   "name": "Natural Color No Stretch",
   "description": "Natural Color Red 3, Green 2, Blue 1",
   "help": ""
  },
  {
   "name": "Color Infrared (CIR) No Stretch",
   "description": "RGB (Red 4, Green 3, Blue 2)",
   "help": ""
  },
  {
   "name": "None",
   "description": "",
   "help": ""
  }
 ],
 "rasterTypeInfos": [
  {
   "name": "Raster Dataset",
   "description": "Supports all ArcGIS Raster Datasets",
   "help": ""
  }
 ],
 "mensurationCapabilities": "None",
 "hasHistograms": true,
 "hasColormap": false,
 "hasRasterAttributeTable": false,
 "minScale": 0,
 "maxScale": 0,
 "exportTilesAllowed": false,
 "hasMultidimensions": false,
 "supportsStatistics": true,
 "supportsAdvancedQueries": true,
 "editFieldsInfo": null,
 "ownershipBasedAccessControlForRasters": null,
 "allowComputeTiePoints": false,
 "useStandardizedQueries": true,
 "advancedQueryCapabilities": {
  "useStandardizedQueries": true,
  "supportsStatistics": true,
  "supportsOrderBy": true,
  "supportsDistinct": true,
  "supportsPagination": true
 },
 "spatialReference": {
  "wkid": 102100,
  "latestWkid": 3857
 }
}
