{
 "currentVersion": 10.81,
 "serviceDescription": "<div style='text-align:Left;'><div><div><p style='font-size:12pt'><span>The CNMI imagery is a licensed dataset from Maxar Intelligence. USDA-FPAC acquired the license in 2021. All imagery is 4 band (1: Blue, 2: Green, 3: Red, 4:IR) GeoTiffs, uncompressed, with 8 bit color. The imagery was collected at 0.5 meter resolution between 2014-2020 and is projected in WGS 1984 Web Mercator (auxiliary sphere). Raster functions include Natural Color and CIR.<\/span><\/p><p style='font-size:12pt'><span style='font-weight:bold;'>Purpose: <\/span><span>To provide USDA-NRCS, its partners and the public with updated digital orthographic imagery and metadata covering American Samoa.<\/span><\/p><p style='font-size:12pt'><span style='font-weight:bold;'>Creation Date:<\/span><span> 20230525<\/span><\/p><p style='font-size:12pt'><span style='font-weight:bold;'>Publication Date: <\/span><span>20230525<\/span><\/p><p style='font-size:12pt'><span style='font-weight:bold;'>Revision Date: <\/span><\/p><p style='font-size:12pt'><span style='font-weight:bold;'>Refresh Cycle: <\/span><span>Updated periodically as new imagery becomes available<\/span><\/p><p style='font-size:12pt'><span style='font-weight:bold;'>Version: <\/span><span>1.0.0<\/span><\/p><p style='font-size:12pt'><span style='font-weight:bold;'>Change Log:<\/span><span> Service Deployed<\/span><\/p><p style='font-size:12pt'><a href='mailto:usdafpacbc@servicenowservices.com?Subject=GEOSRV' style='text-decoration:underline;'><span style='font-weight:bold;'>Report Service Errors<\/span><\/a><\/p><\/div><\/div><\/div>",
 "name": "ortho_imagery/cnmi_vivid_2022_30cm",
 "description": "<div style='text-align:Left;'><div><div><p style='font-size:12pt'><span>The CNMI imagery is a licensed dataset from Maxar Intelligence. USDA-FPAC acquired the license in 2021. All imagery is 4 band (1: Blue, 2: Green, 3: Red, 4:IR) GeoTiffs, uncompressed, with 8 bit color. The imagery was collected at 0.5 meter resolution between 2014-2020 and is projected in WGS 1984 Web Mercator (auxiliary sphere). Raster functions include Natural Color and CIR.<\/span><\/p><p style='font-size:12pt'><span style='font-weight:bold;'>Purpose: <\/span><span>To provide USDA-NRCS, its partners and the public with updated digital orthographic imagery and metadata covering American Samoa.<\/span><\/p><p style='font-size:12pt'><span style='font-weight:bold;'>Creation Date:<\/span><span> 20230525<\/span><\/p><p style='font-size:12pt'><span style='font-weight:bold;'>Publication Date: <\/span><span>20230525<\/span><\/p><p style='font-size:12pt'><span style='font-weight:bold;'>Revision Date: <\/span><\/p><p style='font-size:12pt'><span style='font-weight:bold;'>Refresh Cycle: <\/span><span>Updated periodically as new imagery becomes available<\/span><\/p><p style='font-size:12pt'><span style='font-weight:bold;'>Version: <\/span><span>1.0.0<\/span><\/p><p style='font-size:12pt'><span style='font-weight:bold;'>Change Log:<\/span><span> Service Deployed<\/span><\/p><p style='font-size:12pt'><a href='mailto:usdafpacbc@servicenowservices.com?Subject=GEOSRV' style='text-decoration:underline;'><span style='font-weight:bold;'>Report Service Errors<\/span><\/a><\/p><\/div><\/div><\/div>",
 "extent": {
  "xmin": 1.6123932494599998E7,
  "ymin": 1581387.793206189,
  "xmax": 1.6266877500628963E7,
  "ymax": 2340251.6242000014,
  "spatialReference": {
   "wkid": 102100,
   "latestWkid": 3857
  }
 },
 "initialExtent": {
  "xmin": 1.6123932494599998E7,
  "ymin": 1581387.793206189,
  "xmax": 1.6266877500628963E7,
  "ymax": 2340251.6242000014,
  "spatialReference": {
   "wkid": 102100,
   "latestWkid": 3857
  }
 },
 "fullExtent": {
  "xmin": 1.6123932494599998E7,
  "ymin": 1581387.793206189,
  "xmax": 1.6266877500628963E7,
  "ymax": 2340251.6242000014,
  "spatialReference": {
   "wkid": 102100,
   "latestWkid": 3857
  }
 },
 "pixelSizeX": 0.2985821417389704,
 "pixelSizeY": 0.2985821417389697,
 "datasetFormat": "AMD",
 "uncompressedSize": 4867032738840,
 "blockWidth": 2048,
 "blockHeight": 256,
 "compressionType": "None",
 "bandNames": [
  "Band_1",
  "Band_2",
  "Band_3",
  "Band_4"
 ],
 "allowCopy": true,
 "allowAnalysis": true,
 "bandCount": 4,
 "pixelType": "U8",
 "minPixelSize": 0,
 "maxPixelSize": 0,
 "copyrightText": "CNMI Imagery Service provided by USDA-FPAC. Images provided by © 2022 Maxar Intelligence.",
 "serviceDataType": "esriImageServiceDataTypeGeneric",
 "serviceSourceType": "esriImageServiceSourceTypeMosaicDataset",
 "minValues": [],
 "maxValues": [],
 "meanValues": [],
 "stdvValues": [],
 "objectIdField": "OBJECTID",
 "fields": [
  {
   "name": "OBJECTID",
   "type": "esriFieldTypeOID",
   "alias": "OBJECTID",
   "domain": null
  },
  {
   "name": "Shape",
   "type": "esriFieldTypeGeometry",
   "alias": "Shape",
   "domain": null
  },
  {
   "name": "Name",
   "type": "esriFieldTypeString",
   "alias": "Name",
   "domain": null,
   "length": 200
  },
  {
   "name": "Category",
   "type": "esriFieldTypeInteger",
   "alias": "Category",
   "domain": {
    "type": "codedValue",
    "name": "MosaicCatalogItemCategoryDomain",
    "description": "Catalog item categories.",
    "codedValues": [
     {
      "name": "Unknown",
      "code": 0
     },
     {
      "name": "Primary",
      "code": 1
     },
     {
      "name": "Overview",
      "code": 2
     },
     {
      "name": "Unprocessed Overview",
      "code": 3
     },
     {
      "name": "Partial Overview",
      "code": 4
     },
     {
      "name": "Inactive",
      "code": 5
     },
     {
      "name": "Uploaded",
      "code": 253
     },
     {
      "name": "Incomplete",
      "code": 254
     },
     {
      "name": "Custom",
      "code": 255
     }
    ],
    "mergePolicy": "esriMPTDefaultValue",
    "splitPolicy": "esriSPTDefaultValue"
   }
  },
  {
   "name": "GroupName",
   "type": "esriFieldTypeString",
   "alias": "GroupName",
   "domain": null,
   "length": 100
  },
  {
   "name": "CenterX",
   "type": "esriFieldTypeDouble",
   "alias": "CenterX",
   "domain": null
  },
  {
   "name": "CenterY",
   "type": "esriFieldTypeDouble",
   "alias": "CenterY",
   "domain": null
  },
  {
   "name": "Shape_Length",
   "type": "esriFieldTypeDouble",
   "alias": "Shape_Length",
   "domain": null
  },
  {
   "name": "Shape_Area",
   "type": "esriFieldTypeDouble",
   "alias": "Shape_Area",
   "domain": null
  }
 ],
 "capabilities": "Catalog,Mensuration,Image,Metadata",
 "defaultMosaicMethod": "Northwest",
 "allowedMosaicMethods": "NorthWest,Center,LockRaster,ByAttribute,Nadir,Viewpoint,Seamline,None",
 "sortField": "",
 "sortValue": null,
 "sortAscending": true,
 "mosaicOperator": "First",
 "maxDownloadSizeLimit": 2048,
 "defaultCompressionQuality": 75,
 "defaultResamplingMethod": "Bilinear",
 "maxImageHeight": 4100,
 "maxImageWidth": 15000,
 "maxRecordCount": 1000,
 "maxDownloadImageCount": 20,
 "maxMosaicImageCount": 20,
 "allowRasterFunction": true,
 "rasterFunctionInfos": [
  {
   "name": "Natural Color No Stretch",
   "description": "Natural Color Red 3, Green 2, Blue 1",
   "help": ""
  },
  {
   "name": "Color Infrared (CIR) No Stretch",
   "description": "RGB (Red 4, Green 3, Blue 2)",
   "help": ""
  },
  {
   "name": "None",
   "description": "",
   "help": ""
  }
 ],
 "rasterTypeInfos": [
  {
   "name": "Raster Dataset",
   "description": "Supports all ArcGIS Raster Datasets",
   "help": ""
  }
 ],
 "mensurationCapabilities": "Basic",
 "hasHistograms": false,
 "hasColormap": false,
 "hasRasterAttributeTable": false,
 "minScale": 0,
 "maxScale": 0,
 "exportTilesAllowed": false,
 "hasMultidimensions": false,
 "supportsStatistics": true,
 "supportsAdvancedQueries": true,
 "editFieldsInfo": null,
 "ownershipBasedAccessControlForRasters": null,
 "allowComputeTiePoints": false,
 "useStandardizedQueries": true,
 "advancedQueryCapabilities": {
  "useStandardizedQueries": true,
  "supportsStatistics": true,
  "supportsOrderBy": true,
  "supportsDistinct": true,
  "supportsPagination": true
 },
 "spatialReference": {
  "wkid": 102100,
  "latestWkid": 3857
 }
}
