This image service provides information about the imagery collected for Guam. Attributes include center x and center y. This is a licensed dataset from Maxar <\/span>Intelligence.<\/span><\/p>Purpose: <\/span>To provide USDA-NRCS, its partners and the public with updated digital orthographic imagery covering Guam.<\/span><\/p>Creation Date:<\/span> 20230404<\/span><\/p>Publication Date: <\/span>20230404<\/span><\/p>Revision Date:<\/span><\/p>Refresh Cycle: <\/span>Updated periodically as new imagery becomes available<\/span><\/p>Version: <\/span>1.0.0<\/span><\/p>Change Log:<\/span> Service Deployed<\/span><\/p>Report Service Errors<\/span><\/a><\/p><\/div><\/div><\/div>",
"extent": {
"xmin": 1.60983078908E7,
"ymin": 1485892.277078231,
"xmax": 1.6137177911175862E7,
"ymax": 1535391.821700001,
"spatialReference": {
"wkid": 102100,
"latestWkid": 3857
}
},
"initialExtent": {
"xmin": 1.60983078908E7,
"ymin": 1485892.277078231,
"xmax": 1.6137177911175862E7,
"ymax": 1535391.821700001,
"spatialReference": {
"wkid": 102100,
"latestWkid": 3857
}
},
"fullExtent": {
"xmin": 1.60983078908E7,
"ymin": 1485892.277078231,
"xmax": 1.6137177911175862E7,
"ymax": 1535391.821700001,
"spatialReference": {
"wkid": 102100,
"latestWkid": 3857
}
},
"pixelSizeX": 0.29858214173897096,
"pixelSizeY": 0.2985821417389693,
"datasetFormat": "AMD",
"uncompressedSize": 86327329296,
"blockWidth": 2048,
"blockHeight": 256,
"compressionType": "None",
"bandNames": [
"Band_1",
"Band_2",
"Band_3",
"Band_4"
],
"allowCopy": true,
"allowAnalysis": true,
"bandCount": 4,
"pixelType": "U8",
"minPixelSize": 0,
"maxPixelSize": 0,
"copyrightText": "Guam Imagery Service provided by USDA-FPAC. Images provided by © 2022 Maxar Intelligence.",
"serviceDataType": "esriImageServiceDataTypeGeneric",
"serviceSourceType": "esriImageServiceSourceTypeMosaicDataset",
"minValues": [
0,
0,
0,
0
],
"maxValues": [
255,
255,
255,
255
],
"meanValues": [
59.010708616401516,
60.019995034297104,
44.27372148904309,
131.27129092462386
],
"stdvValues": [
40.02576106155629,
46.83645941856272,
52.90659424716836,
97.74703696468008
],
"objectIdField": "OBJECTID",
"fields": [
{
"name": "OBJECTID",
"type": "esriFieldTypeOID",
"alias": "OBJECTID",
"domain": null
},
{
"name": "Shape",
"type": "esriFieldTypeGeometry",
"alias": "Shape",
"domain": null
},
{
"name": "Name",
"type": "esriFieldTypeString",
"alias": "Name",
"domain": null,
"length": 200
},
{
"name": "Category",
"type": "esriFieldTypeInteger",
"alias": "Category",
"domain": {
"type": "codedValue",
"name": "MosaicCatalogItemCategoryDomain",
"description": "Catalog item categories.",
"codedValues": [
{
"name": "Unknown",
"code": 0
},
{
"name": "Primary",
"code": 1
},
{
"name": "Overview",
"code": 2
},
{
"name": "Unprocessed Overview",
"code": 3
},
{
"name": "Partial Overview",
"code": 4
},
{
"name": "Inactive",
"code": 5
},
{
"name": "Uploaded",
"code": 253
},
{
"name": "Incomplete",
"code": 254
},
{
"name": "Custom",
"code": 255
}
],
"mergePolicy": "esriMPTDefaultValue",
"splitPolicy": "esriSPTDefaultValue"
}
},
{
"name": "GroupName",
"type": "esriFieldTypeString",
"alias": "GroupName",
"domain": null,
"length": 100
},
{
"name": "CenterX",
"type": "esriFieldTypeDouble",
"alias": "CenterX",
"domain": null
},
{
"name": "CenterY",
"type": "esriFieldTypeDouble",
"alias": "CenterY",
"domain": null
},
{
"name": "Shape_Length",
"type": "esriFieldTypeDouble",
"alias": "Shape_Length",
"domain": null
},
{
"name": "Shape_Area",
"type": "esriFieldTypeDouble",
"alias": "Shape_Area",
"domain": null
}
],
"capabilities": "Catalog,Mensuration,Image,Metadata",
"defaultMosaicMethod": "Northwest",
"allowedMosaicMethods": "NorthWest,Center,LockRaster,ByAttribute,Nadir,Viewpoint,Seamline,None",
"sortField": "",
"sortValue": null,
"sortAscending": true,
"mosaicOperator": "First",
"maxDownloadSizeLimit": 2048,
"defaultCompressionQuality": 75,
"defaultResamplingMethod": "Bilinear",
"maxImageHeight": 4100,
"maxImageWidth": 15000,
"maxRecordCount": 1000,
"maxDownloadImageCount": 20,
"maxMosaicImageCount": 20,
"allowRasterFunction": true,
"rasterFunctionInfos": [
{
"name": "Natural Color No Stretch",
"description": "Natural Color Red 3, Green 2, Blue 1",
"help": ""
},
{
"name": "Color Infrared (CIR) No Stretch",
"description": "RGB (Red 4, Green 3, Blue 2)",
"help": ""
},
{
"name": "None",
"description": "",
"help": ""
}
],
"rasterTypeInfos": [
{
"name": "Raster Dataset",
"description": "Supports all ArcGIS Raster Datasets",
"help": ""
}
],
"mensurationCapabilities": "Basic",
"hasHistograms": true,
"hasColormap": false,
"hasRasterAttributeTable": false,
"minScale": 0,
"maxScale": 0,
"exportTilesAllowed": false,
"hasMultidimensions": false,
"supportsStatistics": true,
"supportsAdvancedQueries": true,
"editFieldsInfo": null,
"ownershipBasedAccessControlForRasters": null,
"allowComputeTiePoints": false,
"useStandardizedQueries": true,
"advancedQueryCapabilities": {
"useStandardizedQueries": true,
"supportsStatistics": true,
"supportsOrderBy": true,
"supportsDistinct": true,
"supportsPagination": true
},
"spatialReference": {
"wkid": 102100,
"latestWkid": 3857
}
}