The Hawaii Vivid imagery is a licensed dataset from DigitalGlobe with Maxar Technologies Inc. USDA-FPAC acquired the license in 2021. All imagery is 4 band (1: Blue, 2: Green, 3: REd, 4:IR) GeoTiffs, uncompressed, with 8 bit color. The imagery was collected at 0.5 meter resolution between 2014-2020 and is projected in WGS 1984 Web Mercator (auxiliary sphere). Raster functions include Natural Color, CIR and NDVI Colorized.<\/span><\/p>Purpose: <\/span>To provide users with Hawaiian Island Imagery.<\/span><\/p>Creation Date: <\/span>20210310<\/span><\/p>Publication Date: <\/span>20210310<\/span><\/p>Revision Date: <\/span>20210310<\/span><\/p>Refresh Cycle: <\/span>Periodically as new imagery becomes available<\/span><\/p>Version: <\/span>1.0.0<\/span><\/p>Change Log: <\/span>Service Deployed<\/span><\/p>Report Service Errors<\/span><\/a><\/p><\/div><\/div><\/div>",
"extent": {
"xmin": -1.78752576867E7,
"ymin": 2142752.123172769,
"xmax": -1.722951767174683E7,
"ymax": 2550231.9259000015,
"spatialReference": {
"wkid": 102100,
"latestWkid": 3857
}
},
"initialExtent": {
"xmin": -1.78752576867E7,
"ymin": 2142752.123172769,
"xmax": -1.722951767174683E7,
"ymax": 2550231.9259000015,
"spatialReference": {
"wkid": 102100,
"latestWkid": 3857
}
},
"fullExtent": {
"xmin": -1.78752576867E7,
"ymin": 2142752.123172769,
"xmax": -1.722951767174683E7,
"ymax": 2550231.9259000015,
"spatialReference": {
"wkid": 102100,
"latestWkid": 3857
}
},
"pixelSizeX": 0.49958842016455146,
"pixelSizeY": 0.49958842016455074,
"datasetFormat": "AMD",
"uncompressedSize": 4216955821056,
"blockWidth": 2048,
"blockHeight": 256,
"compressionType": "None",
"bandNames": [
"Band_1",
"Band_2",
"Band_3",
"Band_4"
],
"allowCopy": true,
"allowAnalysis": true,
"bandCount": 4,
"pixelType": "U8",
"minPixelSize": 0,
"maxPixelSize": 0,
"copyrightText": "Hawaii Imagery Service provided by USDA-FPAC. Images provided by © 2021 Maxar Technologies Inc.",
"serviceDataType": "esriImageServiceDataTypeGeneric",
"serviceSourceType": "esriImageServiceSourceTypeMosaicDataset",
"minValues": [
2,
1,
1,
0
],
"maxValues": [
252,
252,
253,
245
],
"meanValues": [
56.58135779018095,
59.89078935256824,
52.767311280887796,
57.31718868982388
],
"stdvValues": [
18.972806528443957,
26.105265299082284,
30.385280527834034,
31.980135113531365
],
"objectIdField": "OBJECTID",
"fields": [
{
"name": "OBJECTID",
"type": "esriFieldTypeOID",
"alias": "OBJECTID",
"domain": null
},
{
"name": "Shape",
"type": "esriFieldTypeGeometry",
"alias": "Shape",
"domain": null
},
{
"name": "Category",
"type": "esriFieldTypeInteger",
"alias": "Category",
"domain": {
"type": "codedValue",
"name": "MosaicCatalogItemCategoryDomain",
"description": "Catalog item categories.",
"codedValues": [
{
"name": "Unknown",
"code": 0
},
{
"name": "Primary",
"code": 1
},
{
"name": "Overview",
"code": 2
},
{
"name": "Unprocessed Overview",
"code": 3
},
{
"name": "Partial Overview",
"code": 4
},
{
"name": "Inactive",
"code": 5
},
{
"name": "Uploaded",
"code": 253
},
{
"name": "Incomplete",
"code": 254
},
{
"name": "Custom",
"code": 255
}
],
"mergePolicy": "esriMPTDefaultValue",
"splitPolicy": "esriSPTDefaultValue"
}
},
{
"name": "CenterX",
"type": "esriFieldTypeDouble",
"alias": "CenterX",
"domain": null
},
{
"name": "CenterY",
"type": "esriFieldTypeDouble",
"alias": "CenterY",
"domain": null
},
{
"name": "Shape_Length",
"type": "esriFieldTypeDouble",
"alias": "Shape_Length",
"domain": null
},
{
"name": "Shape_Area",
"type": "esriFieldTypeDouble",
"alias": "Shape_Area",
"domain": null
}
],
"capabilities": "Catalog,Image,Metadata",
"defaultMosaicMethod": "Northwest",
"allowedMosaicMethods": "NorthWest,Center,LockRaster,ByAttribute,Nadir,Viewpoint,Seamline,None",
"sortField": "",
"sortValue": null,
"sortAscending": true,
"mosaicOperator": "First",
"maxDownloadSizeLimit": 2048,
"defaultCompressionQuality": 75,
"defaultResamplingMethod": "Bilinear",
"maxImageHeight": 4100,
"maxImageWidth": 15000,
"maxRecordCount": 1000,
"maxDownloadImageCount": 20,
"maxMosaicImageCount": 20,
"allowRasterFunction": true,
"rasterFunctionInfos": [
{
"name": "Natural Color No Stretch",
"description": "Natural Color Red 3, Green 2, Blue 1",
"help": ""
},
{
"name": "Color Infrared (CIR) No Stretch",
"description": "RGB (Red 4, Green 3, Blue 2)",
"help": ""
},
{
"name": "None",
"description": "Make a Raster or Raster Dataset into a Function Raster Dataset.",
"help": ""
}
],
"rasterTypeInfos": [
{
"name": "Raster Dataset",
"description": "Supports all ArcGIS Raster Datasets",
"help": ""
}
],
"mensurationCapabilities": "None",
"hasHistograms": true,
"hasColormap": false,
"hasRasterAttributeTable": false,
"minScale": 0,
"maxScale": 0,
"exportTilesAllowed": false,
"hasMultidimensions": false,
"supportsStatistics": true,
"supportsAdvancedQueries": true,
"editFieldsInfo": null,
"ownershipBasedAccessControlForRasters": null,
"allowComputeTiePoints": false,
"useStandardizedQueries": true,
"advancedQueryCapabilities": {
"useStandardizedQueries": true,
"supportsStatistics": true,
"supportsOrderBy": true,
"supportsDistinct": true,
"supportsPagination": true
},
"spatialReference": {
"wkid": 102100,
"latestWkid": 3857
}
}