{ "currentVersion": 10.81, "serviceDescription": "

The NHAP photography were acquired at 40,000 feet above mean terrain and flight lines were centered on the 1:24,000-scale USGS map series. Two different camera systems were used; a 6 inch focal length lens was used to acquire B/W film at an approximate scale of 1:80,000 and an 8.25 inch lens was used to acquire CIR film at an approximate scale of 1:58,000.The NHAP film rolls were scanned at USDA FPAC BC GEO BRANCH using high resolution aerial roll film scanners. The images were scanned at a resolution of 12.5 microns (approximately 0.75 m GSD) in three spectral bands (RGB). The individual image scans were provided to USDA FPAC BC GEO BRANCH for post processing into orthorectified image mosaics. USDA FPAC BC GEO BRANCH also provided nominal photo center coordinates for each image along with the camera calibration information. The USGS NED 10m DTM for CONUS was used in the orthorectification process. The output orthomosaic tiles are rendered as a target resolution of 0.75m GSD and are delivered in a WGS 1984 UTM grid projection for which the majority of the cell footprint falls. The orthomosaic cells have a designed overlap of 40 pixels on all sides. The delivered orthomosaics have a target horizontal accuracy when measured against the NAIP imagery of +/- 10m. Control point information was derived from USDA FPAC BC GEO BRANCH provided control point files or from the reference NAIP imagery. Elevations for the control points were interpolated from the NED 10m elevation model. There was no attempt to color balance the mosaic images. Thus, significant differences in color, including striping between adjacent flight lines and images is present in the mosaics. Where multiple images were collected for a single design photo center, the newest available scan was used. The files are delivered uncompressed. Note that there are some areas that were not collected in the NHAP program collections.<\/span><\/span><\/p>
<\/p>
Purpose<\/span><\/span>: Provide NHAP historic aerial imagery for GIS-Remote Sensing use.<\/span><\/span><\/p>
Creation Date<\/span><\/span>: 20200211<\/span><\/p>
Publication Date<\/span><\/span>: 20200430<\/span><\/p>
Revision Date<\/span><\/span>: 20250106<\/span><\/p>
Refresh Cycle<\/span><\/span>: As new imagery becomes available.<\/span><\/span><\/p>
Version<\/span><\/span>: 1.10.0<\/span><\/p>
Change Log: <\/span>Service deployed.<\/span><\/p>
Report Service Errors<\/span><\/a><\/p>
<\/p>
<\/p>
<\/p>
<\/p><\/div><\/div><\/div>", "name": "ortho_imagery/nhap_All", "description": "

The NHAP photography were acquired at 40,000 feet above mean terrain and flight lines were centered on the 1:24,000-scale USGS map series. Two different camera systems were used; a 6 inch focal length lens was used to acquire B/W film at an approximate scale of 1:80,000 and an 8.25 inch lens was used to acquire CIR film at an approximate scale of 1:58,000.The NHAP film rolls were scanned at USDA FPAC BC GEO BRANCH using high resolution aerial roll film scanners. The images were scanned at a resolution of 12.5 microns (approximately 0.75 m GSD) in three spectral bands (RGB). The individual image scans were provided to USDA FPAC BC GEO BRANCH for post processing into orthorectified image mosaics. USDA FPAC BC GEO BRANCH also provided nominal photo center coordinates for each image along with the camera calibration information. The USGS NED 10m DTM for CONUS was used in the orthorectification process. The output orthomosaic tiles are rendered as a target resolution of 0.75m GSD and are delivered in a WGS 1984 UTM grid projection for which the majority of the cell footprint falls. The orthomosaic cells have a designed overlap of 40 pixels on all sides. The delivered orthomosaics have a target horizontal accuracy when measured against the NAIP imagery of +/- 10m. Control point information was derived from USDA FPAC BC GEO BRANCH provided control point files or from the reference NAIP imagery. Elevations for the control points were interpolated from the NED 10m elevation model. There was no attempt to color balance the mosaic images. Thus, significant differences in color, including striping between adjacent flight lines and images is present in the mosaics. Where multiple images were collected for a single design photo center, the newest available scan was used. The files are delivered uncompressed. Note that there are some areas that were not collected in the NHAP program collections.<\/span><\/span><\/p>
<\/p>
Purpose<\/span><\/span>: Provide NHAP historic aerial imagery for GIS-Remote Sensing use.<\/span><\/span><\/p>
Creation Date<\/span><\/span>: 20200211<\/span><\/p>
Publication Date<\/span><\/span>: 20200430<\/span><\/p>
Revision Date<\/span><\/span>: 20250106<\/span><\/p>
Refresh Cycle<\/span><\/span>: As new imagery becomes available.<\/span><\/span><\/p>
Version<\/span><\/span>: 1.10.0<\/span><\/p>
Change Log: <\/span>Service deployed.<\/span><\/p>
Report Service Errors<\/span><\/a><\/p>
<\/p>
<\/p>
<\/p>
<\/p><\/div><\/div><\/div>", "extent": { "xmin": -1.3887174718600001E7, "ymin": 2814148.830100009, "xmax": -7457874.1586000165, "ymax": 6339276.4701000005, "spatialReference": { "wkid": 102100, "latestWkid": 3857 } }, "initialExtent": { "xmin": -1.3887174718600001E7, "ymin": 2814148.830100009, "xmax": -7457874.1586000165, "ymax": 6339276.4701000005, "spatialReference": { "wkid": 102100, "latestWkid": 3857 } }, "fullExtent": { "xmin": -1.3887174718600001E7, "ymin": 2814148.830100009, "xmax": -7457874.1586000165, "ymax": 6339276.4701000005, "spatialReference": { "wkid": 102100, "latestWkid": 3857 } }, "pixelSizeX": 0.7399999999999982, "pixelSizeY": 0.7399999999999982, "datasetFormat": "AMD", "uncompressedSize": 124164198922152, "blockWidth": 2048, "blockHeight": 256, "compressionType": "None", "bandNames": [ "Band_1", "Band_2", "Band_3" ], "allowCopy": true, "allowAnalysis": true, "bandCount": 3, "pixelType": "U8", "minPixelSize": 0, "maxPixelSize": 0, "copyrightText": "USDA-NRCS-NGCE & USDA-FSA-APFO", "serviceDataType": "esriImageServiceDataTypeRGB", "serviceSourceType": "esriImageServiceSourceTypeMosaicDataset", "minValues": [ 1, 6, 2 ], "maxValues": [ 254, 254, 254 ], "meanValues": [ 103.90092553175799, 111.05117948416813, 121.23425274870644 ], "stdvValues": [ 34.68527275979885, 33.96210338474318, 33.895341848043266 ], "objectIdField": "OBJECTID", "fields": [ { "name": "OBJECTID", "type": "esriFieldTypeOID", "alias": "OBJECTID", "domain": null }, { "name": "Shape", "type": "esriFieldTypeGeometry", "alias": "Shape", "domain": null }, { "name": "Name", "type": "esriFieldTypeString", "alias": "Name", "domain": null, "length": 200 }, { "name": "Category", "type": "esriFieldTypeInteger", "alias": "Category", "domain": { "type": "codedValue", "name": "MosaicCatalogItemCategoryDomain", "description": "Catalog item categories.", "codedValues": [ { "name": "Unknown", "code": 0 }, { "name": "Primary", "code": 1 }, { "name": "Overview", "code": 2 }, { "name": "Unprocessed Overview", "code": 3 }, { "name": "Partial Overview", "code": 4 }, { "name": "Inactive", "code": 5 }, { "name": "Uploaded", "code": 253 }, { "name": "Incomplete", "code": 254 }, { "name": "Custom", "code": 255 } ], "mergePolicy": "esriMPTDefaultValue", "splitPolicy": "esriSPTDefaultValue" } }, { "name": "GroupName", "type": "esriFieldTypeString", "alias": "GroupName", "domain": null, "length": 100 }, { "name": "CenterX", "type": "esriFieldTypeDouble", "alias": "CenterX", "domain": null }, { "name": "CenterY", "type": "esriFieldTypeDouble", "alias": "CenterY", "domain": null } ], "capabilities": "Catalog,Mensuration,Download,Image,Metadata", "defaultMosaicMethod": "Northwest", "allowedMosaicMethods": "NorthWest,Center,LockRaster,ByAttribute,Nadir,Viewpoint,Seamline,None", "sortField": "", "sortValue": null, "sortAscending": true, "mosaicOperator": "First", "maxDownloadSizeLimit": 2048, "defaultCompressionQuality": 75, "defaultResamplingMethod": "Bilinear", "maxImageHeight": 4100, "maxImageWidth": 15000, "maxRecordCount": 1000, "maxDownloadImageCount": 20, "maxMosaicImageCount": 20, "allowRasterFunction": true, "rasterFunctionInfos": [ { "name": "None", "description": "Make a Raster or Raster Dataset into a Function Raster Dataset.", "help": "" } ], "rasterTypeInfos": [ { "name": "Raster Dataset", "description": "Supports all ArcGIS Raster Datasets", "help": "" } ], "mensurationCapabilities": "Basic", "hasHistograms": true, "hasColormap": false, "hasRasterAttributeTable": false, "minScale": 0, "maxScale": 0, "exportTilesAllowed": false, "hasMultidimensions": false, "supportsStatistics": true, "supportsAdvancedQueries": true, "editFieldsInfo": null, "ownershipBasedAccessControlForRasters": null, "allowComputeTiePoints": false, "useStandardizedQueries": true, "advancedQueryCapabilities": { "useStandardizedQueries": true, "supportsStatistics": true, "supportsOrderBy": true, "supportsDistinct": true, "supportsPagination": true }, "spatialReference": { "wkid": 102100, "latestWkid": 3857 } }