{ "currentVersion": 10.81, "serviceDescription": "

This is a collection of individual GeoTIFFs of the island of Puerto Rico (Commonwealth of Puerto Rico). An orthographic aerial image is remotely sensed image data in which displacement of features in the image caused by terrain relief and sensor orientation have been mathematically removed. Orthographic imagery combines the image characteristics of a photograph with the geometric qualities of a map. The source imagery was obtained from October 2009 through November 2010 and used to produce orthophotos with a 0.3 meter (approximately 1 foot) ground sample distance (GSD). The raw imagery was captured at 12-bit radiometric resolution and converted to 8-bit radiometry during post processing. The imagery was captured with the equivalent of approximately 60 percent forward overlap between adjacent exposures and 30 percent sidelap between all adjacent flight lines utilizing both a Microsoft UltraCAM X (2010 flights) and a Leica ADS40 (2009-10 flights) digital sensor. The orthographic imagery is available as 4-band (RGBI) GeoTIFF formatted digital images. The projected coordinate system is State Plane Puerto Rico / US Virgin Islands (Zone 5200), NAD 83, GRS 80, Units Meters. <\/span><\/p>
Purpose: <\/span>To provide USDA-NRCS, its partners and the public with updated digital orthographic imagery and metadata covering Puerto Rico and the Virgin Islands.<\/span><\/p>
Creation Date:<\/span> 20090101-20101231<\/span><\/p>
Publication Date: <\/span>20240124<\/span><\/p>
Revision Date: <\/span><\/p>
Refresh Cycle: <\/span>Updated periodically as new imagery becomes available<\/span><\/p>
Version: <\/span>1.0.0<\/span><\/p>
Change Log:<\/span> Service deployed.<\/span><\/p>
Report Service Errors<\/span><\/a><\/p>
<\/p><\/div><\/div><\/div>", "name": "ortho_imagery/puerto_rico_usvi_2010_2012_30cm", "description": "

This is a collection of individual GeoTIFFs of the island of Puerto Rico (Commonwealth of Puerto Rico). An orthographic aerial image is remotely sensed image data in which displacement of features in the image caused by terrain relief and sensor orientation have been mathematically removed. Orthographic imagery combines the image characteristics of a photograph with the geometric qualities of a map. The source imagery was obtained from October 2009 through November 2010 and used to produce orthophotos with a 0.3 meter (approximately 1 foot) ground sample distance (GSD). The raw imagery was captured at 12-bit radiometric resolution and converted to 8-bit radiometry during post processing. The imagery was captured with the equivalent of approximately 60 percent forward overlap between adjacent exposures and 30 percent sidelap between all adjacent flight lines utilizing both a Microsoft UltraCAM X (2010 flights) and a Leica ADS40 (2009-10 flights) digital sensor. The orthographic imagery is available as 4-band (RGBI) GeoTIFF formatted digital images. The projected coordinate system is State Plane Puerto Rico / US Virgin Islands (Zone 5200), NAD 83, GRS 80, Units Meters. <\/span><\/p>
Purpose: <\/span>To provide USDA-NRCS, its partners and the public with updated digital orthographic imagery and metadata covering Puerto Rico and the Virgin Islands.<\/span><\/p>
Creation Date:<\/span> 20090101-20101231<\/span><\/p>
Publication Date: <\/span>20240124<\/span><\/p>
Revision Date: <\/span><\/p>
Refresh Cycle: <\/span>Updated periodically as new imagery becomes available<\/span><\/p>
Version: <\/span>1.0.0<\/span><\/p>
Change Log:<\/span> Service deployed.<\/span><\/p>
Report Service Errors<\/span><\/a><\/p>
<\/p><\/div><\/div><\/div>", "extent": { "xmin": -7564740.029200001, "ymin": 1996063.3561999984, "xmax": -7186378.529200001, "ymax": 2101579.3561999984, "spatialReference": { "wkid": 102100, "latestWkid": 3857 } }, "initialExtent": { "xmin": -7564740.029200001, "ymin": 1996063.3561999984, "xmax": -7186378.529200001, "ymax": 2101579.3561999984, "spatialReference": { "wkid": 102100, "latestWkid": 3857 } }, "fullExtent": { "xmin": -7564740.029200001, "ymin": 1996063.3561999984, "xmax": -7186378.529200001, "ymax": 2101579.3561999984, "spatialReference": { "wkid": 102100, "latestWkid": 3857 } }, "pixelSizeX": 0.3, "pixelSizeY": 0.3, "datasetFormat": "AMD", "uncompressedSize": 1774364090400, "blockWidth": 2048, "blockHeight": 256, "compressionType": "None", "bandNames": [ "Band_1", "Band_2", "Band_3", "Band_4" ], "allowCopy": true, "allowAnalysis": true, "bandCount": 4, "pixelType": "U8", "minPixelSize": 0, "maxPixelSize": 0, "copyrightText": "", "serviceDataType": "esriImageServiceDataTypeGeneric", "serviceSourceType": "esriImageServiceSourceTypeMosaicDataset", "minValues": [], "maxValues": [], "meanValues": [], "stdvValues": [], "objectIdField": "OBJECTID", "fields": [ { "name": "OBJECTID", "type": "esriFieldTypeOID", "alias": "OBJECTID", "domain": null }, { "name": "Shape", "type": "esriFieldTypeGeometry", "alias": "Shape", "domain": null }, { "name": "Name", "type": "esriFieldTypeString", "alias": "Name", "domain": null, "length": 200 }, { "name": "Category", "type": "esriFieldTypeInteger", "alias": "Category", "domain": { "type": "codedValue", "name": "MosaicCatalogItemCategoryDomain", "description": "Catalog item categories.", "codedValues": [ { "name": "Unknown", "code": 0 }, { "name": "Primary", "code": 1 }, { "name": "Overview", "code": 2 }, { "name": "Unprocessed Overview", "code": 3 }, { "name": "Partial Overview", "code": 4 }, { "name": "Inactive", "code": 5 }, { "name": "Uploaded", "code": 253 }, { "name": "Incomplete", "code": 254 }, { "name": "Custom", "code": 255 } ], "mergePolicy": "esriMPTDefaultValue", "splitPolicy": "esriSPTDefaultValue" } }, { "name": "GroupName", "type": "esriFieldTypeString", "alias": "GroupName", "domain": null, "length": 100 }, { "name": "CenterX", "type": "esriFieldTypeDouble", "alias": "CenterX", "domain": null }, { "name": "CenterY", "type": "esriFieldTypeDouble", "alias": "CenterY", "domain": null }, { "name": "Shape_Length", "type": "esriFieldTypeDouble", "alias": "Shape_Length", "domain": null }, { "name": "Shape_Area", "type": "esriFieldTypeDouble", "alias": "Shape_Area", "domain": null } ], "capabilities": "Catalog,Mensuration,Image,Metadata", "defaultMosaicMethod": "Northwest", "allowedMosaicMethods": "NorthWest,Center,LockRaster,ByAttribute,Nadir,Viewpoint,Seamline,None", "sortField": "", "sortValue": null, "sortAscending": true, "mosaicOperator": "First", "maxDownloadSizeLimit": 2048, "defaultCompressionQuality": 75, "defaultResamplingMethod": "Bilinear", "maxImageHeight": 4100, "maxImageWidth": 15000, "maxRecordCount": 1000, "maxDownloadImageCount": 20, "maxMosaicImageCount": 20, "allowRasterFunction": true, "rasterFunctionInfos": [ { "name": "Puerto_Rico_Natural_Color", "description": "RGB 1, 2, 3", "help": "" }, { "name": "Color Infrared (CIR) No Stretch", "description": "RGB (Red 4, Green 3, Blue 2)", "help": "" }, { "name": "None", "description": "", "help": "" } ], "rasterTypeInfos": [ { "name": "Raster Dataset", "description": "Supports all ArcGIS Raster Datasets", "help": "" } ], "mensurationCapabilities": "Basic", "hasHistograms": false, "hasColormap": false, "hasRasterAttributeTable": false, "minScale": 0, "maxScale": 0, "exportTilesAllowed": false, "hasMultidimensions": false, "supportsStatistics": true, "supportsAdvancedQueries": true, "editFieldsInfo": null, "ownershipBasedAccessControlForRasters": null, "allowComputeTiePoints": false, "useStandardizedQueries": true, "advancedQueryCapabilities": { "useStandardizedQueries": true, "supportsStatistics": true, "supportsOrderBy": true, "supportsDistinct": true, "supportsPagination": true }, "spatialReference": { "wkid": 102100, "latestWkid": 3857 } }