{ "currentVersion": 10.81, "serviceDescription": "

Soil erosion (by water or wind) can have detrimental effects on ecological resources, such as forage amount, quality, plant health, air and water quality. To aid initial resource assessments to determine potential risks of soil loss on rangelands, the Conservation Effects Assessment Project \u2013 Grazing Land component developed the rangeland Soil Vulnerability Index for water erosion risk (rSVI-water). This geospatially-based index was developed using research and modeling estimates from the Rangeland Hydrology and Erosion Model (RHEM) on water erosion that occurs on rangeland. The index pairs specific soil characteristic values with NRCS SSURGO soil data to determine a risk class by soil component for water erosion. The rSVI ratings are based on dry, unvegetated soil conditions, so use may be limited to helping producers understand the importance of maintaining vegetation cover within their adaptive grazing plans. The rSVI-water will be the basis for future indexes developed on rangelands. <\/span>User Guide<\/span><\/a><\/p>
Purpose<\/span>: To provide FPAC employees with the rSVI soil survey layers for Alaska, the Continental US, Hawaii, and Puerto Rico.<\/span><\/p>
Creation Date<\/span>: 2023<\/span><\/p>
Publication Date<\/span>: 20240126<\/span><\/p>
Revision Date<\/span>: <\/span><\/p>
Refresh Cycle<\/span>: Annual<\/span><\/p>
Version<\/span>: 1.0.0<\/span><\/p>
Change Log: <\/span>Service deployed with 2023 data<\/span><\/p>
Report Service Errors<\/span><\/a><\/p><\/div><\/div><\/div>", "name": "soils/rsvi_for_water_erosion_30m", "description": "

Soil erosion (by water or wind) can have detrimental effects on ecological resources, such as forage amount, quality, plant health, air and water quality. To aid initial resource assessments to determine potential risks of soil loss on rangelands, the Conservation Effects Assessment Project \u2013 Grazing Land component developed the rangeland Soil Vulnerability Index for water erosion risk (rSVI-water). This geospatially-based index was developed using research and modeling estimates from the Rangeland Hydrology and Erosion Model (RHEM) on water erosion that occurs on rangeland. The index pairs specific soil characteristic values with NRCS SSURGO soil data to determine a risk class by soil component for water erosion. The rSVI ratings are based on dry, unvegetated soil conditions, so use may be limited to helping producers understand the importance of maintaining vegetation cover within their adaptive grazing plans. The rSVI-water will be the basis for future indexes developed on rangelands. <\/span>User Guide<\/span><\/a><\/p>
Purpose<\/span>: To provide FPAC employees with the rSVI soil survey layers for Alaska, the Continental US, Hawaii, and Puerto Rico.<\/span><\/p>
Creation Date<\/span>: 2023<\/span><\/p>
Publication Date<\/span>: 20240126<\/span><\/p>
Revision Date<\/span>: <\/span><\/p>
Refresh Cycle<\/span>: Annual<\/span><\/p>
Version<\/span>: 1.0.0<\/span><\/p>
Change Log: <\/span>Service deployed with 2023 data<\/span><\/p>
Report Service Errors<\/span><\/a><\/p><\/div><\/div><\/div>", "extent": { "xmin": -2.00375070672E7, "ymin": 1944456.155600002, "xmax": 2.0037507842788246E7, "ymax": 1.1545656155600002E7, "spatialReference": { "wkid": 102100, "latestWkid": 3857 } }, "initialExtent": { "xmin": -2.00375070672E7, "ymin": 1944456.155600002, "xmax": 2.0037507842788246E7, "ymax": 1.1545656155600002E7, "spatialReference": { "wkid": 102100, "latestWkid": 3857 } }, "fullExtent": { "xmin": -2.00375070672E7, "ymin": 1944456.155600002, "xmax": 2.0037507842788246E7, "ymax": 1.1545656155600002E7, "spatialReference": { "wkid": 102100, "latestWkid": 3857 } }, "pixelSizeX": 29.99999618963752, "pixelSizeY": 30, "datasetFormat": "AMD", "uncompressedSize": 427520313360, "blockWidth": 2048, "blockHeight": 256, "compressionType": "None", "bandNames": [ "Band_1" ], "allowCopy": true, "allowAnalysis": true, "bandCount": 1, "pixelType": "U8", "minPixelSize": 0, "maxPixelSize": 0, "copyrightText": "Loretta Metz, Carrie-Ann Houdeshell, Karl Musser - NRCS, USDA", "serviceDataType": "esriImageServiceDataTypeGeneric", "serviceSourceType": "esriImageServiceSourceTypeMosaicDataset", "minValues": [], "maxValues": [], "meanValues": [], "stdvValues": [], "objectIdField": "OBJECTID", "fields": [ { "name": "OBJECTID", "type": "esriFieldTypeOID", "alias": "OBJECTID", "domain": null }, { "name": "Shape", "type": "esriFieldTypeGeometry", "alias": "Shape", "domain": null }, { "name": "Name", "type": "esriFieldTypeString", "alias": "Name", "domain": null, "length": 200 }, { "name": "Category", "type": "esriFieldTypeInteger", "alias": "Category", "domain": { "type": "codedValue", "name": "MosaicCatalogItemCategoryDomain", "description": "Catalog item categories.", "codedValues": [ { "name": "Unknown", "code": 0 }, { "name": "Primary", "code": 1 }, { "name": "Overview", "code": 2 }, { "name": "Unprocessed Overview", "code": 3 }, { "name": "Partial Overview", "code": 4 }, { "name": "Inactive", "code": 5 }, { "name": "Uploaded", "code": 253 }, { "name": "Incomplete", "code": 254 }, { "name": "Custom", "code": 255 } ], "mergePolicy": "esriMPTDefaultValue", "splitPolicy": "esriSPTDefaultValue" } }, { "name": "GroupName", "type": "esriFieldTypeString", "alias": "GroupName", "domain": null, "length": 100 }, { "name": "Shape_Length", "type": "esriFieldTypeDouble", "alias": "Shape_Length", "domain": null }, { "name": "Shape_Area", "type": "esriFieldTypeDouble", "alias": "Shape_Area", "domain": null } ], "capabilities": "Catalog,Mensuration,Download,Image,Metadata", "defaultMosaicMethod": "Northwest", "allowedMosaicMethods": "NorthWest,Center,LockRaster,ByAttribute,Nadir,Viewpoint,Seamline,None", "sortField": "", "sortValue": null, "sortAscending": true, "mosaicOperator": "First", "maxDownloadSizeLimit": 2048, "defaultCompressionQuality": 75, "defaultResamplingMethod": "Bilinear", "maxImageHeight": 4100, "maxImageWidth": 15000, "maxRecordCount": 1000, "maxDownloadImageCount": 20, "maxMosaicImageCount": 20, "allowRasterFunction": true, "rasterFunctionInfos": [ { "name": "None", "description": "Make a Raster or Raster Dataset into a Function Raster Dataset.", "help": "" } ], "rasterTypeInfos": [ { "name": "Raster Dataset", "description": "Supports all ArcGIS Raster Datasets", "help": "" } ], "mensurationCapabilities": "Basic", "hasHistograms": false, "hasColormap": false, "hasRasterAttributeTable": true, "minScale": 0, "maxScale": 0, "exportTilesAllowed": false, "hasMultidimensions": false, "supportsStatistics": true, "supportsAdvancedQueries": true, "editFieldsInfo": null, "ownershipBasedAccessControlForRasters": null, "allowComputeTiePoints": false, "useStandardizedQueries": true, "advancedQueryCapabilities": { "useStandardizedQueries": true, "supportsStatistics": true, "supportsOrderBy": true, "supportsDistinct": true, "supportsPagination": true }, "spatialReference": { "wkid": 102100, "latestWkid": 3857 } }