View In:
ArcGIS JavaScript
ArcGIS Online Map Viewer
ArcGIS Earth
ArcMap
View Footprint In:
ArcGIS Online Map Viewer
Service Description: Curvature is derived from the 10-meter DEM in the direction of slope gradient (profile curvature) and perpendicular to the gradient (plan curvature). Calculated at 10m, 20, 30, and 50m resolution. Profile curvature affects the acceleration and deceleration of flow, while the plan curvature affects the convergence and divergence of the flow. The final surface has values where higher values represent concave slopes, where moisture accumulates, and lower values represent more convex slopes, where runoff occurs.
Purpose: The purpose of this dataset is to weight the CETWI model based on terrain relationships between local hillslope process that accumulate or shed surface moisture based on convex or concave hillslope morphologies.
Creation Date: 20240507
Publication Date: 20240507
Revision Date:
Refresh Cycle: Updated periodically as new imagery becomes available
Version: 1.0.0
Change Log: Service Deployed
Report Service Errors
Name: cetwi/cetwi_curvature_2022_10m
Description: Curvature is derived from the 10-meter DEM in the direction of slope gradient (profile curvature) and perpendicular to the gradient (plan curvature). Calculated at 10m, 20, 30, and 50m resolution. Profile curvature affects the acceleration and deceleration of flow, while the plan curvature affects the convergence and divergence of the flow. The final surface has values where higher values represent concave slopes, where moisture accumulates, and lower values represent more convex slopes, where runoff occurs.
Purpose: The purpose of this dataset is to weight the CETWI model based on terrain relationships between local hillslope process that accumulate or shed surface moisture based on convex or concave hillslope morphologies.
Creation Date: 20240507
Publication Date: 20240507
Revision Date:
Refresh Cycle: Updated periodically as new imagery becomes available
Version: 1.0.0
Change Log: Service Deployed
Report Service Errors
Single Fused Map Cache: false
Extent:
XMin: -1.41369485894E7
YMin: 2970825.0378575586
XMax: -1.002522920423133E7
YMax: 6388034.489299999
Spatial Reference: 102100
(3857)
Initial Extent:
XMin: -1.41369485894E7
YMin: 2970825.0378575586
XMax: -1.002522920423133E7
YMax: 6388034.489299999
Spatial Reference: 102100
(3857)
Full Extent:
XMin: -1.41369485894E7
YMin: 2970825.0378575586
XMax: -1.002522920423133E7
YMax: 6388034.489299999
Spatial Reference: 102100
(3857)
Pixel Size X: 10.307360251205587
Pixel Size Y: 10.307360251205589
Band Count: 1
Pixel Type: U32
RasterFunction Infos: {"rasterFunctionInfos": [
{
"name": "cetwi_rangeland",
"description": "The Climate-Enhanced Topographic Wetness Index (CETWI) is a climate and terrain driven deterministic model using a suite of derivatives to estimate effective soil surface moisture from precipitation and inflow across a continuous earth surface.The CETWI value, scaled with zero beginning the lowest potential for moisture to accumulate to higher values being the highest potential for moisture to accumulate",
"help": ""
},
{
"name": "None",
"description": "",
"help": ""
}
]}
Mensuration Capabilities: Basic
Has Histograms: true
Has Colormap: false
Has Multi Dimensions : false
Rendering Rule:
Min Scale: 0
Max Scale: 0
Copyright Text: CETWI Imagery Service provided by USDA-FPAC
Service Data Type: esriImageServiceDataTypeGeneric
Min Values: 0
Max Values: 1000
Mean Values: 456.85498382859225
Standard Deviation Values: 121.79900442626476
Object ID Field: OBJECTID
Fields:
-
OBJECTID
(
type: esriFieldTypeOID, alias: OBJECTID
)
-
Shape
(
type: esriFieldTypeGeometry, alias: Shape
)
-
Name
(
type: esriFieldTypeString, alias: Name, length: 200
)
-
Category
(
type: esriFieldTypeInteger, alias: Category
, Coded Values:
[0: Unknown]
, [1: Primary]
, [2: Overview]
, ...6 more...
)
-
CenterX
(
type: esriFieldTypeDouble, alias: CenterX
)
-
CenterY
(
type: esriFieldTypeDouble, alias: CenterY
)
-
Shape_Length
(
type: esriFieldTypeDouble, alias: Shape_Length
)
-
Shape_Area
(
type: esriFieldTypeDouble, alias: Shape_Area
)
Default Mosaic Method: Northwest
Allowed Mosaic Methods: NorthWest,Center,LockRaster,ByAttribute,Nadir,Viewpoint,Seamline,None
SortField:
SortValue: null
Mosaic Operator: First
Default Compression Quality: 75
Default Resampling Method: Bilinear
Max Record Count: 1000
Max Image Height: 4100
Max Image Width: 15000
Max Download Image Count: 20
Max Mosaic Image Count: 20
Allow Raster Function: true
Allow Copy: true
Allow Analysis: true
Allow Compute TiePoints: false
Supports Statistics: true
Supports Advanced Queries: true
Use StandardizedQueries: true
Raster Type Infos:
Name: Raster Dataset
Description: Supports all ArcGIS Raster Datasets
Help:
Has Raster Attribute Table: false
Edit Fields Info: null
Ownership Based AccessControl For Rasters: null
Child Resources:
Info
Histograms
Statistics
Key Properties
Legend
Raster Function Infos
Supported Operations:
Export Image
Query
Identify
Measure
Compute Histograms
Compute Statistics Histograms
Get Samples
Compute Class Statistics
Query Boundary
Compute Pixel Location
Validate
Project