View In:
ArcGIS JavaScript
ArcGIS Online Map Viewer
ArcGIS Earth
ArcMap
View Footprint In:
ArcGIS Online Map Viewer
Service Description: The derivative named hydrography is the accumulated terrain and climate wetness variables with water bodies and depressions weighted based on total hydrology feeding into them and includes their depth. This derivative is a default value in the final CETWI calculation. Hydrography is an integration between the hydrologic influence and depressions datasets. The integration is done by simply calculating the hydrologic influence where depressions don't occur and calculating depression wetness where they do occur.
Purpose: This dataset weights the CETWI model based on hydrography features such as depressions and surface moisture conditions based on terrain and climate characteristics. The terrain characteristics involved include solar, curvature and slope. These have been modified with 30 year average annual precipitation derived from the PRISM 800 meter (1992-2022) analysis that is weighted based on a evapotranspiration analysis that modifies measured precipitation into effective precipitation.
Creation Date: 20240507
Publication Date: 20240507
Revision Date:
Refresh Cycle: Updated periodically as new imagery becomes available
Version: 1.0.0
Change Log: Service Deployed
Report Service Errors
Name: cetwi/cetwi_hydrography_2022_10m
Description: The derivative named hydrography is the accumulated terrain and climate wetness variables with water bodies and depressions weighted based on total hydrology feeding into them and includes their depth. This derivative is a default value in the final CETWI calculation. Hydrography is an integration between the hydrologic influence and depressions datasets. The integration is done by simply calculating the hydrologic influence where depressions don't occur and calculating depression wetness where they do occur.
Purpose: This dataset weights the CETWI model based on hydrography features such as depressions and surface moisture conditions based on terrain and climate characteristics. The terrain characteristics involved include solar, curvature and slope. These have been modified with 30 year average annual precipitation derived from the PRISM 800 meter (1992-2022) analysis that is weighted based on a evapotranspiration analysis that modifies measured precipitation into effective precipitation.
Creation Date: 20240507
Publication Date: 20240507
Revision Date:
Refresh Cycle: Updated periodically as new imagery becomes available
Version: 1.0.0
Change Log: Service Deployed
Report Service Errors
Single Fused Map Cache: false
Extent:
XMin: -1.4136951869688198E7
YMin: 2970821.186816371
XMax: -1.0025232484519526E7
YMax: 6388040.9456190625
Spatial Reference: 102100
(3857)
Initial Extent:
XMin: -1.4136951869688198E7
YMin: 2970821.186816371
XMax: -1.0025232484519526E7
YMax: 6388040.9456190625
Spatial Reference: 102100
(3857)
Full Extent:
XMin: -1.4136951869688198E7
YMin: 2970821.186816371
XMax: -1.0025232484519526E7
YMax: 6388040.9456190625
Spatial Reference: 102100
(3857)
Pixel Size X: 10.307360251205587
Pixel Size Y: 10.307360251205589
Band Count: 1
Pixel Type: U16
RasterFunction Infos: {"rasterFunctionInfos": [
{
"name": "cetwi_hydrography",
"description": "Hydrography Raster Template\nRed-Low\nGreen - Medium\nBlue - High",
"help": ""
},
{
"name": "None",
"description": "",
"help": ""
}
]}
Mensuration Capabilities: Basic
Has Histograms: true
Has Colormap: false
Has Multi Dimensions : false
Rendering Rule:
Min Scale: 0
Max Scale: 0
Copyright Text: CETWI Imagery Service provided by USDA-FPAC
Service Data Type: esriImageServiceDataTypeGeneric
Min Values: 0
Max Values: 13096
Mean Values: 451.29717871201984
Standard Deviation Values: 345.78187690754777
Object ID Field: OBJECTID
Fields:
-
OBJECTID
(
type: esriFieldTypeOID, alias: OBJECTID
)
-
Shape
(
type: esriFieldTypeGeometry, alias: Shape
)
-
Name
(
type: esriFieldTypeString, alias: Name, length: 200
)
-
Category
(
type: esriFieldTypeInteger, alias: Category
, Coded Values:
[0: Unknown]
, [1: Primary]
, [2: Overview]
, ...6 more...
)
-
CenterX
(
type: esriFieldTypeDouble, alias: CenterX
)
-
CenterY
(
type: esriFieldTypeDouble, alias: CenterY
)
-
Shape_Length
(
type: esriFieldTypeDouble, alias: Shape_Length
)
-
Shape_Area
(
type: esriFieldTypeDouble, alias: Shape_Area
)
Default Mosaic Method: Northwest
Allowed Mosaic Methods: NorthWest,Center,LockRaster,ByAttribute,Nadir,Viewpoint,Seamline,None
SortField:
SortValue: null
Mosaic Operator: First
Default Compression Quality: 75
Default Resampling Method: Bilinear
Max Record Count: 1000
Max Image Height: 4100
Max Image Width: 15000
Max Download Image Count: 20
Max Mosaic Image Count: 20
Allow Raster Function: true
Allow Copy: true
Allow Analysis: true
Allow Compute TiePoints: false
Supports Statistics: true
Supports Advanced Queries: true
Use StandardizedQueries: true
Raster Type Infos:
Name: Raster Dataset
Description: Supports all ArcGIS Raster Datasets
Help:
Has Raster Attribute Table: false
Edit Fields Info: null
Ownership Based AccessControl For Rasters: null
Child Resources:
Info
Histograms
Statistics
Key Properties
Legend
Raster Function Infos
Supported Operations:
Export Image
Query
Identify
Measure
Compute Histograms
Compute Statistics Histograms
Get Samples
Compute Class Statistics
Query Boundary
Compute Pixel Location
Validate
Project