View In:
ArcGIS JavaScript
ArcGIS Online Map Viewer
ArcGIS Earth
ArcMap
View Footprint In:
ArcGIS Online Map Viewer
Service Description: FPAC-GEO developed the land change analysis tool (LCAT) to provide high resolution land cover maps derived from the National Agriculture Imagery Program (NAIP). These data are used by agencies within FPAC, USDA and academia to monitor agricultural activities, execute farm bill programs, assist with digital soil mapping and ecological site investigations, aid conservation easement monitoring, quantify disaster response, wildlife habitat monitoring and reducing wildlife-aircraft interactions around major domestic airports. As LCAT land cover data is inherently NAIP based, it has similar properties to its source imagery. LCAT land cover classes include barren, cropland, forest, grassland, shrub, urban, water, wetlands and ice. These classes were selected from a combination of the National Land Cover Database and USDA Farm Service Agency -common land unit (CLU) land cover types.
Purpose: To provide land change analysis tool (LCAT) to provide high resolution land cover maps derived from the National Agriculture Imagery Program (NAIP).
Creation Date: 20210101-20211231
Publication Date: 20221026
Revision Date: 20241209
Refresh Cycle: Periodically as new imagery becomes available.
Version: 1.7.0
Change Log: Service Deployed
Report Service Errors
Name: land_use_land_cover/lcat2021
Description: FPAC-GEO developed the land change analysis tool (LCAT) to provide high resolution land cover maps derived from the National Agriculture Imagery Program (NAIP). These data are used by agencies within FPAC, USDA and academia to monitor agricultural activities, execute farm bill programs, assist with digital soil mapping and ecological site investigations, aid conservation easement monitoring, quantify disaster response, wildlife habitat monitoring and reducing wildlife-aircraft interactions around major domestic airports. As LCAT land cover data is inherently NAIP based, it has similar properties to its source imagery. LCAT land cover classes include barren, cropland, forest, grassland, shrub, urban, water, wetlands and ice. These classes were selected from a combination of the National Land Cover Database and USDA Farm Service Agency -common land unit (CLU) land cover types.
Purpose: To provide land change analysis tool (LCAT) to provide high resolution land cover maps derived from the National Agriculture Imagery Program (NAIP).
Creation Date: 20210101-20211231
Publication Date: 20221026
Revision Date: 20241209
Refresh Cycle: Periodically as new imagery becomes available.
Version: 1.7.0
Change Log: Service Deployed
Report Service Errors
Single Fused Map Cache: false
Extent:
XMin: -1.38946141962E7
YMin: 3969858.2632002346
XMax: -7916963.596200592
YMax: 6350183.063199999
Spatial Reference: 102100
(3857)
Initial Extent:
XMin: -1.38946141962E7
YMin: 3969858.2632002346
XMax: -7916963.596200592
YMax: 6350183.063199999
Spatial Reference: 102100
(3857)
Full Extent:
XMin: -1.38946141962E7
YMin: 3969858.2632002346
XMax: -7916963.596200592
YMax: 6350183.063199999
Spatial Reference: 102100
(3857)
Pixel Size X: 0.5999999999999406
Pixel Size Y: 0.5999999999999406
Band Count: 1
Pixel Type: U32
RasterFunction Infos: {"rasterFunctionInfos": [{
"name": "None",
"description": "Make a Raster or Raster Dataset into a Function Raster Dataset.",
"help": ""
}]}
Mensuration Capabilities: Basic
Has Histograms: true
Has Colormap: false
Has Multi Dimensions : false
Rendering Rule:
Min Scale: 0
Max Scale: 0
Copyright Text:
Service Data Type: esriImageServiceDataTypeThematic
Min Values: 0
Max Values: 8
Mean Values: 3.4960304198323024
Standard Deviation Values: 1.1057241386796401
Object ID Field: OBJECTID
Fields:
-
OBJECTID
(
type: esriFieldTypeOID, alias: OBJECTID
)
-
Shape
(
type: esriFieldTypeGeometry, alias: Shape
)
-
Name
(
type: esriFieldTypeString, alias: Name, length: 200
)
-
Category
(
type: esriFieldTypeInteger, alias: Category
, Coded Values:
[0: Unknown]
, [1: Primary]
, [2: Overview]
, ...6 more...
)
-
GroupName
(
type: esriFieldTypeString, alias: GroupName, length: 100
)
-
CenterX
(
type: esriFieldTypeDouble, alias: CenterX
)
-
CenterY
(
type: esriFieldTypeDouble, alias: CenterY
)
-
Shape_Length
(
type: esriFieldTypeDouble, alias: Shape_Length
)
-
Shape_Area
(
type: esriFieldTypeDouble, alias: Shape_Area
)
Default Mosaic Method: Northwest
Allowed Mosaic Methods: NorthWest,Center,LockRaster,ByAttribute,Nadir,Viewpoint,Seamline,None
SortField:
SortValue: null
Mosaic Operator: First
Default Compression Quality: 75
Default Resampling Method: Bilinear
Max Record Count: 1000
Max Image Height: 4100
Max Image Width: 15000
Max Download Image Count: 20
Max Mosaic Image Count: 20
Allow Raster Function: true
Allow Copy: true
Allow Analysis: true
Allow Compute TiePoints: false
Supports Statistics: true
Supports Advanced Queries: true
Use StandardizedQueries: true
Raster Type Infos:
Name: Raster Dataset
Description: Supports all ArcGIS Raster Datasets
Help:
Has Raster Attribute Table: true
Edit Fields Info: null
Ownership Based AccessControl For Rasters: null
Child Resources:
Info
Raster Attribute Table
Histograms
Statistics
Key Properties
Legend
Raster Function Infos
Supported Operations:
Export Image
Query
Identify
Measure
Compute Histograms
Compute Statistics Histograms
Get Samples
Compute Class Statistics
Query Boundary
Compute Pixel Location
Validate
Project