View In:
ArcGIS JavaScript
ArcGIS Online Map Viewer
ArcGIS Earth
ArcMap
View Footprint In:
ArcGIS Online Map Viewer
Service Description: To provide users with Alaska Delta Junction imagery.
Name: ortho_imagery/alaska_delta_junction_2021
Description: To provide users with Alaska Delta Junction imagery.
Single Fused Map Cache: false
Extent:
XMin: -1.62806127546E7
YMin: 9254885.153300023
XMax: -1.608531275460002E7
YMax: 9445841.153300002
Spatial Reference: 102100
(3857)
Initial Extent:
XMin: -1.62806127546E7
YMin: 9254885.153300023
XMax: -1.608531275460002E7
YMax: 9445841.153300002
Spatial Reference: 102100
(3857)
Full Extent:
XMin: -1.62806127546E7
YMin: 9254885.153300023
XMax: -1.608531275460002E7
YMax: 9445841.153300002
Spatial Reference: 102100
(3857)
Pixel Size X: 0.14999999999998426
Pixel Size Y: 0.1499999999999839
Band Count: 4
Pixel Type: U8
RasterFunction Infos: {"rasterFunctionInfos": [
{
"name": "NaturalColor_4Band_Vivid_NoStretch",
"description": "Natural Color, 4-Band vivid, no stretch applied.",
"help": ""
},
{
"name": "ColorInfrared_4Band_Vivid_NoStretch",
"description": "Color Infrared (CIR), 4-band vivid, no stretch applied.",
"help": ""
},
{
"name": "None",
"description": "Make a Raster or Raster Dataset into a Function Raster Dataset.",
"help": ""
}
]}
Mensuration Capabilities: Basic
Has Histograms: true
Has Colormap: false
Has Multi Dimensions : false
Rendering Rule:
Min Scale: 0
Max Scale: 0
Copyright Text: USDA-NRCS-NGCE & USDA-FSA
Service Data Type: esriImageServiceDataTypeGeneric
Min Values: 3, 27, 43, 2
Max Values: 220, 221, 221, 205
Mean Values: 87.45765629323986, 101.35744979791629, 99.01794593411017, 138.1605736859848
Standard Deviation Values: 31.263582033668854, 23.765555885856823, 19.969775920383547, 25.93558923507986
Object ID Field: OBJECTID
Fields:
-
OBJECTID
(
type: esriFieldTypeOID, alias: OBJECTID
)
-
Shape
(
type: esriFieldTypeGeometry, alias: Shape
)
-
Name
(
type: esriFieldTypeString, alias: Name, length: 200
)
-
Category
(
type: esriFieldTypeInteger, alias: Category
, Coded Values:
[0: Unknown]
, [1: Primary]
, [2: Overview]
, ...6 more...
)
-
CenterX
(
type: esriFieldTypeDouble, alias: CenterX
)
-
CenterY
(
type: esriFieldTypeDouble, alias: CenterY
)
Default Mosaic Method: Northwest
Allowed Mosaic Methods: NorthWest,Center,LockRaster,ByAttribute,Nadir,Viewpoint,Seamline,None
SortField:
SortValue: null
Mosaic Operator: First
Default Compression Quality: 75
Default Resampling Method: Bilinear
Max Record Count: 1000
Max Image Height: 4100
Max Image Width: 15000
Max Download Image Count: 20
Max Mosaic Image Count: 20
Allow Raster Function: true
Allow Copy: true
Allow Analysis: true
Allow Compute TiePoints: false
Supports Statistics: true
Supports Advanced Queries: true
Use StandardizedQueries: true
Raster Type Infos:
Name: Raster Dataset
Description: Supports all ArcGIS Raster Datasets
Help:
Has Raster Attribute Table: false
Edit Fields Info: null
Ownership Based AccessControl For Rasters: null
Child Resources:
Info
Histograms
Statistics
Key Properties
Legend
Raster Function Infos
Supported Operations:
Export Image
Query
Identify
Measure
Compute Histograms
Compute Statistics Histograms
Get Samples
Compute Class Statistics
Query Boundary
Compute Pixel Location
Validate
Project