View In:
ArcGIS JavaScript
ArcGIS Online Map Viewer
ArcGIS Earth
ArcMap
View Footprint In:
ArcGIS Online Map Viewer
Service Description: The American Samoa imagery is a licensed dataset from Maxar Intelligence. USDA-FPAC acquired the license in 2021. All imagery is 4 band (1: Blue, 2: Green, 3: Red, 4:IR) GeoTiffs, uncompressed, with 8 bit color. The imagery was collected at 0.5 meter resolution between 2014-2020 and is projected in WGS 1984 Web Mercator (auxiliary sphere). Raster functions include Natural Color and CIR.
Purpose: To provide USDA-NRCS, its partners and the public with updated digital orthographic imagery and metadata covering American Samoa.
Creation Date: 20210624
Publication Date: 20210624
Revision Date: 20210624
Refresh Cycle: Updated periodically as new imagery becomes available
Version: 1.0.0
Change Log: Service Deployed
Report Service Errors
Name: ortho_imagery/american_samoa_vivid_2020_50cm
Description: The American Samoa imagery is a licensed dataset from Maxar Intelligence. USDA-FPAC acquired the license in 2021. All imagery is 4 band (1: Blue, 2: Green, 3: Red, 4:IR) GeoTiffs, uncompressed, with 8 bit color. The imagery was collected at 0.5 meter resolution between 2014-2020 and is projected in WGS 1984 Web Mercator (auxiliary sphere). Raster functions include Natural Color and CIR.
Purpose: To provide USDA-NRCS, its partners and the public with updated digital orthographic imagery and metadata covering American Samoa.
Creation Date: 20210624
Publication Date: 20210624
Revision Date: 20210624
Refresh Cycle: Updated periodically as new imagery becomes available
Version: 1.0.0
Change Log: Service Deployed
Report Service Errors
Single Fused Map Cache: false
Extent:
XMin: -1.90493304411E7
YMin: -1641975.962908652
XMax: -1.8711353878974482E7
YMax: -1230556.4059000018
Spatial Reference: 102100
(3857)
Initial Extent:
XMin: -1.90493304411E7
YMin: -1641975.962908652
XMax: -1.8711353878974482E7
YMax: -1230556.4059000018
Spatial Reference: 102100
(3857)
Full Extent:
XMin: -1.90493304411E7
YMin: -1641975.962908652
XMax: -1.8711353878974482E7
YMax: -1230556.4059000018
Spatial Reference: 102100
(3857)
Pixel Size X: 0.4995884201645488
Pixel Size Y: 0.4995884201645505
Band Count: 4
Pixel Type: U8
RasterFunction Infos: {"rasterFunctionInfos": [
{
"name": "Natural Color No Stretch",
"description": "Natural Color Red 3, Green 2, Blue 1",
"help": ""
},
{
"name": "Color Infrared (CIR) No Stretch",
"description": "RGB (Red 4, Green 3, Blue 2)",
"help": ""
},
{
"name": "None",
"description": "",
"help": ""
}
]}
Mensuration Capabilities: None
Has Histograms: true
Has Colormap: false
Has Multi Dimensions : false
Rendering Rule:
Min Scale: 0
Max Scale: 0
Copyright Text: American Samoa Imagery Service provided by USDA-FPAC. Images provided by © 2021 Maxar Intelligence.
Service Data Type: esriImageServiceDataTypeGeneric
Min Values: 19, 15, 11, 2
Max Values: 216, 220, 217, 225
Mean Values: 67.79003331679323, 48.46948323527313, 36.85985680867628, 49.28553200538756
Standard Deviation Values: 15.712169122055897, 24.130296405795743, 22.109654057898723, 31.890777415779244
Object ID Field: OBJECTID
Fields:
-
OBJECTID
(
type: esriFieldTypeOID, alias: OBJECTID
)
-
Shape
(
type: esriFieldTypeGeometry, alias: Shape
)
-
Name
(
type: esriFieldTypeString, alias: Name, length: 200
)
-
Category
(
type: esriFieldTypeInteger, alias: Category
, Coded Values:
[0: Unknown]
, [1: Primary]
, [2: Overview]
, ...6 more...
)
-
CenterX
(
type: esriFieldTypeDouble, alias: CenterX
)
-
CenterY
(
type: esriFieldTypeDouble, alias: CenterY
)
-
Shape_Length
(
type: esriFieldTypeDouble, alias: Shape_Length
)
-
Shape_Area
(
type: esriFieldTypeDouble, alias: Shape_Area
)
Default Mosaic Method: Northwest
Allowed Mosaic Methods: NorthWest,Center,LockRaster,ByAttribute,Nadir,Viewpoint,Seamline,None
SortField:
SortValue: null
Mosaic Operator: First
Default Compression Quality: 75
Default Resampling Method: Bilinear
Max Record Count: 1000
Max Image Height: 4100
Max Image Width: 15000
Max Download Image Count: 20
Max Mosaic Image Count: 20
Allow Raster Function: true
Allow Copy: true
Allow Analysis: true
Allow Compute TiePoints: false
Supports Statistics: true
Supports Advanced Queries: true
Use StandardizedQueries: true
Raster Type Infos:
Name: Raster Dataset
Description: Supports all ArcGIS Raster Datasets
Help:
Has Raster Attribute Table: false
Edit Fields Info: null
Ownership Based AccessControl For Rasters: null
Child Resources:
Info
Histograms
Statistics
Key Properties
Legend
Raster Function Infos
Supported Operations:
Export Image
Query
Identify
Compute Histograms
Compute Statistics Histograms
Get Samples
Compute Class Statistics
Query Boundary
Compute Pixel Location
Validate
Project