View In:
ArcGIS JavaScript
ArcGIS Online Map Viewer
ArcGIS Earth
ArcMap
View Footprint In:
ArcGIS Online Map Viewer
Service Description: This image service provides information about the imagery collected for Marshall Islands. Attributes include center x and center y. This is a licensed dataset from Maxar Intelligence.
Purpose: To provide USDA-NRCS, its partners and the public with updated digital orthographic imagery covering Marshall Islands.
Creation Date: 20220322
Publication Date: 20220322
Revision Date: 20220713
Refresh Cycle: Updated periodically as new imagery becomes available
Version: 1.0.1
Change Log: Service Deployed
Report Service Errors
Name: ortho_imagery/marshall_islands_vivid_2021_50cm
Description: This image service provides information about the imagery collected for Marshall Islands. Attributes include center x and center y. This is a licensed dataset from Maxar Intelligence.
Purpose: To provide USDA-NRCS, its partners and the public with updated digital orthographic imagery covering Marshall Islands.
Creation Date: 20220322
Publication Date: 20220322
Revision Date: 20220713
Refresh Cycle: Updated periodically as new imagery becomes available
Version: 1.0.1
Change Log: Service Deployed
Report Service Errors
Single Fused Map Cache: false
Extent:
XMin: 1.7894825565899998E7
YMin: 499477.87523846934
XMax: 1.9176533646307915E7
YMax: 1662203.977499999
Spatial Reference: 102100
(3857)
Initial Extent:
XMin: 1.7894825565899998E7
YMin: 499477.87523846934
XMax: 1.9176533646307915E7
YMax: 1662203.977499999
Spatial Reference: 102100
(3857)
Full Extent:
XMin: 1.7894825565899998E7
YMin: 499477.87523846934
XMax: 1.9176533646307915E7
YMax: 1662203.977499999
Spatial Reference: 102100
(3857)
Pixel Size X: 0.49958842016454996
Pixel Size Y: 0.4995884201645506
Band Count: 4
Pixel Type: U8
RasterFunction Infos: {"rasterFunctionInfos": [
{
"name": "NaturalColor_4Band_Vivid_NoStretch",
"description": "Natural Color, 4-Band vivid, no stretch applied.",
"help": ""
},
{
"name": "Color Infrared (CIR) No Stretch",
"description": "RGB (Red 4, Green 3, Blue 2)",
"help": ""
},
{
"name": "None",
"description": "",
"help": ""
}
]}
Mensuration Capabilities: Basic
Has Histograms: false
Has Colormap: false
Has Multi Dimensions : false
Rendering Rule:
Min Scale: 0
Max Scale: 0
Copyright Text: Marshall Islands Imagery Service provided by USDA-FPAC. Images provided by © 2021 Maxar Intelligence.
Service Data Type: esriImageServiceDataTypeGeneric
Min Values: N/A
Max Values: N/A
Mean Values: N/A
Standard Deviation Values: N/A
Object ID Field: OBJECTID
Fields:
-
OBJECTID
(
type: esriFieldTypeOID, alias: OBJECTID
)
-
Shape
(
type: esriFieldTypeGeometry, alias: Shape
)
-
Name
(
type: esriFieldTypeString, alias: Name, length: 200
)
-
Category
(
type: esriFieldTypeInteger, alias: Category
, Coded Values:
[0: Unknown]
, [1: Primary]
, [2: Overview]
, ...6 more...
)
-
GroupName
(
type: esriFieldTypeString, alias: GroupName, length: 100
)
-
CenterX
(
type: esriFieldTypeDouble, alias: CenterX
)
-
CenterY
(
type: esriFieldTypeDouble, alias: CenterY
)
-
Shape_Length
(
type: esriFieldTypeDouble, alias: Shape_Length
)
-
Shape_Area
(
type: esriFieldTypeDouble, alias: Shape_Area
)
Default Mosaic Method: Northwest
Allowed Mosaic Methods: NorthWest,Center,LockRaster,ByAttribute,Nadir,Viewpoint,Seamline,None
SortField:
SortValue: null
Mosaic Operator: First
Default Compression Quality: 75
Default Resampling Method: Bilinear
Max Record Count: 1000
Max Image Height: 4100
Max Image Width: 15000
Max Download Image Count: 20
Max Mosaic Image Count: 20
Allow Raster Function: true
Allow Copy: true
Allow Analysis: true
Allow Compute TiePoints: false
Supports Statistics: true
Supports Advanced Queries: true
Use StandardizedQueries: true
Raster Type Infos:
Name: Raster Dataset
Description: Supports all ArcGIS Raster Datasets
Help:
Has Raster Attribute Table: false
Edit Fields Info: null
Ownership Based AccessControl For Rasters: null
Child Resources:
Info
Statistics
Key Properties
Legend
Raster Function Infos
Supported Operations:
Export Image
Query
Identify
Measure
Compute Histograms
Compute Statistics Histograms
Get Samples
Compute Class Statistics
Query Boundary
Compute Pixel Location
Validate
Project