View In:
ArcGIS JavaScript
ArcGIS Online Map Viewer
ArcGIS Earth
ArcMap
View Footprint In:
ArcGIS Online Map Viewer
Service Description: This image service provides information about the imagery collected for Micronesia. Attributes include center x and center y. This is a licensed dataset from Maxar Intelligence.
Purpose: To provide USDA-NRCS, its partners and the public with updated digital orthographic imagery covering Micronesia.
Creation Date: 20161028 - 20210712
Publication Date: 20210125
Revision Date: 20221021
Refresh Cycle: Updated periodically as new imagery becomes available
Version: 1.0.2
Change Log: Service Deployed
Report Service Errors
Name: ortho_imagery/micronesia_vivid_2021_50cm
Description: This image service provides information about the imagery collected for Micronesia. Attributes include center x and center y. This is a licensed dataset from Maxar Intelligence.
Purpose: To provide USDA-NRCS, its partners and the public with updated digital orthographic imagery covering Micronesia.
Creation Date: 20161028 - 20210712
Publication Date: 20210125
Revision Date: 20221021
Refresh Cycle: Updated periodically as new imagery becomes available
Version: 1.0.2
Change Log: Service Deployed
Report Service Errors
Single Fused Map Cache: false
Extent:
XMin: 1.5282513687200002E7
YMin: 107597.75768770813
XMax: 1.8158991935627755E7
YMax: 1131034.6117
Spatial Reference: 102100
(3857)
Initial Extent:
XMin: 1.5282513687200002E7
YMin: 107597.75768770813
XMax: 1.8158991935627755E7
YMax: 1131034.6117
Spatial Reference: 102100
(3857)
Full Extent:
XMin: 1.5282513687200002E7
YMin: 107597.75768770813
XMax: 1.8158991935627755E7
YMax: 1131034.6117
Spatial Reference: 102100
(3857)
Pixel Size X: 0.49958842016455063
Pixel Size Y: 0.49958842016455063
Band Count: 4
Pixel Type: U8
RasterFunction Infos: {"rasterFunctionInfos": [
{
"name": "NaturalColor_4Band_Vivid_NoStretch",
"description": "Natural Color, 4-Band vivid, no stretch applied.",
"help": ""
},
{
"name": "Color Infrared (CIR) No Stretch",
"description": "RGB (Red 4, Green 3, Blue 2)",
"help": ""
},
{
"name": "None",
"description": "",
"help": ""
}
]}
Mensuration Capabilities: Basic
Has Histograms: true
Has Colormap: false
Has Multi Dimensions : false
Rendering Rule:
Min Scale: 0
Max Scale: 0
Copyright Text: Micronesia Imagery Service provided by USDA-FPAC. Images provided by © 2021 Maxar Intelligence.
Service Data Type: esriImageServiceDataTypeGeneric
Min Values: 0, 0, 0, 0
Max Values: 254, 255, 254, 236
Mean Values: 81.24494774685297, 68.75256362331578, 57.492911385394244, 41.357936963941555
Standard Deviation Values: 33.853121568978985, 43.0793470390975, 43.11192038298741, 42.84058282052145
Object ID Field: OBJECTID
Fields:
-
OBJECTID
(
type: esriFieldTypeOID, alias: OBJECTID
)
-
Shape
(
type: esriFieldTypeGeometry, alias: Shape
)
-
Name
(
type: esriFieldTypeString, alias: Name, length: 200
)
-
Category
(
type: esriFieldTypeInteger, alias: Category
, Coded Values:
[0: Unknown]
, [1: Primary]
, [2: Overview]
, ...6 more...
)
-
GroupName
(
type: esriFieldTypeString, alias: GroupName, length: 100
)
-
CenterX
(
type: esriFieldTypeDouble, alias: CenterX
)
-
CenterY
(
type: esriFieldTypeDouble, alias: CenterY
)
-
Shape_Length
(
type: esriFieldTypeDouble, alias: Shape_Length
)
-
Shape_Area
(
type: esriFieldTypeDouble, alias: Shape_Area
)
Default Mosaic Method: Northwest
Allowed Mosaic Methods: NorthWest,Center,LockRaster,ByAttribute,Nadir,Viewpoint,Seamline,None
SortField:
SortValue: null
Mosaic Operator: First
Default Compression Quality: 75
Default Resampling Method: Bilinear
Max Record Count: 1000
Max Image Height: 4100
Max Image Width: 15000
Max Download Image Count: 20
Max Mosaic Image Count: 20
Allow Raster Function: true
Allow Copy: true
Allow Analysis: true
Allow Compute TiePoints: false
Supports Statistics: true
Supports Advanced Queries: true
Use StandardizedQueries: true
Raster Type Infos:
Name: Raster Dataset
Description: Supports all ArcGIS Raster Datasets
Help:
Has Raster Attribute Table: false
Edit Fields Info: null
Ownership Based AccessControl For Rasters: null
Child Resources:
Info
Histograms
Statistics
Key Properties
Legend
Raster Function Infos
Supported Operations:
Export Image
Query
Identify
Measure
Compute Histograms
Compute Statistics Histograms
Get Samples
Compute Class Statistics
Query Boundary
Compute Pixel Location
Validate
Project