View In:
ArcGIS JavaScript
ArcGIS Online Map Viewer
ArcGIS Earth
ArcMap
View Footprint In:
ArcGIS Online Map Viewer
Service Description: This image service provides information about the imagery collected for Micronesia. Attributes include center x and center y. This is a licensed dataset from Maxar Intelligence.
Purpose: To provide USDA-NRCS, its partners and the public with updated digital orthographic imagery covering Micronesia.
Creation Date: 20231109
Publication Date: 20231109
Revision Date:
Refresh Cycle: Updated periodically as new imagery becomes available
Version: 1.0.0
Change Log: Service deployed.
Report Service Errors
Name: ortho_imagery/micronesia_vivid_2023_30cm
Description: This image service provides information about the imagery collected for Micronesia. Attributes include center x and center y. This is a licensed dataset from Maxar Intelligence.
Purpose: To provide USDA-NRCS, its partners and the public with updated digital orthographic imagery covering Micronesia.
Creation Date: 20231109
Publication Date: 20231109
Revision Date:
Refresh Cycle: Updated periodically as new imagery becomes available
Version: 1.0.0
Change Log: Service deployed.
Report Service Errors
Single Fused Map Cache: false
Extent:
XMin: 1.5282513687200002E7
YMin: 107626.40596117685
XMax: 1.8159008656227693E7
YMax: 1131034.6116999998
Spatial Reference: 102100
(3857)
Initial Extent:
XMin: 1.5282513687200002E7
YMin: 107626.40596117685
XMax: 1.8159008656227693E7
YMax: 1131034.6116999998
Spatial Reference: 102100
(3857)
Full Extent:
XMin: 1.5282513687200002E7
YMin: 107626.40596117685
XMax: 1.8159008656227693E7
YMax: 1131034.6116999998
Spatial Reference: 102100
(3857)
Pixel Size X: 0.2985821417389698
Pixel Size Y: 0.2985821417389697
Band Count: 4
Pixel Type: U8
RasterFunction Infos: {"rasterFunctionInfos": [
{
"name": "Natural Color No Stretch",
"description": "Natural Color Red 3, Green 2, Blue 1",
"help": ""
},
{
"name": "Color Infrared (CIR) No Stretch",
"description": "RGB (Red 4, Green 3, Blue 2)",
"help": ""
},
{
"name": "None",
"description": "",
"help": ""
}
]}
Mensuration Capabilities: Basic
Has Histograms: false
Has Colormap: false
Has Multi Dimensions : false
Rendering Rule:
Min Scale: 0
Max Scale: 0
Copyright Text:
Service Data Type: esriImageServiceDataTypeGeneric
Min Values: N/A
Max Values: N/A
Mean Values: N/A
Standard Deviation Values: N/A
Object ID Field: OBJECTID
Fields:
-
OBJECTID
(
type: esriFieldTypeOID, alias: OBJECTID
)
-
Shape
(
type: esriFieldTypeGeometry, alias: Shape
)
-
Name
(
type: esriFieldTypeString, alias: Name, length: 200
)
-
Category
(
type: esriFieldTypeInteger, alias: Category
, Coded Values:
[0: Unknown]
, [1: Primary]
, [2: Overview]
, ...6 more...
)
-
GroupName
(
type: esriFieldTypeString, alias: GroupName, length: 100
)
-
CenterX
(
type: esriFieldTypeDouble, alias: CenterX
)
-
CenterY
(
type: esriFieldTypeDouble, alias: CenterY
)
-
Shape_Length
(
type: esriFieldTypeDouble, alias: Shape_Length
)
-
Shape_Area
(
type: esriFieldTypeDouble, alias: Shape_Area
)
Default Mosaic Method: Northwest
Allowed Mosaic Methods: NorthWest,Center,LockRaster,ByAttribute,Nadir,Viewpoint,Seamline,None
SortField:
SortValue: null
Mosaic Operator: First
Default Compression Quality: 75
Default Resampling Method: Bilinear
Max Record Count: 1000
Max Image Height: 4100
Max Image Width: 15000
Max Download Image Count: 20
Max Mosaic Image Count: 20
Allow Raster Function: true
Allow Copy: true
Allow Analysis: true
Allow Compute TiePoints: false
Supports Statistics: true
Supports Advanced Queries: true
Use StandardizedQueries: true
Raster Type Infos:
Name: Raster Dataset
Description: Supports all ArcGIS Raster Datasets
Help:
Has Raster Attribute Table: false
Edit Fields Info: null
Ownership Based AccessControl For Rasters: null
Child Resources:
Info
Statistics
Key Properties
Legend
Raster Function Infos
Supported Operations:
Export Image
Query
Identify
Measure
Compute Histograms
Compute Statistics Histograms
Get Samples
Compute Class Statistics
Query Boundary
Compute Pixel Location
Validate
Project