View In:
ArcGIS JavaScript
ArcGIS Online Map Viewer
ArcGIS Earth
ArcMap
View Footprint In:
ArcGIS Online Map Viewer
Service Description: Palau Imagery service provided by USDA-FPAC. Images provided © 2020 Maxar Technologies Inc.
Name: ortho_imagery/palau_vivid
Description: Palau Imagery service provided by USDA-FPAC. Images provided © 2020 Maxar Technologies Inc.
Single Fused Map Cache: false
Extent:
XMin: 1.4587853974200003E7
YMin: 303416.11756362
XMax: 1.5008563377881613E7
YMax: 951495.2054999993
Spatial Reference: 102100
(3857)
Initial Extent:
XMin: 1.4587853974200003E7
YMin: 303416.11756362
XMax: 1.5008563377881613E7
YMax: 951495.2054999993
Spatial Reference: 102100
(3857)
Full Extent:
XMin: 1.4587853974200003E7
YMin: 303416.11756362
XMax: 1.5008563377881613E7
YMax: 951495.2054999993
Spatial Reference: 102100
(3857)
Pixel Size X: 0.4995884201645503
Pixel Size Y: 0.49958842016455063
Band Count: 4
Pixel Type: U8
RasterFunction Infos: {"rasterFunctionInfos": [
{
"name": "Natural Color",
"description": "Natural Color Display",
"help": "Natural Color: Red: Band 3, Green: Band 2, Blue: Band 1, Strectch type: 6.5 standard deviations"
},
{
"name": "Color Infrared (CIR)",
"description": "Color Infrared Display",
"help": "Color Infrared (CIR): Red: Band 4, Green: Band 3, Blue: band 2, Standard Deviation stretch type: 6.5 deviations"
},
{
"name": "None",
"description": "",
"help": ""
}
]}
Mensuration Capabilities: None
Has Histograms: true
Has Colormap: false
Has Multi Dimensions : false
Rendering Rule:
Min Scale: 0
Max Scale: 0
Copyright Text: Images provided © 2020 Maxar Technologies Inc.
Service Data Type: esriImageServiceDataTypeGeneric
Min Values: 7, 3, 1, 1
Max Values: 255, 255, 255, 255
Mean Values: 74.66017974922117, 58.230122490396624, 41.181307530622476, 34.60404435746892
Standard Deviation Values: 31.79002939767105, 43.20529339039539, 36.501179388877816, 31.518353081466472
Object ID Field: OBJECTID
Fields:
-
OBJECTID
(
type: esriFieldTypeOID, alias: OBJECTID
)
-
Shape
(
type: esriFieldTypeGeometry, alias: Shape
)
-
Category
(
type: esriFieldTypeInteger, alias: Category
, Coded Values:
[0: Unknown]
, [1: Primary]
, [2: Overview]
, ...6 more...
)
-
CenterX
(
type: esriFieldTypeDouble, alias: CenterX
)
-
CenterY
(
type: esriFieldTypeDouble, alias: CenterY
)
-
Shape_Length
(
type: esriFieldTypeDouble, alias: Shape_Length
)
-
Shape_Area
(
type: esriFieldTypeDouble, alias: Shape_Area
)
Default Mosaic Method: Northwest
Allowed Mosaic Methods: NorthWest,Center,LockRaster,ByAttribute,Nadir,Viewpoint,Seamline,None
SortField:
SortValue: null
Mosaic Operator: First
Default Compression Quality: 75
Default Resampling Method: Bilinear
Max Record Count: 1000
Max Image Height: 4100
Max Image Width: 15000
Max Download Image Count: 20
Max Mosaic Image Count: 20
Allow Raster Function: true
Allow Copy: true
Allow Analysis: true
Allow Compute TiePoints: false
Supports Statistics: true
Supports Advanced Queries: true
Use StandardizedQueries: true
Raster Type Infos:
Name: Raster Dataset
Description: Supports all ArcGIS Raster Datasets
Help:
Has Raster Attribute Table: false
Edit Fields Info: null
Ownership Based AccessControl For Rasters: null
Child Resources:
Info
Histograms
Statistics
Key Properties
Legend
Raster Function Infos
Supported Operations:
Export Image
Query
Identify
Compute Histograms
Compute Statistics Histograms
Get Samples
Compute Class Statistics
Query Boundary
Compute Pixel Location
Validate
Project