View In:
ArcGIS JavaScript
ArcGIS Online Map Viewer
ArcGIS Earth
ArcMap
View Footprint In:
ArcGIS Online Map Viewer
Service Description: The purpose of this project is to provide the United States Department of Agricultures (USDA) Aerial Photography Field Office (APFO) with current true-color digital orthophotography for Puerto Rico, the U.S. Virgin Islands, and the surrounding islands. The APFO is the prime source of aerial imagery for USDAs research needs. The contracting agency for the project is the St. Louis District of the U.S. Army Corp of Engineers (USACE).
Purpose: To provide USDA-NRCS, its partners and the public with updated digital orthographic imagery and metadata covering Puerto Rico and the Virgin Islands.
Creation Date: 20230919
Publication Date: 20230919
Revision Date:
Refresh Cycle: Updated periodically as new imagery becomes available
Version: 1.0.0
Change Log: Service Deployed
Report Service Errors
Name: ortho_imagery/puerto_rico_usvi_2004_1m
Description: The purpose of this project is to provide the United States Department of Agricultures (USDA) Aerial Photography Field Office (APFO) with current true-color digital orthophotography for Puerto Rico, the U.S. Virgin Islands, and the surrounding islands. The APFO is the prime source of aerial imagery for USDAs research needs. The contracting agency for the project is the St. Louis District of the U.S. Army Corp of Engineers (USACE).
Purpose: To provide USDA-NRCS, its partners and the public with updated digital orthographic imagery and metadata covering Puerto Rico and the Virgin Islands.
Creation Date: 20230919
Publication Date: 20230919
Revision Date:
Refresh Cycle: Updated periodically as new imagery becomes available
Version: 1.0.0
Change Log: Service Deployed
Report Service Errors
Single Fused Map Cache: false
Extent:
XMin: -7565366.6108
YMin: 1993125.387600001
XMax: -7186561.6108
YMax: 2103765.387600001
Spatial Reference: 102100
(3857)
Initial Extent:
XMin: -7565366.6108
YMin: 1993125.387600001
XMax: -7186561.6108
YMax: 2103765.387600001
Spatial Reference: 102100
(3857)
Full Extent:
XMin: -7565366.6108
YMin: 1993125.387600001
XMax: -7186561.6108
YMax: 2103765.387600001
Spatial Reference: 102100
(3857)
Pixel Size X: 1.0
Pixel Size Y: 1.0
Band Count: 3
Pixel Type: U8
RasterFunction Infos: {"rasterFunctionInfos": [{
"name": "None",
"description": "Make a Raster or Raster Dataset into a Function Raster Dataset.",
"help": ""
}]}
Mensuration Capabilities: Basic
Has Histograms: true
Has Colormap: false
Has Multi Dimensions : false
Rendering Rule:
Min Scale: 0
Max Scale: 0
Copyright Text: Puerto Rico and Virgin Island Imagery Service provided by USDA-FPAC.
Service Data Type: esriImageServiceDataTypeRGB
Min Values: 0, 0, 2
Max Values: 255, 255, 255
Mean Values: 77.96408177553158, 90.43695577728856, 80.1324631572357
Standard Deviation Values: 39.03934755692731, 38.44046034828703, 29.780669688013077
Object ID Field: OBJECTID
Fields:
-
OBJECTID
(
type: esriFieldTypeOID, alias: OBJECTID
)
-
Shape
(
type: esriFieldTypeGeometry, alias: Shape
)
-
Name
(
type: esriFieldTypeString, alias: Name, length: 200
)
-
Category
(
type: esriFieldTypeInteger, alias: Category
, Coded Values:
[0: Unknown]
, [1: Primary]
, [2: Overview]
, ...6 more...
)
-
GroupName
(
type: esriFieldTypeString, alias: GroupName, length: 100
)
-
CenterX
(
type: esriFieldTypeDouble, alias: CenterX
)
-
CenterY
(
type: esriFieldTypeDouble, alias: CenterY
)
-
Shape_Length
(
type: esriFieldTypeDouble, alias: Shape_Length
)
-
Shape_Area
(
type: esriFieldTypeDouble, alias: Shape_Area
)
Default Mosaic Method: Northwest
Allowed Mosaic Methods: NorthWest,Center,LockRaster,ByAttribute,Nadir,Viewpoint,Seamline,None
SortField:
SortValue: null
Mosaic Operator: First
Default Compression Quality: 75
Default Resampling Method: Bilinear
Max Record Count: 1000
Max Image Height: 4100
Max Image Width: 15000
Max Download Image Count: 20
Max Mosaic Image Count: 20
Allow Raster Function: true
Allow Copy: true
Allow Analysis: true
Allow Compute TiePoints: false
Supports Statistics: true
Supports Advanced Queries: true
Use StandardizedQueries: true
Raster Type Infos:
Name: Raster Dataset
Description: Supports all ArcGIS Raster Datasets
Help:
Has Raster Attribute Table: false
Edit Fields Info: null
Ownership Based AccessControl For Rasters: null
Child Resources:
Info
Histograms
Statistics
Key Properties
Legend
Raster Function Infos
Supported Operations:
Export Image
Query
Identify
Measure
Compute Histograms
Compute Statistics Histograms
Get Samples
Compute Class Statistics
Query Boundary
Compute Pixel Location
Validate
Project