View In:
ArcGIS JavaScript
ArcGIS Online Map Viewer
ArcGIS Earth
ArcMap
View Footprint In:
ArcGIS Online Map Viewer
Service Description: Depressions is a Teren Inc. developed derivative created to identify the location and relative depth of accumulation for depressions within the HUC. Representing low lying areas where water is likely to collect/pool or emerge from groundwater sources. Using multiple DEM derivatives to examine negative elevation differences created the Depressions layer. The final surface has values where higher values represent sinks or accumulating areas where moisture is likely to collect (e.g., playas, potholes, basins, and any other depressions.). The values identify the potential accumulated depths within the depressions. The lower values represent low accumulation where elevated values represent increased.
Purpose: The purpose of this dataset is to inform the hydrography and CETWI model based on depressional areas where surface moisture will accumulate into closed depressional areas that capture and retain moisture. These areas are weighted based on the amount of accumulated hydrology.
Creation Date: 20240719
Publication Date: 20240719
Revision Date:
Refresh Cycle: Updated periodically as new imagery becomes available
Version: 1.0.0
Change Log: Service deployed.
Report Service Errors
Name: cetwi/cetwi_depressions_2022_10m
Description: Depressions is a Teren Inc. developed derivative created to identify the location and relative depth of accumulation for depressions within the HUC. Representing low lying areas where water is likely to collect/pool or emerge from groundwater sources. Using multiple DEM derivatives to examine negative elevation differences created the Depressions layer. The final surface has values where higher values represent sinks or accumulating areas where moisture is likely to collect (e.g., playas, potholes, basins, and any other depressions.). The values identify the potential accumulated depths within the depressions. The lower values represent low accumulation where elevated values represent increased.
Purpose: The purpose of this dataset is to inform the hydrography and CETWI model based on depressional areas where surface moisture will accumulate into closed depressional areas that capture and retain moisture. These areas are weighted based on the amount of accumulated hydrology.
Creation Date: 20240719
Publication Date: 20240719
Revision Date:
Refresh Cycle: Updated periodically as new imagery becomes available
Version: 1.0.0
Change Log: Service deployed.
Report Service Errors
Single Fused Map Cache: false
Extent:
XMin: -1.41369485894E7
YMin: 2970825.0378575586
XMax: -1.002522920423133E7
YMax: 6388034.489299999
Spatial Reference: 102100
(3857)
Initial Extent:
XMin: -1.41369485894E7
YMin: 2970825.0378575586
XMax: -1.002522920423133E7
YMax: 6388034.489299999
Spatial Reference: 102100
(3857)
Full Extent:
XMin: -1.41369485894E7
YMin: 2970825.0378575586
XMax: -1.002522920423133E7
YMax: 6388034.489299999
Spatial Reference: 102100
(3857)
Pixel Size X: 10.307360251205587
Pixel Size Y: 10.307360251205589
Band Count: 1
Pixel Type: U32
RasterFunction Infos: {"rasterFunctionInfos": [
{
"name": "cetwi_depressions",
"description": "cetwi depressions symbolgoy",
"help": ""
},
{
"name": "None",
"description": "",
"help": ""
}
]}
Mensuration Capabilities: Basic
Has Histograms: true
Has Colormap: false
Has Multi Dimensions : false
Rendering Rule:
Min Scale: 0
Max Scale: 0
Copyright Text: CETWI Imagery Service provided by USDA-FPAC
Service Data Type: esriImageServiceDataTypeGeneric
Min Values: 0
Max Values: 156
Mean Values: 5.800000967387496
Standard Deviation Values: 10.179123815787495
Object ID Field: OBJECTID
Fields:
-
OBJECTID
(
type: esriFieldTypeOID, alias: OBJECTID
)
-
Shape
(
type: esriFieldTypeGeometry, alias: Shape
)
-
Name
(
type: esriFieldTypeString, alias: Name, length: 200
)
-
Category
(
type: esriFieldTypeInteger, alias: Category
, Coded Values:
[0: Unknown]
, [1: Primary]
, [2: Overview]
, ...6 more...
)
-
Tag
(
type: esriFieldTypeString, alias: Tag, length: 100
)
-
CenterX
(
type: esriFieldTypeDouble, alias: CenterX
)
-
CenterY
(
type: esriFieldTypeDouble, alias: CenterY
)
-
Shape_Length
(
type: esriFieldTypeDouble, alias: Shape_Length
)
-
Shape_Area
(
type: esriFieldTypeDouble, alias: Shape_Area
)
Default Mosaic Method: Northwest
Allowed Mosaic Methods: NorthWest,Center,LockRaster,ByAttribute,Nadir,Viewpoint,Seamline,None
SortField:
SortValue: null
Mosaic Operator: First
Default Compression Quality: 75
Default Resampling Method: Bilinear
Max Record Count: 1000
Max Image Height: 4100
Max Image Width: 15000
Max Download Image Count: 20
Max Mosaic Image Count: 20
Allow Raster Function: true
Allow Copy: true
Allow Analysis: true
Allow Compute TiePoints: false
Supports Statistics: true
Supports Advanced Queries: true
Use StandardizedQueries: true
Raster Type Infos:
Name: Raster Dataset
Description: Supports all ArcGIS Raster Datasets
Help:
Has Raster Attribute Table: false
Edit Fields Info: null
Ownership Based AccessControl For Rasters: null
Child Resources:
Info
Histograms
Statistics
Key Properties
Legend
Raster Function Infos
Supported Operations:
Export Image
Query
Identify
Download Rasters
Measure
Compute Histograms
Compute Statistics Histograms
Get Samples
Compute Class Statistics
Query Boundary
Compute Pixel Location
Validate
Project