View In:
ArcGIS JavaScript
ArcGIS Online Map Viewer
ArcGIS Earth
ArcMap
View Footprint In:
ArcGIS Online Map Viewer
Service Description: The Alaska Vivid imagery is a licensed dataset from DigitalGlobe with Maxar Intelligence. USDA-FPAC acquired the license in 2020. All imagery is 4-band GeoTiffs, uncompressed with 8-bit color. The imagery was collected at 0.5 meter resolution and is projected in WGS 1984 Web Mercator (auxiliary sphere).
Purpose: To provide users with Alaska Imagery.
Creation Date: 20210407
Publication Date: 20210407
Revision Date: 20210407
Refresh Cycle: Periodically as new imagery becomes available
Version: 1.0.0
Change Log: Service Deployed
Report Service Errors
Name: ortho_imagery/alaska_vivid_2020_50cm
Description: The Alaska Vivid imagery is a licensed dataset from DigitalGlobe with Maxar Intelligence. USDA-FPAC acquired the license in 2020. All imagery is 4-band GeoTiffs, uncompressed with 8-bit color. The imagery was collected at 0.5 meter resolution and is projected in WGS 1984 Web Mercator (auxiliary sphere).
Purpose: To provide users with Alaska Imagery.
Creation Date: 20210407
Publication Date: 20210407
Revision Date: 20210407
Refresh Cycle: Periodically as new imagery becomes available
Version: 1.0.0
Change Log: Service Deployed
Report Service Errors
Single Fused Map Cache: false
Extent:
XMin: -1.99494528862E7
YMin: 6648285.801412759
XMax: 2.0017940463552956E7
YMax: 1.1559698593800003E7
Spatial Reference: 102100
(3857)
Initial Extent:
XMin: -1.99494528862E7
YMin: 6648285.801412759
XMax: 2.0017940463552956E7
YMax: 1.1559698593800003E7
Spatial Reference: 102100
(3857)
Full Extent:
XMin: -1.99494528862E7
YMin: 6648285.801412759
XMax: 2.0017940463552956E7
YMax: 1.1559698593800003E7
Spatial Reference: 102100
(3857)
Pixel Size X: 0.49958842016455063
Pixel Size Y: 0.4995884201645506
Band Count: 4
Pixel Type: U8
RasterFunction Infos: {"rasterFunctionInfos": [
{
"name": "Natural Color",
"description": "Natural Color (Bands 3, 2, 1)",
"help": ""
},
{
"name": "None",
"description": "Make a Raster or Raster Dataset into a Function Raster Dataset.",
"help": ""
},
{
"name": "Color Infrared (CIR)",
"description": "Color Infrared (CIR)",
"help": "Color Infrared (CIR): Red: Band 4, Green: Band 3, Blue: band 2, Standard Deviation stretch type: 6.5 deviations"
}
]}
Mensuration Capabilities: None
Has Histograms: true
Has Colormap: false
Has Multi Dimensions : false
Rendering Rule:
Min Scale: 0
Max Scale: 0
Copyright Text: Alaska Imagery Service provided by USDA-FPAC. Images provided by © 2020 Maxar Technologies Inc.
Service Data Type: esriImageServiceDataTypeGeneric
Min Values: 11, 3, 1, 1
Max Values: 255, 255, 255, 255
Mean Values: 74.60820224719184, 94.02539325842824, 86.91366292134876, 86.55528089887677
Standard Deviation Values: 35.6553115659285, 32.81954556997999, 36.633056930666825, 29.419935357510848
Object ID Field: OBJECTID
Fields:
-
OBJECTID
(
type: esriFieldTypeOID, alias: OBJECTID
)
-
Shape
(
type: esriFieldTypeGeometry, alias: Shape
)
-
Name
(
type: esriFieldTypeString, alias: Name, length: 200
)
-
Category
(
type: esriFieldTypeInteger, alias: Category
, Coded Values:
[0: Unknown]
, [1: Primary]
, [2: Overview]
, ...6 more...
)
-
CenterX
(
type: esriFieldTypeDouble, alias: CenterX
)
-
CenterY
(
type: esriFieldTypeDouble, alias: CenterY
)
Default Mosaic Method: Northwest
Allowed Mosaic Methods: NorthWest,Center,LockRaster,ByAttribute,Nadir,Viewpoint,Seamline,None
SortField:
SortValue: null
Mosaic Operator: First
Default Compression Quality: 75
Default Resampling Method: Bilinear
Max Record Count: 1000
Max Image Height: 4100
Max Image Width: 15000
Max Download Image Count: 20
Max Mosaic Image Count: 50
Allow Raster Function: true
Allow Copy: true
Allow Analysis: true
Allow Compute TiePoints: false
Supports Statistics: true
Supports Advanced Queries: true
Use StandardizedQueries: true
Raster Type Infos:
Name: Raster Dataset
Description: Supports all ArcGIS Raster Datasets
Help:
Has Raster Attribute Table: false
Edit Fields Info: null
Ownership Based AccessControl For Rasters: null
Child Resources:
Info
Histograms
Statistics
Key Properties
Legend
Raster Function Infos
Supported Operations:
Export Image
Query
Identify
Compute Histograms
Compute Statistics Histograms
Get Samples
Compute Class Statistics
Query Boundary
Compute Pixel Location
Validate
Project