View In:
ArcGIS JavaScript
ArcGIS Online Map Viewer
ArcGIS Earth
ArcMap
View Footprint In:
ArcGIS Online Map Viewer
Service Description: This metadata service provides information about the imagery collected for the CNMI islands. Attributes include acquisition date, sensor, off_nadir, sun elevation, cloud cover, accuracy, resolution and image date. This is a licensed dataset from Maxar Intelligence.
Purpose: To provide USDA-NRCS, its partners and the public with updated digital orthographic imagery and metadata covering the CNMI Islands.
Creation Date: 20210624
Publication Date: 20210624
Revision Date: 20210624
Refresh Cycle: Updated periodically as new imagery becomes available
Version: 1.0.0
Change Log: Service Deployed
Report Service Errors
Name: ortho_imagery/cnmi_vivid_2020_50cm
Description: This metadata service provides information about the imagery collected for the CNMI islands. Attributes include acquisition date, sensor, off_nadir, sun elevation, cloud cover, accuracy, resolution and image date. This is a licensed dataset from Maxar Intelligence.
Purpose: To provide USDA-NRCS, its partners and the public with updated digital orthographic imagery and metadata covering the CNMI Islands.
Creation Date: 20210624
Publication Date: 20210624
Revision Date: 20210624
Refresh Cycle: Updated periodically as new imagery becomes available
Version: 1.0.0
Change Log: Service Deployed
Report Service Errors
Single Fused Map Cache: false
Extent:
XMin: 1.6123932494599998E7
YMin: 1581387.8049152927
XMax: 1.6270691588907536E7
YMax: 2340251.6242000014
Spatial Reference: 102100
(3857)
Initial Extent:
XMin: 1.6123932494599998E7
YMin: 1581387.8049152927
XMax: 1.6270691588907536E7
YMax: 2340251.6242000014
Spatial Reference: 102100
(3857)
Full Extent:
XMin: 1.6123932494599998E7
YMin: 1581387.8049152927
XMax: 1.6270691588907536E7
YMax: 2340251.6242000014
Spatial Reference: 102100
(3857)
Pixel Size X: 0.4995884201645497
Pixel Size Y: 0.4995884201645506
Band Count: 4
Pixel Type: U8
RasterFunction Infos: {"rasterFunctionInfos": [
{
"name": "Natural Color No Stretch",
"description": "Natural Color Red 3, Green 2, Blue 1",
"help": ""
},
{
"name": "Color Infrared (CIR) No Stretch",
"description": "RGB (Red 4, Green 3, Blue 2)",
"help": ""
},
{
"name": "None",
"description": "",
"help": ""
}
]}
Mensuration Capabilities: None
Has Histograms: true
Has Colormap: false
Has Multi Dimensions : false
Rendering Rule:
Min Scale: 0
Max Scale: 0
Copyright Text: CNMI Imagery Service provided by USDA-FPAC. Images provided by © 2021 Maxar Intelligence.
Service Data Type: esriImageServiceDataTypeGeneric
Min Values: 2, 3, 1, 1
Max Values: 239, 237, 241, 207
Mean Values: 64.95390562516621, 47.472887230072004, 35.98675019994679, 38.33343108504413
Standard Deviation Values: 18.011800190105774, 25.49698390561445, 24.22808915954679, 29.063859989479294
Object ID Field: OBJECTID
Fields:
-
OBJECTID
(
type: esriFieldTypeOID, alias: OBJECTID
)
-
Shape
(
type: esriFieldTypeGeometry, alias: Shape
)
-
Name
(
type: esriFieldTypeString, alias: Name, length: 200
)
-
Category
(
type: esriFieldTypeInteger, alias: Category
, Coded Values:
[0: Unknown]
, [1: Primary]
, [2: Overview]
, ...6 more...
)
-
CenterX
(
type: esriFieldTypeDouble, alias: CenterX
)
-
CenterY
(
type: esriFieldTypeDouble, alias: CenterY
)
-
Shape_Length
(
type: esriFieldTypeDouble, alias: Shape_Length
)
-
Shape_Area
(
type: esriFieldTypeDouble, alias: Shape_Area
)
Default Mosaic Method: Northwest
Allowed Mosaic Methods: NorthWest,Center,LockRaster,ByAttribute,Nadir,Viewpoint,Seamline,None
SortField:
SortValue: null
Mosaic Operator: First
Default Compression Quality: 75
Default Resampling Method: Bilinear
Max Record Count: 1000
Max Image Height: 4100
Max Image Width: 15000
Max Download Image Count: 20
Max Mosaic Image Count: 20
Allow Raster Function: true
Allow Copy: true
Allow Analysis: true
Allow Compute TiePoints: false
Supports Statistics: true
Supports Advanced Queries: true
Use StandardizedQueries: true
Raster Type Infos:
Name: Raster Dataset
Description: Supports all ArcGIS Raster Datasets
Help:
Has Raster Attribute Table: false
Edit Fields Info: null
Ownership Based AccessControl For Rasters: null
Child Resources:
Info
Histograms
Statistics
Key Properties
Legend
Raster Function Infos
Supported Operations:
Export Image
Query
Identify
Compute Histograms
Compute Statistics Histograms
Get Samples
Compute Class Statistics
Query Boundary
Compute Pixel Location
Validate
Project