View In:
ArcGIS JavaScript
ArcGIS Online Map Viewer
ArcGIS Earth
ArcMap
View Footprint In:
ArcGIS Online Map Viewer
Service Description: This image service provides information about the imagery collected for Guam. Attributes include center x and center y. This is a licensed dataset from Maxar Intelligence.
Purpose: To provide USDA-NRCS, its partners and the public with updated digital orthographic imagery covering Guam.
Creation Date: 20230404
Publication Date: 20230404
Revision Date:
Refresh Cycle: Updated periodically as new imagery becomes available
Version: 1.0.0
Change Log: Service Deployed
Report Service Errors
Name: ortho_imagery/guam_vivid_2022_30cm
Description: This image service provides information about the imagery collected for Guam. Attributes include center x and center y. This is a licensed dataset from Maxar Intelligence.
Purpose: To provide USDA-NRCS, its partners and the public with updated digital orthographic imagery covering Guam.
Creation Date: 20230404
Publication Date: 20230404
Revision Date:
Refresh Cycle: Updated periodically as new imagery becomes available
Version: 1.0.0
Change Log: Service Deployed
Report Service Errors
Single Fused Map Cache: false
Extent:
XMin: 1.60983078908E7
YMin: 1485892.277078231
XMax: 1.6137177911175862E7
YMax: 1535391.821700001
Spatial Reference: 102100
(3857)
Initial Extent:
XMin: 1.60983078908E7
YMin: 1485892.277078231
XMax: 1.6137177911175862E7
YMax: 1535391.821700001
Spatial Reference: 102100
(3857)
Full Extent:
XMin: 1.60983078908E7
YMin: 1485892.277078231
XMax: 1.6137177911175862E7
YMax: 1535391.821700001
Spatial Reference: 102100
(3857)
Pixel Size X: 0.29858214173897096
Pixel Size Y: 0.2985821417389693
Band Count: 4
Pixel Type: U8
RasterFunction Infos: {"rasterFunctionInfos": [
{
"name": "Natural Color No Stretch",
"description": "Natural Color Red 3, Green 2, Blue 1",
"help": ""
},
{
"name": "Color Infrared (CIR) No Stretch",
"description": "RGB (Red 4, Green 3, Blue 2)",
"help": ""
},
{
"name": "None",
"description": "",
"help": ""
}
]}
Mensuration Capabilities: Basic
Has Histograms: true
Has Colormap: false
Has Multi Dimensions : false
Rendering Rule:
Min Scale: 0
Max Scale: 0
Copyright Text: Guam Imagery Service provided by USDA-FPAC. Images provided by © 2022 Maxar Intelligence.
Service Data Type: esriImageServiceDataTypeGeneric
Min Values: 0, 0, 0, 0
Max Values: 255, 255, 255, 255
Mean Values: 59.010708616401516, 60.019995034297104, 44.27372148904309, 131.27129092462386
Standard Deviation Values: 40.02576106155629, 46.83645941856272, 52.90659424716836, 97.74703696468008
Object ID Field: OBJECTID
Fields:
-
OBJECTID
(
type: esriFieldTypeOID, alias: OBJECTID
)
-
Shape
(
type: esriFieldTypeGeometry, alias: Shape
)
-
Name
(
type: esriFieldTypeString, alias: Name, length: 200
)
-
Category
(
type: esriFieldTypeInteger, alias: Category
, Coded Values:
[0: Unknown]
, [1: Primary]
, [2: Overview]
, ...6 more...
)
-
GroupName
(
type: esriFieldTypeString, alias: GroupName, length: 100
)
-
CenterX
(
type: esriFieldTypeDouble, alias: CenterX
)
-
CenterY
(
type: esriFieldTypeDouble, alias: CenterY
)
-
Shape_Length
(
type: esriFieldTypeDouble, alias: Shape_Length
)
-
Shape_Area
(
type: esriFieldTypeDouble, alias: Shape_Area
)
Default Mosaic Method: Northwest
Allowed Mosaic Methods: NorthWest,Center,LockRaster,ByAttribute,Nadir,Viewpoint,Seamline,None
SortField:
SortValue: null
Mosaic Operator: First
Default Compression Quality: 75
Default Resampling Method: Bilinear
Max Record Count: 1000
Max Image Height: 4100
Max Image Width: 15000
Max Download Image Count: 20
Max Mosaic Image Count: 20
Allow Raster Function: true
Allow Copy: true
Allow Analysis: true
Allow Compute TiePoints: false
Supports Statistics: true
Supports Advanced Queries: true
Use StandardizedQueries: true
Raster Type Infos:
Name: Raster Dataset
Description: Supports all ArcGIS Raster Datasets
Help:
Has Raster Attribute Table: false
Edit Fields Info: null
Ownership Based AccessControl For Rasters: null
Child Resources:
Info
Histograms
Statistics
Key Properties
Legend
Raster Function Infos
Supported Operations:
Export Image
Query
Identify
Measure
Compute Histograms
Compute Statistics Histograms
Get Samples
Compute Class Statistics
Query Boundary
Compute Pixel Location
Validate
Project