View In:
ArcGIS JavaScript
ArcGIS Online Map Viewer
ArcGIS Earth
ArcMap
View Footprint In:
ArcGIS Online Map Viewer
Service Description: The Hawaii Vivid imagery is a licensed dataset from DigitalGlobe with Maxar Technologies Inc. USDA-FPAC acquired the license in 2021. All imagery is 4 band (1: Blue, 2: Green, 3: REd, 4:IR) GeoTiffs, uncompressed, with 8 bit color. The imagery was collected at 0.5 meter resolution between 2014-2020 and is projected in WGS 1984 Web Mercator (auxiliary sphere). Raster functions include Natural Color, CIR and NDVI Colorized.
Purpose: To provide users with Hawaiian Island Imagery.
Creation Date: 20210310
Publication Date: 20210310
Revision Date: 20210310
Refresh Cycle: Periodically as new imagery becomes available
Version: 1.0.0
Change Log: Service Deployed
Report Service Errors
Name: ortho_imagery/hawaii_vivid_2021_50cm
Description: The Hawaii Vivid imagery is a licensed dataset from DigitalGlobe with Maxar Technologies Inc. USDA-FPAC acquired the license in 2021. All imagery is 4 band (1: Blue, 2: Green, 3: REd, 4:IR) GeoTiffs, uncompressed, with 8 bit color. The imagery was collected at 0.5 meter resolution between 2014-2020 and is projected in WGS 1984 Web Mercator (auxiliary sphere). Raster functions include Natural Color, CIR and NDVI Colorized.
Purpose: To provide users with Hawaiian Island Imagery.
Creation Date: 20210310
Publication Date: 20210310
Revision Date: 20210310
Refresh Cycle: Periodically as new imagery becomes available
Version: 1.0.0
Change Log: Service Deployed
Report Service Errors
Single Fused Map Cache: false
Extent:
XMin: -1.78752576867E7
YMin: 2142752.123172769
XMax: -1.722951767174683E7
YMax: 2550231.9259000015
Spatial Reference: 102100
(3857)
Initial Extent:
XMin: -1.78752576867E7
YMin: 2142752.123172769
XMax: -1.722951767174683E7
YMax: 2550231.9259000015
Spatial Reference: 102100
(3857)
Full Extent:
XMin: -1.78752576867E7
YMin: 2142752.123172769
XMax: -1.722951767174683E7
YMax: 2550231.9259000015
Spatial Reference: 102100
(3857)
Pixel Size X: 0.49958842016455146
Pixel Size Y: 0.49958842016455074
Band Count: 4
Pixel Type: U8
RasterFunction Infos: {"rasterFunctionInfos": [
{
"name": "Natural Color No Stretch",
"description": "Natural Color Red 3, Green 2, Blue 1",
"help": ""
},
{
"name": "Color Infrared (CIR) No Stretch",
"description": "RGB (Red 4, Green 3, Blue 2)",
"help": ""
},
{
"name": "None",
"description": "Make a Raster or Raster Dataset into a Function Raster Dataset.",
"help": ""
}
]}
Mensuration Capabilities: None
Has Histograms: true
Has Colormap: false
Has Multi Dimensions : false
Rendering Rule:
Min Scale: 0
Max Scale: 0
Copyright Text: Hawaii Imagery Service provided by USDA-FPAC. Images provided by © 2021 Maxar Technologies Inc.
Service Data Type: esriImageServiceDataTypeGeneric
Min Values: 2, 1, 1, 0
Max Values: 252, 252, 253, 245
Mean Values: 56.58135779018095, 59.89078935256824, 52.767311280887796, 57.31718868982388
Standard Deviation Values: 18.972806528443957, 26.105265299082284, 30.385280527834034, 31.980135113531365
Object ID Field: OBJECTID
Fields:
-
OBJECTID
(
type: esriFieldTypeOID, alias: OBJECTID
)
-
Shape
(
type: esriFieldTypeGeometry, alias: Shape
)
-
Category
(
type: esriFieldTypeInteger, alias: Category
, Coded Values:
[0: Unknown]
, [1: Primary]
, [2: Overview]
, ...6 more...
)
-
CenterX
(
type: esriFieldTypeDouble, alias: CenterX
)
-
CenterY
(
type: esriFieldTypeDouble, alias: CenterY
)
-
Shape_Length
(
type: esriFieldTypeDouble, alias: Shape_Length
)
-
Shape_Area
(
type: esriFieldTypeDouble, alias: Shape_Area
)
Default Mosaic Method: Northwest
Allowed Mosaic Methods: NorthWest,Center,LockRaster,ByAttribute,Nadir,Viewpoint,Seamline,None
SortField:
SortValue: null
Mosaic Operator: First
Default Compression Quality: 75
Default Resampling Method: Bilinear
Max Record Count: 1000
Max Image Height: 4100
Max Image Width: 15000
Max Download Image Count: 20
Max Mosaic Image Count: 20
Allow Raster Function: true
Allow Copy: true
Allow Analysis: true
Allow Compute TiePoints: false
Supports Statistics: true
Supports Advanced Queries: true
Use StandardizedQueries: true
Raster Type Infos:
Name: Raster Dataset
Description: Supports all ArcGIS Raster Datasets
Help:
Has Raster Attribute Table: false
Edit Fields Info: null
Ownership Based AccessControl For Rasters: null
Child Resources:
Info
Histograms
Statistics
Key Properties
Legend
Raster Function Infos
Supported Operations:
Export Image
Query
Identify
Compute Histograms
Compute Statistics Histograms
Get Samples
Compute Class Statistics
Query Boundary
Compute Pixel Location
Validate
Project