View In:
ArcGIS JavaScript
ArcGIS Online Map Viewer
ArcGIS Earth
ArcMap
View Footprint In:
ArcGIS Online Map Viewer
Service Description: Soil erosion (by water or wind) can have detrimental effects on ecological resources, such as forage amount, quality, plant health, air and water quality. To aid initial resource assessments to determine potential risks of soil loss on rangelands, the Conservation Effects Assessment Project – Grazing Land component developed the rangeland Soil Vulnerability Index for water erosion risk (rSVI-water). This geospatially-based index was developed using research and modeling estimates from the Rangeland Hydrology and Erosion Model (RHEM) on water erosion that occurs on rangeland. The index pairs specific soil characteristic values with NRCS SSURGO soil data to determine a risk class by soil component for water erosion. The rSVI ratings are based on dry, unvegetated soil conditions, so use may be limited to helping producers understand the importance of maintaining vegetation cover within their adaptive grazing plans. The rSVI-water will be the basis for future indexes developed on rangelands. User Guide
Purpose: To provide FPAC employees with the rSVI soil survey layers for Alaska, the Continental US, Hawaii, and Puerto Rico.
Creation Date: 2023
Publication Date: 20240126
Revision Date:
Refresh Cycle: Annual
Version: 1.0.0
Change Log: Service deployed with 2023 data
Report Service Errors
Name: soils/rsvi_for_water_erosion_30m
Description: Soil erosion (by water or wind) can have detrimental effects on ecological resources, such as forage amount, quality, plant health, air and water quality. To aid initial resource assessments to determine potential risks of soil loss on rangelands, the Conservation Effects Assessment Project – Grazing Land component developed the rangeland Soil Vulnerability Index for water erosion risk (rSVI-water). This geospatially-based index was developed using research and modeling estimates from the Rangeland Hydrology and Erosion Model (RHEM) on water erosion that occurs on rangeland. The index pairs specific soil characteristic values with NRCS SSURGO soil data to determine a risk class by soil component for water erosion. The rSVI ratings are based on dry, unvegetated soil conditions, so use may be limited to helping producers understand the importance of maintaining vegetation cover within their adaptive grazing plans. The rSVI-water will be the basis for future indexes developed on rangelands. User Guide
Purpose: To provide FPAC employees with the rSVI soil survey layers for Alaska, the Continental US, Hawaii, and Puerto Rico.
Creation Date: 2023
Publication Date: 20240126
Revision Date:
Refresh Cycle: Annual
Version: 1.0.0
Change Log: Service deployed with 2023 data
Report Service Errors
Single Fused Map Cache: false
Extent:
XMin: -2.00375070672E7
YMin: 1944456.155600002
XMax: 2.0037507842788246E7
YMax: 1.1545656155600002E7
Spatial Reference: 102100
(3857)
Initial Extent:
XMin: -2.00375070672E7
YMin: 1944456.155600002
XMax: 2.0037507842788246E7
YMax: 1.1545656155600002E7
Spatial Reference: 102100
(3857)
Full Extent:
XMin: -2.00375070672E7
YMin: 1944456.155600002
XMax: 2.0037507842788246E7
YMax: 1.1545656155600002E7
Spatial Reference: 102100
(3857)
Pixel Size X: 29.99999618963752
Pixel Size Y: 30.0
Band Count: 1
Pixel Type: U8
RasterFunction Infos: {"rasterFunctionInfos": [{
"name": "None",
"description": "Make a Raster or Raster Dataset into a Function Raster Dataset.",
"help": ""
}]}
Mensuration Capabilities: Basic
Has Histograms: false
Has Colormap: false
Has Multi Dimensions : false
Rendering Rule:
Min Scale: 0
Max Scale: 0
Copyright Text: Loretta Metz, Carrie-Ann Houdeshell, Karl Musser - NRCS, USDA
Service Data Type: esriImageServiceDataTypeGeneric
Min Values: N/A
Max Values: N/A
Mean Values: N/A
Standard Deviation Values: N/A
Object ID Field: OBJECTID
Fields:
-
OBJECTID
(
type: esriFieldTypeOID, alias: OBJECTID
)
-
Shape
(
type: esriFieldTypeGeometry, alias: Shape
)
-
Name
(
type: esriFieldTypeString, alias: Name, length: 200
)
-
Category
(
type: esriFieldTypeInteger, alias: Category
, Coded Values:
[0: Unknown]
, [1: Primary]
, [2: Overview]
, ...6 more...
)
-
GroupName
(
type: esriFieldTypeString, alias: GroupName, length: 100
)
-
Shape_Length
(
type: esriFieldTypeDouble, alias: Shape_Length
)
-
Shape_Area
(
type: esriFieldTypeDouble, alias: Shape_Area
)
Default Mosaic Method: Northwest
Allowed Mosaic Methods: NorthWest,Center,LockRaster,ByAttribute,Nadir,Viewpoint,Seamline,None
SortField:
SortValue: null
Mosaic Operator: First
Default Compression Quality: 75
Default Resampling Method: Bilinear
Max Record Count: 1000
Max Image Height: 4100
Max Image Width: 15000
Max Download Image Count: 20
Max Mosaic Image Count: 20
Allow Raster Function: true
Allow Copy: true
Allow Analysis: true
Allow Compute TiePoints: false
Supports Statistics: true
Supports Advanced Queries: true
Use StandardizedQueries: true
Raster Type Infos:
Name: Raster Dataset
Description: Supports all ArcGIS Raster Datasets
Help:
Has Raster Attribute Table: true
Edit Fields Info: null
Ownership Based AccessControl For Rasters: null
Child Resources:
Info
Raster Attribute Table
Statistics
Key Properties
Legend
Raster Function Infos
Supported Operations:
Export Image
Query
Identify
Download Rasters
Measure
Compute Histograms
Compute Statistics Histograms
Get Samples
Compute Class Statistics
Query Boundary
Compute Pixel Location
Validate
Project